BEGIN:VCALENDAR
VERSION:2.0
PRODID:-//hacksw/handcal//NONSGML v1.0//EN
CALSCALE:GREGORIAN
X-WR-CALNAME:STORIA DELLA MUSICA MEDIEVALE E RINASCIMENTALE [FT0324]
DESCRIPTION:STORIA DELLA MUSICA MEDIEVALE E RINASCIMENTALE [FT0324]
REFRESH-INTERVAL;VALUE=DURATION:P1D
X-WR-TIMEZONE:Europe/Rome
BEGIN:VEVENT
DTEND:20250924T171500
UID:69e6d364568fc
DTSTAMP:20260421T013116
LOCATION:Aula 0D Polo didattico San Basilio (Magazzino 5)
SUMMARY:STORIA DELLA MUSICA MEDIEVALE E RINASCIMENTALE [FT0324] - OTTOMANO Vincenzina Caterina\, Lezione
URL;VALUE=URI://www.unive.it/data/insegnamento/444726
DTSTART:20250924T154500
END:VEVENT
BEGIN:VEVENT
DTEND:20250925T153000
UID:69e6d3645698a
DTSTAMP:20260421T013116
LOCATION:Aula 0D Polo didattico San Basilio (Magazzino 5)
SUMMARY:STORIA DELLA MUSICA MEDIEVALE E RINASCIMENTALE [FT0324] - OTTOMANO Vincenzina Caterina\, Lezione
URL;VALUE=URI://www.unive.it/data/insegnamento/444726
DTSTART:20250925T140000
END:VEVENT
BEGIN:VEVENT
DTEND:20250926T171500
UID:69e6d364569e1
DTSTAMP:20260421T013116
LOCATION:Aula 0D Polo didattico San Basilio (Magazzino 5)
SUMMARY:STORIA DELLA MUSICA MEDIEVALE E RINASCIMENTALE [FT0324] - OTTOMANO Vincenzina Caterina\, Lezione
URL;VALUE=URI://www.unive.it/data/insegnamento/444726
DTSTART:20250926T154500
END:VEVENT
BEGIN:VEVENT
DTEND:20251001T171500
UID:69e6d36456a33
DTSTAMP:20260421T013116
LOCATION:Aula 0D Polo didattico San Basilio (Magazzino 5)
SUMMARY:STORIA DELLA MUSICA MEDIEVALE E RINASCIMENTALE [FT0324] - OTTOMANO Vincenzina Caterina\, Lezione
URL;VALUE=URI://www.unive.it/data/insegnamento/444726
DTSTART:20251001T154500
END:VEVENT
BEGIN:VEVENT
DTEND:20251008T171500
UID:69e6d36456a85
DTSTAMP:20260421T013116
LOCATION:Aula 0D Polo didattico San Basilio (Magazzino 5)
SUMMARY:STORIA DELLA MUSICA MEDIEVALE E RINASCIMENTALE [FT0324] - OTTOMANO Vincenzina Caterina\, Lezione
URL;VALUE=URI://www.unive.it/data/insegnamento/444726
DTSTART:20251008T154500
END:VEVENT
BEGIN:VEVENT
DTEND:20251009T153000
UID:69e6d36456ad4
DTSTAMP:20260421T013116
LOCATION:Aula 0D Polo didattico San Basilio (Magazzino 5)
SUMMARY:STORIA DELLA MUSICA MEDIEVALE E RINASCIMENTALE [FT0324] - OTTOMANO Vincenzina Caterina\, Lezione
URL;VALUE=URI://www.unive.it/data/insegnamento/444726
DTSTART:20251009T140000
END:VEVENT
BEGIN:VEVENT
DTEND:20251010T171500
UID:69e6d36456b22
DTSTAMP:20260421T013116
LOCATION:Aula 0D Polo didattico San Basilio (Magazzino 5)
SUMMARY:STORIA DELLA MUSICA MEDIEVALE E RINASCIMENTALE [FT0324] - OTTOMANO Vincenzina Caterina\, Lezione
URL;VALUE=URI://www.unive.it/data/insegnamento/444726
DTSTART:20251010T154500
END:VEVENT
BEGIN:VEVENT
DTEND:20251015T171500
UID:69e6d36456b6e
DTSTAMP:20260421T013116
LOCATION:Aula 0D Polo didattico San Basilio (Magazzino 5)
SUMMARY:STORIA DELLA MUSICA MEDIEVALE E RINASCIMENTALE [FT0324] - OTTOMANO Vincenzina Caterina\, Lezione
URL;VALUE=URI://www.unive.it/data/insegnamento/444726
DTSTART:20251015T154500
END:VEVENT
BEGIN:VEVENT
DTEND:20251016T153000
UID:69e6d36456bbb
DTSTAMP:20260421T013116
LOCATION:Aula 0D Polo didattico San Basilio (Magazzino 5)
SUMMARY:STORIA DELLA MUSICA MEDIEVALE E RINASCIMENTALE [FT0324] - OTTOMANO Vincenzina Caterina\, Lezione
URL;VALUE=URI://www.unive.it/data/insegnamento/444726
DTSTART:20251016T140000
END:VEVENT
BEGIN:VEVENT
DTEND:20251017T171500
UID:69e6d36456c0a
DTSTAMP:20260421T013116
LOCATION:Aula 0D Polo didattico San Basilio (Magazzino 5)
SUMMARY:STORIA DELLA MUSICA MEDIEVALE E RINASCIMENTALE [FT0324] - OTTOMANO Vincenzina Caterina\, Lezione
URL;VALUE=URI://www.unive.it/data/insegnamento/444726
DTSTART:20251017T154500
END:VEVENT
BEGIN:VEVENT
DTEND:20251022T171500
UID:69e6d36456c59
DTSTAMP:20260421T013116
LOCATION:Aula 0D Polo didattico San Basilio (Magazzino 5)
SUMMARY:STORIA DELLA MUSICA MEDIEVALE E RINASCIMENTALE [FT0324] - OTTOMANO Vincenzina Caterina\, Lezione
URL;VALUE=URI://www.unive.it/data/insegnamento/444726
DTSTART:20251022T154500
END:VEVENT
BEGIN:VEVENT
DTEND:20251023T153000
UID:69e6d36456ca6
DTSTAMP:20260421T013116
LOCATION:Aula 0D Polo didattico San Basilio (Magazzino 5)
SUMMARY:STORIA DELLA MUSICA MEDIEVALE E RINASCIMENTALE [FT0324] - OTTOMANO Vincenzina Caterina\, Lezione
URL;VALUE=URI://www.unive.it/data/insegnamento/444726
DTSTART:20251023T140000
END:VEVENT
BEGIN:VEVENT
DTEND:20251024T171500
UID:69e6d36456ce0
DTSTAMP:20260421T013116
LOCATION:Aula 0D Polo didattico San Basilio (Magazzino 5)
SUMMARY:STORIA DELLA MUSICA MEDIEVALE E RINASCIMENTALE [FT0324] - OTTOMANO Vincenzina Caterina\, Lezione
URL;VALUE=URI://www.unive.it/data/insegnamento/444726
DTSTART:20251024T154500
END:VEVENT
BEGIN:VEVENT
DTEND:20251029T171500
UID:69e6d36456d2c
DTSTAMP:20260421T013116
LOCATION:Aula 0D Polo didattico San Basilio (Magazzino 5)
SUMMARY:STORIA DELLA MUSICA MEDIEVALE E RINASCIMENTALE [FT0324] - OTTOMANO Vincenzina Caterina\, Lezione
URL;VALUE=URI://www.unive.it/data/insegnamento/444726
DTSTART:20251029T154500
END:VEVENT
BEGIN:VEVENT
DTEND:20251030T153000
UID:69e6d36456d7a
DTSTAMP:20260421T013116
LOCATION:Aula 0D Polo didattico San Basilio (Magazzino 5)
SUMMARY:STORIA DELLA MUSICA MEDIEVALE E RINASCIMENTALE [FT0324] - OTTOMANO Vincenzina Caterina\, Lezione
URL;VALUE=URI://www.unive.it/data/insegnamento/444726
DTSTART:20251030T140000
END:VEVENT
BEGIN:VEVENT
DTEND:20251031T171500
UID:69e6d36456dc6
DTSTAMP:20260421T013116
LOCATION:Aula 0D Polo didattico San Basilio (Magazzino 5)
SUMMARY:STORIA DELLA MUSICA MEDIEVALE E RINASCIMENTALE [FT0324] - OTTOMANO Vincenzina Caterina\, Lezione
URL;VALUE=URI://www.unive.it/data/insegnamento/444726
DTSTART:20251031T154500
END:VEVENT
END:VCALENDAR