BEGIN:VCALENDAR
VERSION:2.0
PRODID:-//hacksw/handcal//NONSGML v1.0//EN
CALSCALE:GREGORIAN
X-WR-CALNAME:FILOSOFIA POLITICA I [FT0086]
DESCRIPTION:FILOSOFIA POLITICA I [FT0086]
REFRESH-INTERVAL;VALUE=DURATION:P1D
X-WR-TIMEZONE:Europe/Rome
BEGIN:VEVENT
DTEND:20250924T120000
UID:69e93da1c8263
DTSTAMP:20260422T212905
LOCATION:Aula MF5 Polo didattico San Basilio (MF - Magazzini Frigoriferi)
SUMMARY:FILOSOFIA POLITICA I [FT0086] - CESARALE Giorgio\, Lezione
URL;VALUE=URI://www.unive.it/data/insegnamento/445009
DTSTART:20250924T103000
END:VEVENT
BEGIN:VEVENT
DTEND:20250925T120000
UID:69e93da1c82f3
DTSTAMP:20260422T212905
LOCATION:Aula 1G Polo didattico San Basilio (Magazzino 5)
SUMMARY:FILOSOFIA POLITICA I [FT0086] - CESARALE Giorgio\, Lezione
URL;VALUE=URI://www.unive.it/data/insegnamento/445009
DTSTART:20250925T103000
END:VEVENT
BEGIN:VEVENT
DTEND:20250926T153000
UID:69e93da1c8346
DTSTAMP:20260422T212905
LOCATION:Aula 14 San Sebastiano
SUMMARY:FILOSOFIA POLITICA I [FT0086] - CESARALE Giorgio\, Lezione
URL;VALUE=URI://www.unive.it/data/insegnamento/445009
DTSTART:20250926T140000
END:VEVENT
BEGIN:VEVENT
DTEND:20251001T120000
UID:69e93da1c8394
DTSTAMP:20260422T212905
LOCATION:Aula MF5 Polo didattico San Basilio (MF - Magazzini Frigoriferi)
SUMMARY:FILOSOFIA POLITICA I [FT0086] - CESARALE Giorgio\, Lezione
URL;VALUE=URI://www.unive.it/data/insegnamento/445009
DTSTART:20251001T103000
END:VEVENT
BEGIN:VEVENT
DTEND:20251002T120000
UID:69e93da1c83e0
DTSTAMP:20260422T212905
LOCATION:Aula 1G Polo didattico San Basilio (Magazzino 5)
SUMMARY:FILOSOFIA POLITICA I [FT0086] - CESARALE Giorgio\, Lezione
URL;VALUE=URI://www.unive.it/data/insegnamento/445009
DTSTART:20251002T103000
END:VEVENT
BEGIN:VEVENT
DTEND:20251003T153000
UID:69e93da1c842c
DTSTAMP:20260422T212905
LOCATION:Aula 14 San Sebastiano
SUMMARY:FILOSOFIA POLITICA I [FT0086] - CESARALE Giorgio\, Lezione
URL;VALUE=URI://www.unive.it/data/insegnamento/445009
DTSTART:20251003T140000
END:VEVENT
BEGIN:VEVENT
DTEND:20251008T120000
UID:69e93da1c8476
DTSTAMP:20260422T212905
LOCATION:Aula MF5 Polo didattico San Basilio (MF - Magazzini Frigoriferi)
SUMMARY:FILOSOFIA POLITICA I [FT0086] - CESARALE Giorgio\, Lezione
URL;VALUE=URI://www.unive.it/data/insegnamento/445009
DTSTART:20251008T103000
END:VEVENT
BEGIN:VEVENT
DTEND:20251009T120000
UID:69e93da1c84c2
DTSTAMP:20260422T212905
LOCATION:Aula 1G Polo didattico San Basilio (Magazzino 5)
SUMMARY:FILOSOFIA POLITICA I [FT0086] - CESARALE Giorgio\, Lezione
URL;VALUE=URI://www.unive.it/data/insegnamento/445009
DTSTART:20251009T103000
END:VEVENT
BEGIN:VEVENT
DTEND:20251010T153000
UID:69e93da1c850c
DTSTAMP:20260422T212905
LOCATION:Aula 14 San Sebastiano
SUMMARY:FILOSOFIA POLITICA I [FT0086] - CESARALE Giorgio\, Lezione
URL;VALUE=URI://www.unive.it/data/insegnamento/445009
DTSTART:20251010T140000
END:VEVENT
BEGIN:VEVENT
DTEND:20251015T120000
UID:69e93da1c8548
DTSTAMP:20260422T212905
LOCATION:Aula MF5 Polo didattico San Basilio (MF - Magazzini Frigoriferi)
SUMMARY:FILOSOFIA POLITICA I [FT0086] - CESARALE Giorgio\, Lezione
URL;VALUE=URI://www.unive.it/data/insegnamento/445009
DTSTART:20251015T103000
END:VEVENT
BEGIN:VEVENT
DTEND:20251016T120000
UID:69e93da1c8594
DTSTAMP:20260422T212905
LOCATION:Aula 1G Polo didattico San Basilio (Magazzino 5)
SUMMARY:FILOSOFIA POLITICA I [FT0086] - CESARALE Giorgio\, Lezione
URL;VALUE=URI://www.unive.it/data/insegnamento/445009
DTSTART:20251016T103000
END:VEVENT
BEGIN:VEVENT
DTEND:20251017T153000
UID:69e93da1c85de
DTSTAMP:20260422T212905
LOCATION:Aula 14 San Sebastiano
SUMMARY:FILOSOFIA POLITICA I [FT0086] - CESARALE Giorgio\, Lezione
URL;VALUE=URI://www.unive.it/data/insegnamento/445009
DTSTART:20251017T140000
END:VEVENT
BEGIN:VEVENT
DTEND:20251022T120000
UID:69e93da1c8628
DTSTAMP:20260422T212905
LOCATION:Aula MF5 Polo didattico San Basilio (MF - Magazzini Frigoriferi)
SUMMARY:FILOSOFIA POLITICA I [FT0086] - CESARALE Giorgio\, Lezione
URL;VALUE=URI://www.unive.it/data/insegnamento/445009
DTSTART:20251022T103000
END:VEVENT
BEGIN:VEVENT
DTEND:20251023T120000
UID:69e93da1c8673
DTSTAMP:20260422T212905
LOCATION:Aula 1G Polo didattico San Basilio (Magazzino 5)
SUMMARY:FILOSOFIA POLITICA I [FT0086] - CESARALE Giorgio\, Lezione
URL;VALUE=URI://www.unive.it/data/insegnamento/445009
DTSTART:20251023T103000
END:VEVENT
BEGIN:VEVENT
DTEND:20251024T153000
UID:69e93da1c86bd
DTSTAMP:20260422T212905
LOCATION:Aula 14 San Sebastiano
SUMMARY:FILOSOFIA POLITICA I [FT0086] - CESARALE Giorgio\, Lezione
URL;VALUE=URI://www.unive.it/data/insegnamento/445009
DTSTART:20251024T140000
END:VEVENT
BEGIN:VEVENT
DTEND:20251027T153000
UID:69e93da1c8707
DTSTAMP:20260422T212905
LOCATION:Aula 1G Polo didattico San Basilio (Magazzino 5)
SUMMARY:FILOSOFIA POLITICA I [FT0086] - CESARALE Giorgio\, Lezione
URL;VALUE=URI://www.unive.it/data/insegnamento/445009
DTSTART:20251027T140000
END:VEVENT
BEGIN:VEVENT
DTEND:20251028T153000
UID:69e93da1c8751
DTSTAMP:20260422T212905
LOCATION:Aula San Trovaso Aula San Trovaso
SUMMARY:FILOSOFIA POLITICA I [FT0086] - CESARALE Giorgio\, Lezione
URL;VALUE=URI://www.unive.it/data/insegnamento/445009
DTSTART:20251028T140000
END:VEVENT
BEGIN:VEVENT
DTEND:20251029T120000
UID:69e93da1c879c
DTSTAMP:20260422T212905
LOCATION:Aula MF5 Polo didattico San Basilio (MF - Magazzini Frigoriferi)
SUMMARY:FILOSOFIA POLITICA I [FT0086] - CESARALE Giorgio\, Lezione
URL;VALUE=URI://www.unive.it/data/insegnamento/445009
DTSTART:20251029T103000
END:VEVENT
END:VCALENDAR