BEGIN:VCALENDAR
VERSION:2.0
PRODID:-//hacksw/handcal//NONSGML v1.0//EN
CALSCALE:GREGORIAN
X-WR-CALNAME:INTRODUZIONE ALLE POLITICHE PUBBLICHE [FT0525]
DESCRIPTION:INTRODUZIONE ALLE POLITICHE PUBBLICHE [FT0525]
REFRESH-INTERVAL;VALUE=DURATION:P1D
X-WR-TIMEZONE:Europe/Rome
BEGIN:VEVENT
DTEND:20251112T101500
UID:69e71ed166389
DTSTAMP:20260421T065305
LOCATION:Aula 4 San Sebastiano
SUMMARY:INTRODUZIONE ALLE POLITICHE PUBBLICHE [FT0525] - PERINI LORENZA\, Lezione
URL;VALUE=URI://www.unive.it/data/insegnamento/445065
DTSTART:20251112T084500
END:VEVENT
BEGIN:VEVENT
DTEND:20251114T101500
UID:69e71ed166451
DTSTAMP:20260421T065305
LOCATION:Aula Padoan San Sebastiano
SUMMARY:INTRODUZIONE ALLE POLITICHE PUBBLICHE [FT0525] - PERINI LORENZA\, Lezione
URL;VALUE=URI://www.unive.it/data/insegnamento/445065
DTSTART:20251114T084500
END:VEVENT
BEGIN:VEVENT
DTEND:20251114T190000
UID:69e71ed1664b2
DTSTAMP:20260421T065305
LOCATION:Aula MF2 Polo didattico San Basilio (MF - Magazzini Frigoriferi)
SUMMARY:INTRODUZIONE ALLE POLITICHE PUBBLICHE [FT0525] - PERINI LORENZA\, Lezione
URL;VALUE=URI://www.unive.it/data/insegnamento/445065
DTSTART:20251114T173000
END:VEVENT
BEGIN:VEVENT
DTEND:20251119T101500
UID:69e71ed16650f
DTSTAMP:20260421T065305
LOCATION:Aula 4 San Sebastiano
SUMMARY:INTRODUZIONE ALLE POLITICHE PUBBLICHE [FT0525] - PERINI LORENZA\, Lezione
URL;VALUE=URI://www.unive.it/data/insegnamento/445065
DTSTART:20251119T084500
END:VEVENT
BEGIN:VEVENT
DTEND:20251126T101500
UID:69e71ed16656a
DTSTAMP:20260421T065305
LOCATION:Aula 4 San Sebastiano
SUMMARY:INTRODUZIONE ALLE POLITICHE PUBBLICHE [FT0525] - PERINI LORENZA\, Lezione
URL;VALUE=URI://www.unive.it/data/insegnamento/445065
DTSTART:20251126T084500
END:VEVENT
BEGIN:VEVENT
DTEND:20251128T101500
UID:69e71ed1665c2
DTSTAMP:20260421T065305
LOCATION:Aula Padoan San Sebastiano
SUMMARY:INTRODUZIONE ALLE POLITICHE PUBBLICHE [FT0525] - PERINI LORENZA\, Lezione
URL;VALUE=URI://www.unive.it/data/insegnamento/445065
DTSTART:20251128T084500
END:VEVENT
BEGIN:VEVENT
DTEND:20251128T190000
UID:69e71ed16661b
DTSTAMP:20260421T065305
LOCATION:Aula MF2 Polo didattico San Basilio (MF - Magazzini Frigoriferi)
SUMMARY:INTRODUZIONE ALLE POLITICHE PUBBLICHE [FT0525] - PERINI LORENZA\, Lezione
URL;VALUE=URI://www.unive.it/data/insegnamento/445065
DTSTART:20251128T173000
END:VEVENT
BEGIN:VEVENT
DTEND:20251203T101500
UID:69e71ed166676
DTSTAMP:20260421T065305
LOCATION:Aula 4 San Sebastiano
SUMMARY:INTRODUZIONE ALLE POLITICHE PUBBLICHE [FT0525] - PERINI LORENZA\, Lezione
URL;VALUE=URI://www.unive.it/data/insegnamento/445065
DTSTART:20251203T084500
END:VEVENT
BEGIN:VEVENT
DTEND:20251205T101500
UID:69e71ed1666d0
DTSTAMP:20260421T065305
LOCATION:Aula Padoan San Sebastiano
SUMMARY:INTRODUZIONE ALLE POLITICHE PUBBLICHE [FT0525] - PERINI LORENZA\, Lezione
URL;VALUE=URI://www.unive.it/data/insegnamento/445065
DTSTART:20251205T084500
END:VEVENT
BEGIN:VEVENT
DTEND:20251205T190000
UID:69e71ed166733
DTSTAMP:20260421T065305
LOCATION:Aula MF2 Polo didattico San Basilio (MF - Magazzini Frigoriferi)
SUMMARY:INTRODUZIONE ALLE POLITICHE PUBBLICHE [FT0525] - PERINI LORENZA\, Lezione
URL;VALUE=URI://www.unive.it/data/insegnamento/445065
DTSTART:20251205T173000
END:VEVENT
BEGIN:VEVENT
DTEND:20251210T101500
UID:69e71ed16678f
DTSTAMP:20260421T065305
LOCATION:Aula 4 San Sebastiano
SUMMARY:INTRODUZIONE ALLE POLITICHE PUBBLICHE [FT0525] - PERINI LORENZA\, Lezione
URL;VALUE=URI://www.unive.it/data/insegnamento/445065
DTSTART:20251210T084500
END:VEVENT
BEGIN:VEVENT
DTEND:20251212T101500
UID:69e71ed1667e8
DTSTAMP:20260421T065305
LOCATION:Aula Padoan San Sebastiano
SUMMARY:INTRODUZIONE ALLE POLITICHE PUBBLICHE [FT0525] - PERINI LORENZA\, Lezione
URL;VALUE=URI://www.unive.it/data/insegnamento/445065
DTSTART:20251212T084500
END:VEVENT
BEGIN:VEVENT
DTEND:20251212T190000
UID:69e71ed166841
DTSTAMP:20260421T065305
LOCATION:Aula MF2 Polo didattico San Basilio (MF - Magazzini Frigoriferi)
SUMMARY:INTRODUZIONE ALLE POLITICHE PUBBLICHE [FT0525] - PERINI LORENZA\, Lezione
URL;VALUE=URI://www.unive.it/data/insegnamento/445065
DTSTART:20251212T173000
END:VEVENT
BEGIN:VEVENT
DTEND:20251217T101500
UID:69e71ed16689e
DTSTAMP:20260421T065305
LOCATION:Aula 4 San Sebastiano
SUMMARY:INTRODUZIONE ALLE POLITICHE PUBBLICHE [FT0525] - PERINI LORENZA\, Lezione
URL;VALUE=URI://www.unive.it/data/insegnamento/445065
DTSTART:20251217T084500
END:VEVENT
BEGIN:VEVENT
DTEND:20251219T101500
UID:69e71ed1668f5
DTSTAMP:20260421T065305
LOCATION:Aula 1C Polo didattico San Basilio (Magazzino 5)
SUMMARY:INTRODUZIONE ALLE POLITICHE PUBBLICHE [FT0525] - PERINI LORENZA\, Lezione
URL;VALUE=URI://www.unive.it/data/insegnamento/445065
DTSTART:20251219T084500
END:VEVENT
BEGIN:VEVENT
DTEND:20251219T120000
UID:69e71ed166951
DTSTAMP:20260421T065305
LOCATION:Aula 1C Polo didattico San Basilio (Magazzino 5)
SUMMARY:INTRODUZIONE ALLE POLITICHE PUBBLICHE [FT0525] - PERINI LORENZA\, Lezione
URL;VALUE=URI://www.unive.it/data/insegnamento/445065
DTSTART:20251219T103000
END:VEVENT
END:VCALENDAR