BEGIN:VCALENDAR
VERSION:2.0
PRODID:-//hacksw/handcal//NONSGML v1.0//EN
CALSCALE:GREGORIAN
X-WR-CALNAME:SALUTE E SANITA' PUBBLICA [FT0178]
DESCRIPTION:SALUTE E SANITA' PUBBLICA [FT0178]
REFRESH-INTERVAL;VALUE=DURATION:P1D
X-WR-TIMEZONE:Europe/Rome
BEGIN:VEVENT
DTEND:20250924T190000
UID:69e71ed2cf76a
DTSTAMP:20260421T065306
LOCATION:Aula 1D Polo didattico San Basilio (Magazzino 5)
SUMMARY:SALUTE E SANITA' PUBBLICA [FT0178] - VOLPE Federico\, Lezione
URL;VALUE=URI://www.unive.it/data/insegnamento/445070
DTSTART:20250924T173000
END:VEVENT
BEGIN:VEVENT
DTEND:20251001T190000
UID:69e71ed2cf842
DTSTAMP:20260421T065306
LOCATION:Aula 1D Polo didattico San Basilio (Magazzino 5)
SUMMARY:SALUTE E SANITA' PUBBLICA [FT0178] - VOLPE Federico\, Lezione
URL;VALUE=URI://www.unive.it/data/insegnamento/445070
DTSTART:20251001T173000
END:VEVENT
BEGIN:VEVENT
DTEND:20251008T190000
UID:69e71ed2cf8a5
DTSTAMP:20260421T065306
LOCATION:Aula 1D Polo didattico San Basilio (Magazzino 5)
SUMMARY:SALUTE E SANITA' PUBBLICA [FT0178] - VOLPE Federico\, Lezione
URL;VALUE=URI://www.unive.it/data/insegnamento/445070
DTSTART:20251008T173000
END:VEVENT
BEGIN:VEVENT
DTEND:20251015T190000
UID:69e71ed2cf908
DTSTAMP:20260421T065306
LOCATION:Aula 1D Polo didattico San Basilio (Magazzino 5)
SUMMARY:SALUTE E SANITA' PUBBLICA [FT0178] - VOLPE Federico\, Lezione
URL;VALUE=URI://www.unive.it/data/insegnamento/445070
DTSTART:20251015T173000
END:VEVENT
BEGIN:VEVENT
DTEND:20251022T190000
UID:69e71ed2cf965
DTSTAMP:20260421T065306
LOCATION:Aula 1D Polo didattico San Basilio (Magazzino 5)
SUMMARY:SALUTE E SANITA' PUBBLICA [FT0178] - VOLPE Federico\, Lezione
URL;VALUE=URI://www.unive.it/data/insegnamento/445070
DTSTART:20251022T173000
END:VEVENT
BEGIN:VEVENT
DTEND:20251029T190000
UID:69e71ed2cf9bf
DTSTAMP:20260421T065306
LOCATION:Aula 1D Polo didattico San Basilio (Magazzino 5)
SUMMARY:SALUTE E SANITA' PUBBLICA [FT0178] - VOLPE Federico\, Lezione
URL;VALUE=URI://www.unive.it/data/insegnamento/445070
DTSTART:20251029T173000
END:VEVENT
END:VCALENDAR