BEGIN:VCALENDAR
VERSION:2.0
PRODID:-//hacksw/handcal//NONSGML v1.0//EN
CALSCALE:GREGORIAN
X-WR-CALNAME:FILOSOFIA DELLA LETTERATURA [FT0408]
DESCRIPTION:FILOSOFIA DELLA LETTERATURA [FT0408]
REFRESH-INTERVAL;VALUE=DURATION:P1D
X-WR-TIMEZONE:Europe/Rome
BEGIN:VEVENT
DTEND:20260407T101500
UID:69e7986c7e3a6
DTSTAMP:20260421T153156
LOCATION:Aula 1F Polo didattico San Basilio (Magazzino 5)
SUMMARY:FILOSOFIA DELLA LETTERATURA [FT0408] - SPEROTTO Valentina\, Lezione
URL;VALUE=URI://www.unive.it/data/insegnamento/447857
DTSTART:20260407T084500
END:VEVENT
BEGIN:VEVENT
DTEND:20260407T120000
UID:69e7986c7e44d
DTSTAMP:20260421T153156
LOCATION:Aula 1F Polo didattico San Basilio (Magazzino 5)
SUMMARY:FILOSOFIA DELLA LETTERATURA [FT0408] - SPEROTTO Valentina\, Lezione
URL;VALUE=URI://www.unive.it/data/insegnamento/447857
DTSTART:20260407T103000
END:VEVENT
BEGIN:VEVENT
DTEND:20260408T101500
UID:69e7986c7e4a2
DTSTAMP:20260421T153156
LOCATION:Aula 1B Polo didattico San Basilio (Magazzino 5)
SUMMARY:FILOSOFIA DELLA LETTERATURA [FT0408] - SPEROTTO Valentina\, Lezione
URL;VALUE=URI://www.unive.it/data/insegnamento/447857
DTSTART:20260408T084500
END:VEVENT
BEGIN:VEVENT
DTEND:20260414T101500
UID:69e7986c7e4f0
DTSTAMP:20260421T153156
LOCATION:Aula 1F Polo didattico San Basilio (Magazzino 5)
SUMMARY:FILOSOFIA DELLA LETTERATURA [FT0408] - SPEROTTO Valentina\, Lezione
URL;VALUE=URI://www.unive.it/data/insegnamento/447857
DTSTART:20260414T084500
END:VEVENT
BEGIN:VEVENT
DTEND:20260414T120000
UID:69e7986c7e53e
DTSTAMP:20260421T153156
LOCATION:Aula 1F Polo didattico San Basilio (Magazzino 5)
SUMMARY:FILOSOFIA DELLA LETTERATURA [FT0408] - SPEROTTO Valentina\, Lezione
URL;VALUE=URI://www.unive.it/data/insegnamento/447857
DTSTART:20260414T103000
END:VEVENT
BEGIN:VEVENT
DTEND:20260415T101500
UID:69e7986c7e589
DTSTAMP:20260421T153156
LOCATION:Aula 1B Polo didattico San Basilio (Magazzino 5)
SUMMARY:FILOSOFIA DELLA LETTERATURA [FT0408] - SPEROTTO Valentina\, Lezione
URL;VALUE=URI://www.unive.it/data/insegnamento/447857
DTSTART:20260415T084500
END:VEVENT
BEGIN:VEVENT
DTEND:20260421T101500
UID:69e7986c7e5b2
DTSTAMP:20260421T153156
LOCATION:Aula 1F Polo didattico San Basilio (Magazzino 5)
SUMMARY:FILOSOFIA DELLA LETTERATURA [FT0408] - SPEROTTO Valentina\, Lezione
URL;VALUE=URI://www.unive.it/data/insegnamento/447857
DTSTART:20260421T084500
END:VEVENT
BEGIN:VEVENT
DTEND:20260421T120000
UID:69e7986c7e5ff
DTSTAMP:20260421T153156
LOCATION:Aula 1F Polo didattico San Basilio (Magazzino 5)
SUMMARY:FILOSOFIA DELLA LETTERATURA [FT0408] - SPEROTTO Valentina\, Lezione
URL;VALUE=URI://www.unive.it/data/insegnamento/447857
DTSTART:20260421T103000
END:VEVENT
BEGIN:VEVENT
DTEND:20260428T101500
UID:69e7986c7e64b
DTSTAMP:20260421T153156
LOCATION:Aula 1F Polo didattico San Basilio (Magazzino 5)
SUMMARY:FILOSOFIA DELLA LETTERATURA [FT0408] - SPEROTTO Valentina\, Lezione
URL;VALUE=URI://www.unive.it/data/insegnamento/447857
DTSTART:20260428T084500
END:VEVENT
BEGIN:VEVENT
DTEND:20260428T120000
UID:69e7986c7e697
DTSTAMP:20260421T153156
LOCATION:Aula 1F Polo didattico San Basilio (Magazzino 5)
SUMMARY:FILOSOFIA DELLA LETTERATURA [FT0408] - SPEROTTO Valentina\, Lezione
URL;VALUE=URI://www.unive.it/data/insegnamento/447857
DTSTART:20260428T103000
END:VEVENT
BEGIN:VEVENT
DTEND:20260429T101500
UID:69e7986c7e6e5
DTSTAMP:20260421T153156
LOCATION:Aula 1B Polo didattico San Basilio (Magazzino 5)
SUMMARY:FILOSOFIA DELLA LETTERATURA [FT0408] - SPEROTTO Valentina\, Lezione
URL;VALUE=URI://www.unive.it/data/insegnamento/447857
DTSTART:20260429T084500
END:VEVENT
BEGIN:VEVENT
DTEND:20260505T101500
UID:69e7986c7e730
DTSTAMP:20260421T153156
LOCATION:Aula 1F Polo didattico San Basilio (Magazzino 5)
SUMMARY:FILOSOFIA DELLA LETTERATURA [FT0408] - SPEROTTO Valentina\, Lezione
URL;VALUE=URI://www.unive.it/data/insegnamento/447857
DTSTART:20260505T084500
END:VEVENT
BEGIN:VEVENT
DTEND:20260505T120000
UID:69e7986c7e77b
DTSTAMP:20260421T153156
LOCATION:Aula 1F Polo didattico San Basilio (Magazzino 5)
SUMMARY:FILOSOFIA DELLA LETTERATURA [FT0408] - SPEROTTO Valentina\, Lezione
URL;VALUE=URI://www.unive.it/data/insegnamento/447857
DTSTART:20260505T103000
END:VEVENT
BEGIN:VEVENT
DTEND:20260506T101500
UID:69e7986c7e7c5
DTSTAMP:20260421T153156
LOCATION:Aula 1B Polo didattico San Basilio (Magazzino 5)
SUMMARY:FILOSOFIA DELLA LETTERATURA [FT0408] - SPEROTTO Valentina\, Lezione
URL;VALUE=URI://www.unive.it/data/insegnamento/447857
DTSTART:20260506T084500
END:VEVENT
BEGIN:VEVENT
DTEND:20260512T101500
UID:69e7986c7e811
DTSTAMP:20260421T153156
LOCATION:Aula 1F Polo didattico San Basilio (Magazzino 5)
SUMMARY:FILOSOFIA DELLA LETTERATURA [FT0408] - SPEROTTO Valentina\, Lezione
URL;VALUE=URI://www.unive.it/data/insegnamento/447857
DTSTART:20260512T084500
END:VEVENT
BEGIN:VEVENT
DTEND:20260512T120000
UID:69e7986c7e85c
DTSTAMP:20260421T153156
LOCATION:Aula 1F Polo didattico San Basilio (Magazzino 5)
SUMMARY:FILOSOFIA DELLA LETTERATURA [FT0408] - SPEROTTO Valentina\, Lezione
URL;VALUE=URI://www.unive.it/data/insegnamento/447857
DTSTART:20260512T103000
END:VEVENT
BEGIN:VEVENT
DTEND:20260513T101500
UID:69e7986c7e8a7
DTSTAMP:20260421T153156
LOCATION:Aula 1B Polo didattico San Basilio (Magazzino 5)
SUMMARY:FILOSOFIA DELLA LETTERATURA [FT0408] - SPEROTTO Valentina\, Lezione
URL;VALUE=URI://www.unive.it/data/insegnamento/447857
DTSTART:20260513T084500
END:VEVENT
END:VCALENDAR