BEGIN:VCALENDAR
VERSION:2.0
PRODID:-//hacksw/handcal//NONSGML v1.0//EN
CALSCALE:GREGORIAN
X-WR-CALNAME:DIRITTO BANCARIO [ET0007]
DESCRIPTION:DIRITTO BANCARIO [ET0007]
REFRESH-INTERVAL;VALUE=DURATION:P1D
X-WR-TIMEZONE:Europe/Rome
BEGIN:VEVENT
DTEND:20251110T153000
UID:69e4cad8174de
DTSTAMP:20260419T123016
LOCATION:Aula 2B San Giobbe
SUMMARY:DIRITTO BANCARIO [ET0007] - Urbani Alberto\, Lezione
URL;VALUE=URI://www.unive.it/data/insegnamento/450102
DTSTART:20251110T140000
END:VEVENT
BEGIN:VEVENT
DTEND:20251111T153000
UID:69e4cad817542
DTSTAMP:20260419T123016
LOCATION:Aula 10C San Giobbe
SUMMARY:DIRITTO BANCARIO [ET0007] - Urbani Alberto\, Lezione
URL;VALUE=URI://www.unive.it/data/insegnamento/450102
DTSTART:20251111T140000
END:VEVENT
BEGIN:VEVENT
DTEND:20251112T171500
UID:69e4cad817593
DTSTAMP:20260419T123016
LOCATION:Aula 10B San Giobbe
SUMMARY:DIRITTO BANCARIO [ET0007] - Urbani Alberto\, Lezione
URL;VALUE=URI://www.unive.it/data/insegnamento/450102
DTSTART:20251112T154500
END:VEVENT
BEGIN:VEVENT
DTEND:20251117T153000
UID:69e4cad8175e3
DTSTAMP:20260419T123016
LOCATION:Aula 2B San Giobbe
SUMMARY:DIRITTO BANCARIO [ET0007] - Urbani Alberto\, Lezione
URL;VALUE=URI://www.unive.it/data/insegnamento/450102
DTSTART:20251117T140000
END:VEVENT
BEGIN:VEVENT
DTEND:20251118T153000
UID:69e4cad817630
DTSTAMP:20260419T123016
LOCATION:Aula 10C San Giobbe
SUMMARY:DIRITTO BANCARIO [ET0007] - Urbani Alberto\, Lezione
URL;VALUE=URI://www.unive.it/data/insegnamento/450102
DTSTART:20251118T140000
END:VEVENT
BEGIN:VEVENT
DTEND:20251119T171500
UID:69e4cad817685
DTSTAMP:20260419T123016
LOCATION:Aula 10B San Giobbe
SUMMARY:DIRITTO BANCARIO [ET0007] - Urbani Alberto\, Lezione
URL;VALUE=URI://www.unive.it/data/insegnamento/450102
DTSTART:20251119T154500
END:VEVENT
BEGIN:VEVENT
DTEND:20251124T153000
UID:69e4cad8176d0
DTSTAMP:20260419T123016
LOCATION:Aula 2B San Giobbe
SUMMARY:DIRITTO BANCARIO [ET0007] - Urbani Alberto\, Lezione
URL;VALUE=URI://www.unive.it/data/insegnamento/450102
DTSTART:20251124T140000
END:VEVENT
BEGIN:VEVENT
DTEND:20251125T153000
UID:69e4cad81771a
DTSTAMP:20260419T123016
LOCATION:Aula 10C San Giobbe
SUMMARY:DIRITTO BANCARIO [ET0007] - Urbani Alberto\, Lezione
URL;VALUE=URI://www.unive.it/data/insegnamento/450102
DTSTART:20251125T140000
END:VEVENT
BEGIN:VEVENT
DTEND:20251126T171500
UID:69e4cad817765
DTSTAMP:20260419T123016
LOCATION:Aula 10B San Giobbe
SUMMARY:DIRITTO BANCARIO [ET0007] - Urbani Alberto\, Lezione
URL;VALUE=URI://www.unive.it/data/insegnamento/450102
DTSTART:20251126T154500
END:VEVENT
BEGIN:VEVENT
DTEND:20251201T153000
UID:69e4cad8177ae
DTSTAMP:20260419T123016
LOCATION:Aula 2B San Giobbe
SUMMARY:DIRITTO BANCARIO [ET0007] - Urbani Alberto\, Lezione
URL;VALUE=URI://www.unive.it/data/insegnamento/450102
DTSTART:20251201T140000
END:VEVENT
BEGIN:VEVENT
DTEND:20251202T153000
UID:69e4cad8177f7
DTSTAMP:20260419T123016
LOCATION:Aula 10C San Giobbe
SUMMARY:DIRITTO BANCARIO [ET0007] - Urbani Alberto\, Lezione
URL;VALUE=URI://www.unive.it/data/insegnamento/450102
DTSTART:20251202T140000
END:VEVENT
BEGIN:VEVENT
DTEND:20251203T171500
UID:69e4cad817841
DTSTAMP:20260419T123016
LOCATION:Aula 10B San Giobbe
SUMMARY:DIRITTO BANCARIO [ET0007] - Urbani Alberto\, Lezione
URL;VALUE=URI://www.unive.it/data/insegnamento/450102
DTSTART:20251203T154500
END:VEVENT
BEGIN:VEVENT
DTEND:20251209T153000
UID:69e4cad81788b
DTSTAMP:20260419T123016
LOCATION:Aula 10C San Giobbe
SUMMARY:DIRITTO BANCARIO [ET0007] - Urbani Alberto\, Lezione
URL;VALUE=URI://www.unive.it/data/insegnamento/450102
DTSTART:20251209T140000
END:VEVENT
BEGIN:VEVENT
DTEND:20251210T171500
UID:69e4cad8178d4
DTSTAMP:20260419T123016
LOCATION:Aula 10B San Giobbe
SUMMARY:DIRITTO BANCARIO [ET0007] - Urbani Alberto\, Lezione
URL;VALUE=URI://www.unive.it/data/insegnamento/450102
DTSTART:20251210T154500
END:VEVENT
BEGIN:VEVENT
DTEND:20251215T153000
UID:69e4cad817926
DTSTAMP:20260419T123016
LOCATION:Aula 2B San Giobbe
SUMMARY:DIRITTO BANCARIO [ET0007] - Urbani Alberto\, Lezione
URL;VALUE=URI://www.unive.it/data/insegnamento/450102
DTSTART:20251215T140000
END:VEVENT
BEGIN:VEVENT
DTEND:20251216T153000
UID:69e4cad81796f
DTSTAMP:20260419T123016
LOCATION:Aula 10C San Giobbe
SUMMARY:DIRITTO BANCARIO [ET0007] - Urbani Alberto\, Lezione
URL;VALUE=URI://www.unive.it/data/insegnamento/450102
DTSTART:20251216T140000
END:VEVENT
BEGIN:VEVENT
DTEND:20251217T171500
UID:69e4cad8179ba
DTSTAMP:20260419T123016
LOCATION:Aula 10B San Giobbe
SUMMARY:DIRITTO BANCARIO [ET0007] - Urbani Alberto\, Lezione
URL;VALUE=URI://www.unive.it/data/insegnamento/450102
DTSTART:20251217T154500
END:VEVENT
END:VCALENDAR