BEGIN:VCALENDAR
VERSION:2.0
PRODID:-//hacksw/handcal//NONSGML v1.0//EN
CALSCALE:GREGORIAN
X-WR-CALNAME:LINGUA SERBA E CROATA 3 - E1 [LT009Z]
DESCRIPTION:LINGUA SERBA E CROATA 3 - E1 [LT009Z]
REFRESH-INTERVAL;VALUE=DURATION:P1D
X-WR-TIMEZONE:Europe/Rome
BEGIN:VEVENT
DTEND:20250923T134500
UID:69e775a4aa0b7
DTSTAMP:20260421T130332
LOCATION:Aula F (Aula AM C) Ca' Cappello
SUMMARY:LINGUA SERBA E CROATA 3 - E1 [LT009Z] - MLADENOVIC Aleksandra\, Lezione
URL;VALUE=URI://www.unive.it/data/insegnamento/458831
DTSTART:20250923T121500
END:VEVENT
BEGIN:VEVENT
DTEND:20250924T153000
UID:69e775a4aa18d
DTSTAMP:20260421T130332
LOCATION:Aula F (Aula AM C) Ca' Cappello
SUMMARY:LINGUA SERBA E CROATA 3 - E1 [LT009Z] - MLADENOVIC Aleksandra\, Lezione
URL;VALUE=URI://www.unive.it/data/insegnamento/458831
DTSTART:20250924T140000
END:VEVENT
BEGIN:VEVENT
DTEND:20250930T134500
UID:69e775a4aa1e1
DTSTAMP:20260421T130332
LOCATION:Aula F (Aula AM C) Ca' Cappello
SUMMARY:LINGUA SERBA E CROATA 3 - E1 [LT009Z] - MLADENOVIC Aleksandra\, Lezione
URL;VALUE=URI://www.unive.it/data/insegnamento/458831
DTSTART:20250930T121500
END:VEVENT
BEGIN:VEVENT
DTEND:20251001T153000
UID:69e775a4aa230
DTSTAMP:20260421T130332
LOCATION:Aula F (Aula AM C) Ca' Cappello
SUMMARY:LINGUA SERBA E CROATA 3 - E1 [LT009Z] - MLADENOVIC Aleksandra\, Lezione
URL;VALUE=URI://www.unive.it/data/insegnamento/458831
DTSTART:20251001T140000
END:VEVENT
BEGIN:VEVENT
DTEND:20251007T134500
UID:69e775a4aa27d
DTSTAMP:20260421T130332
LOCATION:Aula F (Aula AM C) Ca' Cappello
SUMMARY:LINGUA SERBA E CROATA 3 - E1 [LT009Z] - MLADENOVIC Aleksandra\, Lezione
URL;VALUE=URI://www.unive.it/data/insegnamento/458831
DTSTART:20251007T121500
END:VEVENT
BEGIN:VEVENT
DTEND:20251008T153000
UID:69e775a4aa2c8
DTSTAMP:20260421T130332
LOCATION:Aula F (Aula AM C) Ca' Cappello
SUMMARY:LINGUA SERBA E CROATA 3 - E1 [LT009Z] - MLADENOVIC Aleksandra\, Lezione
URL;VALUE=URI://www.unive.it/data/insegnamento/458831
DTSTART:20251008T140000
END:VEVENT
BEGIN:VEVENT
DTEND:20251014T134500
UID:69e775a4aa312
DTSTAMP:20260421T130332
LOCATION:Aula F (Aula AM C) Ca' Cappello
SUMMARY:LINGUA SERBA E CROATA 3 - E1 [LT009Z] - MLADENOVIC Aleksandra\, Lezione
URL;VALUE=URI://www.unive.it/data/insegnamento/458831
DTSTART:20251014T121500
END:VEVENT
BEGIN:VEVENT
DTEND:20251015T153000
UID:69e775a4aa35c
DTSTAMP:20260421T130332
LOCATION:Aula F (Aula AM C) Ca' Cappello
SUMMARY:LINGUA SERBA E CROATA 3 - E1 [LT009Z] - MLADENOVIC Aleksandra\, Lezione
URL;VALUE=URI://www.unive.it/data/insegnamento/458831
DTSTART:20251015T140000
END:VEVENT
BEGIN:VEVENT
DTEND:20251021T134500
UID:69e775a4aa3a6
DTSTAMP:20260421T130332
LOCATION:Aula F (Aula AM C) Ca' Cappello
SUMMARY:LINGUA SERBA E CROATA 3 - E1 [LT009Z] - MLADENOVIC Aleksandra\, Lezione
URL;VALUE=URI://www.unive.it/data/insegnamento/458831
DTSTART:20251021T121500
END:VEVENT
BEGIN:VEVENT
DTEND:20251022T153000
UID:69e775a4aa3f1
DTSTAMP:20260421T130332
LOCATION:Aula F (Aula AM C) Ca' Cappello
SUMMARY:LINGUA SERBA E CROATA 3 - E1 [LT009Z] - MLADENOVIC Aleksandra\, Lezione
URL;VALUE=URI://www.unive.it/data/insegnamento/458831
DTSTART:20251022T140000
END:VEVENT
BEGIN:VEVENT
DTEND:20251028T134500
UID:69e775a4aa43c
DTSTAMP:20260421T130332
LOCATION:Aula F (Aula AM C) Ca' Cappello
SUMMARY:LINGUA SERBA E CROATA 3 - E1 [LT009Z] - MLADENOVIC Aleksandra\, Lezione
URL;VALUE=URI://www.unive.it/data/insegnamento/458831
DTSTART:20251028T121500
END:VEVENT
BEGIN:VEVENT
DTEND:20251029T153000
UID:69e775a4aa486
DTSTAMP:20260421T130332
LOCATION:Aula F (Aula AM C) Ca' Cappello
SUMMARY:LINGUA SERBA E CROATA 3 - E1 [LT009Z] - MLADENOVIC Aleksandra\, Lezione
URL;VALUE=URI://www.unive.it/data/insegnamento/458831
DTSTART:20251029T140000
END:VEVENT
BEGIN:VEVENT
DTEND:20251104T134500
UID:69e775a4aa4d1
DTSTAMP:20260421T130332
LOCATION:Aula F (Aula AM C) Ca' Cappello
SUMMARY:LINGUA SERBA E CROATA 3 - E1 [LT009Z] - MLADENOVIC Aleksandra\, Lezione
URL;VALUE=URI://www.unive.it/data/insegnamento/458831
DTSTART:20251104T121500
END:VEVENT
BEGIN:VEVENT
DTEND:20251105T153000
UID:69e775a4aa51d
DTSTAMP:20260421T130332
LOCATION:Aula F (Aula AM C) Ca' Cappello
SUMMARY:LINGUA SERBA E CROATA 3 - E1 [LT009Z] - MLADENOVIC Aleksandra\, Lezione
URL;VALUE=URI://www.unive.it/data/insegnamento/458831
DTSTART:20251105T140000
END:VEVENT
BEGIN:VEVENT
DTEND:20251111T134500
UID:69e775a4aa567
DTSTAMP:20260421T130332
LOCATION:Aula F (Aula AM C) Ca' Cappello
SUMMARY:LINGUA SERBA E CROATA 3 - E1 [LT009Z] - MLADENOVIC Aleksandra\, Lezione
URL;VALUE=URI://www.unive.it/data/insegnamento/458831
DTSTART:20251111T121500
END:VEVENT
BEGIN:VEVENT
DTEND:20251112T153000
UID:69e775a4aa5b1
DTSTAMP:20260421T130332
LOCATION:Aula F (Aula AM C) Ca' Cappello
SUMMARY:LINGUA SERBA E CROATA 3 - E1 [LT009Z] - MLADENOVIC Aleksandra\, Lezione
URL;VALUE=URI://www.unive.it/data/insegnamento/458831
DTSTART:20251112T140000
END:VEVENT
BEGIN:VEVENT
DTEND:20251118T134500
UID:69e775a4aa5fb
DTSTAMP:20260421T130332
LOCATION:Aula F (Aula AM C) Ca' Cappello
SUMMARY:LINGUA SERBA E CROATA 3 - E1 [LT009Z] - MLADENOVIC Aleksandra\, Lezione
URL;VALUE=URI://www.unive.it/data/insegnamento/458831
DTSTART:20251118T121500
END:VEVENT
BEGIN:VEVENT
DTEND:20251119T153000
UID:69e775a4aa645
DTSTAMP:20260421T130332
LOCATION:Aula F (Aula AM C) Ca' Cappello
SUMMARY:LINGUA SERBA E CROATA 3 - E1 [LT009Z] - MLADENOVIC Aleksandra\, Lezione
URL;VALUE=URI://www.unive.it/data/insegnamento/458831
DTSTART:20251119T140000
END:VEVENT
BEGIN:VEVENT
DTEND:20251125T134500
UID:69e775a4aa68f
DTSTAMP:20260421T130332
LOCATION:Aula F (Aula AM C) Ca' Cappello
SUMMARY:LINGUA SERBA E CROATA 3 - E1 [LT009Z] - MLADENOVIC Aleksandra\, Lezione
URL;VALUE=URI://www.unive.it/data/insegnamento/458831
DTSTART:20251125T121500
END:VEVENT
BEGIN:VEVENT
DTEND:20251126T153000
UID:69e775a4aa6d9
DTSTAMP:20260421T130332
LOCATION:Aula F (Aula AM C) Ca' Cappello
SUMMARY:LINGUA SERBA E CROATA 3 - E1 [LT009Z] - MLADENOVIC Aleksandra\, Lezione
URL;VALUE=URI://www.unive.it/data/insegnamento/458831
DTSTART:20251126T140000
END:VEVENT
BEGIN:VEVENT
DTEND:20251202T134500
UID:69e775a4aa723
DTSTAMP:20260421T130332
LOCATION:Aula F (Aula AM C) Ca' Cappello
SUMMARY:LINGUA SERBA E CROATA 3 - E1 [LT009Z] - MLADENOVIC Aleksandra\, Lezione
URL;VALUE=URI://www.unive.it/data/insegnamento/458831
DTSTART:20251202T121500
END:VEVENT
BEGIN:VEVENT
DTEND:20251203T153000
UID:69e775a4aa76c
DTSTAMP:20260421T130332
LOCATION:Aula F (Aula AM C) Ca' Cappello
SUMMARY:LINGUA SERBA E CROATA 3 - E1 [LT009Z] - MLADENOVIC Aleksandra\, Lezione
URL;VALUE=URI://www.unive.it/data/insegnamento/458831
DTSTART:20251203T140000
END:VEVENT
BEGIN:VEVENT
DTEND:20251209T134500
UID:69e775a4aa7b7
DTSTAMP:20260421T130332
LOCATION:Aula F (Aula AM C) Ca' Cappello
SUMMARY:LINGUA SERBA E CROATA 3 - E1 [LT009Z] - MLADENOVIC Aleksandra\, Lezione
URL;VALUE=URI://www.unive.it/data/insegnamento/458831
DTSTART:20251209T121500
END:VEVENT
BEGIN:VEVENT
DTEND:20251210T153000
UID:69e775a4aa801
DTSTAMP:20260421T130332
LOCATION:Aula F (Aula AM C) Ca' Cappello
SUMMARY:LINGUA SERBA E CROATA 3 - E1 [LT009Z] - MLADENOVIC Aleksandra\, Lezione
URL;VALUE=URI://www.unive.it/data/insegnamento/458831
DTSTART:20251210T140000
END:VEVENT
BEGIN:VEVENT
DTEND:20251216T134500
UID:69e775a4aa84c
DTSTAMP:20260421T130332
LOCATION:Aula F (Aula AM C) Ca' Cappello
SUMMARY:LINGUA SERBA E CROATA 3 - E1 [LT009Z] - MLADENOVIC Aleksandra\, Lezione
URL;VALUE=URI://www.unive.it/data/insegnamento/458831
DTSTART:20251216T121500
END:VEVENT
BEGIN:VEVENT
DTEND:20251217T153000
UID:69e775a4aa896
DTSTAMP:20260421T130332
LOCATION:Aula F (Aula AM C) Ca' Cappello
SUMMARY:LINGUA SERBA E CROATA 3 - E1 [LT009Z] - MLADENOVIC Aleksandra\, Lezione
URL;VALUE=URI://www.unive.it/data/insegnamento/458831
DTSTART:20251217T140000
END:VEVENT
BEGIN:VEVENT
DTEND:20260113T134500
UID:69e775a4aa8b7
DTSTAMP:20260421T130332
LOCATION:Aula F (Aula AM C) Ca' Cappello
SUMMARY:LINGUA SERBA E CROATA 3 - E1 [LT009Z] - MLADENOVIC Aleksandra\, Lezione
URL;VALUE=URI://www.unive.it/data/insegnamento/458831
DTSTART:20260113T121500
END:VEVENT
BEGIN:VEVENT
DTEND:20260114T153000
UID:69e775a4aa902
DTSTAMP:20260421T130332
LOCATION:Aula F (Aula AM C) Ca' Cappello
SUMMARY:LINGUA SERBA E CROATA 3 - E1 [LT009Z] - MLADENOVIC Aleksandra\, Lezione
URL;VALUE=URI://www.unive.it/data/insegnamento/458831
DTSTART:20260114T140000
END:VEVENT
BEGIN:VEVENT
DTEND:20260120T134500
UID:69e775a4aa94c
DTSTAMP:20260421T130332
LOCATION:Aula F (Aula AM C) Ca' Cappello
SUMMARY:LINGUA SERBA E CROATA 3 - E1 [LT009Z] - MLADENOVIC Aleksandra\, Lezione
URL;VALUE=URI://www.unive.it/data/insegnamento/458831
DTSTART:20260120T121500
END:VEVENT
BEGIN:VEVENT
DTEND:20260121T153000
UID:69e775a4aa996
DTSTAMP:20260421T130332
LOCATION:Aula F (Aula AM C) Ca' Cappello
SUMMARY:LINGUA SERBA E CROATA 3 - E1 [LT009Z] - MLADENOVIC Aleksandra\, Lezione
URL;VALUE=URI://www.unive.it/data/insegnamento/458831
DTSTART:20260121T140000
END:VEVENT
BEGIN:VEVENT
DTEND:20260224T134500
UID:69e775a4aa9e0
DTSTAMP:20260421T130332
LOCATION:Aula 3 San Sebastiano
SUMMARY:LINGUA SERBA E CROATA 3 - E1 [LT009Z] - MLADENOVIC Aleksandra\, Lezione
URL;VALUE=URI://www.unive.it/data/insegnamento/458831
DTSTART:20260224T121500
END:VEVENT
BEGIN:VEVENT
DTEND:20260225T153000
UID:69e775a4aaa2a
DTSTAMP:20260421T130332
LOCATION:Aula 8 Rio Novo
SUMMARY:LINGUA SERBA E CROATA 3 - E1 [LT009Z] - MLADENOVIC Aleksandra\, Lezione
URL;VALUE=URI://www.unive.it/data/insegnamento/458831
DTSTART:20260225T140000
END:VEVENT
BEGIN:VEVENT
DTEND:20260303T134500
UID:69e775a4aaa74
DTSTAMP:20260421T130332
LOCATION:Aula 3 San Sebastiano
SUMMARY:LINGUA SERBA E CROATA 3 - E1 [LT009Z] - MLADENOVIC Aleksandra\, Lezione
URL;VALUE=URI://www.unive.it/data/insegnamento/458831
DTSTART:20260303T121500
END:VEVENT
BEGIN:VEVENT
DTEND:20260304T153000
UID:69e775a4aaabd
DTSTAMP:20260421T130332
LOCATION:Aula 8 Rio Novo
SUMMARY:LINGUA SERBA E CROATA 3 - E1 [LT009Z] - MLADENOVIC Aleksandra\, Lezione
URL;VALUE=URI://www.unive.it/data/insegnamento/458831
DTSTART:20260304T140000
END:VEVENT
BEGIN:VEVENT
DTEND:20260310T134500
UID:69e775a4aab08
DTSTAMP:20260421T130332
LOCATION:Aula 3 San Sebastiano
SUMMARY:LINGUA SERBA E CROATA 3 - E1 [LT009Z] - MLADENOVIC Aleksandra\, Lezione
URL;VALUE=URI://www.unive.it/data/insegnamento/458831
DTSTART:20260310T121500
END:VEVENT
BEGIN:VEVENT
DTEND:20260311T153000
UID:69e775a4aab51
DTSTAMP:20260421T130332
LOCATION:Aula 8 Rio Novo
SUMMARY:LINGUA SERBA E CROATA 3 - E1 [LT009Z] - MLADENOVIC Aleksandra\, Lezione
URL;VALUE=URI://www.unive.it/data/insegnamento/458831
DTSTART:20260311T140000
END:VEVENT
BEGIN:VEVENT
DTEND:20260317T134500
UID:69e775a4aab9b
DTSTAMP:20260421T130332
LOCATION:Aula 3 San Sebastiano
SUMMARY:LINGUA SERBA E CROATA 3 - E1 [LT009Z] - MLADENOVIC Aleksandra\, Lezione
URL;VALUE=URI://www.unive.it/data/insegnamento/458831
DTSTART:20260317T121500
END:VEVENT
BEGIN:VEVENT
DTEND:20260318T153000
UID:69e775a4aabe5
DTSTAMP:20260421T130332
LOCATION:Aula 8 Rio Novo
SUMMARY:LINGUA SERBA E CROATA 3 - E1 [LT009Z] - MLADENOVIC Aleksandra\, Lezione
URL;VALUE=URI://www.unive.it/data/insegnamento/458831
DTSTART:20260318T140000
END:VEVENT
BEGIN:VEVENT
DTEND:20260324T134500
UID:69e775a4aac2e
DTSTAMP:20260421T130332
LOCATION:Aula 3 San Sebastiano
SUMMARY:LINGUA SERBA E CROATA 3 - E1 [LT009Z] - MLADENOVIC Aleksandra\, Lezione
URL;VALUE=URI://www.unive.it/data/insegnamento/458831
DTSTART:20260324T121500
END:VEVENT
BEGIN:VEVENT
DTEND:20260325T153000
UID:69e775a4aac78
DTSTAMP:20260421T130332
LOCATION:Aula 8 Rio Novo
SUMMARY:LINGUA SERBA E CROATA 3 - E1 [LT009Z] - MLADENOVIC Aleksandra\, Lezione
URL;VALUE=URI://www.unive.it/data/insegnamento/458831
DTSTART:20260325T140000
END:VEVENT
BEGIN:VEVENT
DTEND:20260331T134500
UID:69e775a4aac9f
DTSTAMP:20260421T130332
LOCATION:Aula 3 San Sebastiano
SUMMARY:LINGUA SERBA E CROATA 3 - E1 [LT009Z] - MLADENOVIC Aleksandra\, Lezione
URL;VALUE=URI://www.unive.it/data/insegnamento/458831
DTSTART:20260331T121500
END:VEVENT
BEGIN:VEVENT
DTEND:20260401T153000
UID:69e775a4aacea
DTSTAMP:20260421T130332
LOCATION:Aula 8 Rio Novo
SUMMARY:LINGUA SERBA E CROATA 3 - E1 [LT009Z] - MLADENOVIC Aleksandra\, Lezione
URL;VALUE=URI://www.unive.it/data/insegnamento/458831
DTSTART:20260401T140000
END:VEVENT
BEGIN:VEVENT
DTEND:20260407T134500
UID:69e775a4aad34
DTSTAMP:20260421T130332
LOCATION:Aula 3 San Sebastiano
SUMMARY:LINGUA SERBA E CROATA 3 - E1 [LT009Z] - MLADENOVIC Aleksandra\, Lezione
URL;VALUE=URI://www.unive.it/data/insegnamento/458831
DTSTART:20260407T121500
END:VEVENT
BEGIN:VEVENT
DTEND:20260408T153000
UID:69e775a4aad7e
DTSTAMP:20260421T130332
LOCATION:Aula 8 Rio Novo
SUMMARY:LINGUA SERBA E CROATA 3 - E1 [LT009Z] - MLADENOVIC Aleksandra\, Lezione
URL;VALUE=URI://www.unive.it/data/insegnamento/458831
DTSTART:20260408T140000
END:VEVENT
BEGIN:VEVENT
DTEND:20260414T134500
UID:69e775a4aadc8
DTSTAMP:20260421T130332
LOCATION:Aula 3 San Sebastiano
SUMMARY:LINGUA SERBA E CROATA 3 - E1 [LT009Z] - MLADENOVIC Aleksandra\, Lezione
URL;VALUE=URI://www.unive.it/data/insegnamento/458831
DTSTART:20260414T121500
END:VEVENT
BEGIN:VEVENT
DTEND:20260415T153000
UID:69e775a4aae11
DTSTAMP:20260421T130332
LOCATION:Aula 8 Rio Novo
SUMMARY:LINGUA SERBA E CROATA 3 - E1 [LT009Z] - MLADENOVIC Aleksandra\, Lezione
URL;VALUE=URI://www.unive.it/data/insegnamento/458831
DTSTART:20260415T140000
END:VEVENT
BEGIN:VEVENT
DTEND:20260421T134500
UID:69e775a4aae5b
DTSTAMP:20260421T130332
LOCATION:Aula 3 San Sebastiano
SUMMARY:LINGUA SERBA E CROATA 3 - E1 [LT009Z] - MLADENOVIC Aleksandra\, Lezione
URL;VALUE=URI://www.unive.it/data/insegnamento/458831
DTSTART:20260421T121500
END:VEVENT
BEGIN:VEVENT
DTEND:20260422T153000
UID:69e775a4aaea4
DTSTAMP:20260421T130332
LOCATION:Aula 8 Rio Novo
SUMMARY:LINGUA SERBA E CROATA 3 - E1 [LT009Z] - MLADENOVIC Aleksandra\, Lezione
URL;VALUE=URI://www.unive.it/data/insegnamento/458831
DTSTART:20260422T140000
END:VEVENT
BEGIN:VEVENT
DTEND:20260428T134500
UID:69e775a4aaeee
DTSTAMP:20260421T130332
LOCATION:Aula 3 San Sebastiano
SUMMARY:LINGUA SERBA E CROATA 3 - E1 [LT009Z] - MLADENOVIC Aleksandra\, Lezione
URL;VALUE=URI://www.unive.it/data/insegnamento/458831
DTSTART:20260428T121500
END:VEVENT
BEGIN:VEVENT
DTEND:20260429T153000
UID:69e775a4aaf38
DTSTAMP:20260421T130332
LOCATION:Aula 8 Rio Novo
SUMMARY:LINGUA SERBA E CROATA 3 - E1 [LT009Z] - MLADENOVIC Aleksandra\, Lezione
URL;VALUE=URI://www.unive.it/data/insegnamento/458831
DTSTART:20260429T140000
END:VEVENT
BEGIN:VEVENT
DTEND:20260505T134500
UID:69e775a4aaf84
DTSTAMP:20260421T130332
LOCATION:Aula 3 San Sebastiano
SUMMARY:LINGUA SERBA E CROATA 3 - E1 [LT009Z] - MLADENOVIC Aleksandra\, Lezione
URL;VALUE=URI://www.unive.it/data/insegnamento/458831
DTSTART:20260505T121500
END:VEVENT
BEGIN:VEVENT
DTEND:20260506T153000
UID:69e775a4aafce
DTSTAMP:20260421T130332
LOCATION:Aula 8 Rio Novo
SUMMARY:LINGUA SERBA E CROATA 3 - E1 [LT009Z] - MLADENOVIC Aleksandra\, Lezione
URL;VALUE=URI://www.unive.it/data/insegnamento/458831
DTSTART:20260506T140000
END:VEVENT
BEGIN:VEVENT
DTEND:20260512T134500
UID:69e775a4ab018
DTSTAMP:20260421T130332
LOCATION:Aula 3 San Sebastiano
SUMMARY:LINGUA SERBA E CROATA 3 - E1 [LT009Z] - MLADENOVIC Aleksandra\, Lezione
URL;VALUE=URI://www.unive.it/data/insegnamento/458831
DTSTART:20260512T121500
END:VEVENT
BEGIN:VEVENT
DTEND:20260513T153000
UID:69e775a4ab062
DTSTAMP:20260421T130332
LOCATION:Aula 8 Rio Novo
SUMMARY:LINGUA SERBA E CROATA 3 - E1 [LT009Z] - MLADENOVIC Aleksandra\, Lezione
URL;VALUE=URI://www.unive.it/data/insegnamento/458831
DTSTART:20260513T140000
END:VEVENT
BEGIN:VEVENT
DTEND:20260519T134500
UID:69e775a4ab08b
DTSTAMP:20260421T130332
LOCATION:Aula 3 San Sebastiano
SUMMARY:LINGUA SERBA E CROATA 3 - E1 [LT009Z] - MLADENOVIC Aleksandra\, Lezione
URL;VALUE=URI://www.unive.it/data/insegnamento/458831
DTSTART:20260519T121500
END:VEVENT
BEGIN:VEVENT
DTEND:20260520T153000
UID:69e775a4ab0d5
DTSTAMP:20260421T130332
LOCATION:Aula 8 Rio Novo
SUMMARY:LINGUA SERBA E CROATA 3 - E1 [LT009Z] - MLADENOVIC Aleksandra\, Lezione
URL;VALUE=URI://www.unive.it/data/insegnamento/458831
DTSTART:20260520T140000
END:VEVENT
BEGIN:VEVENT
DTEND:20260526T134500
UID:69e775a4ab11f
DTSTAMP:20260421T130332
LOCATION:Aula 3 San Sebastiano
SUMMARY:LINGUA SERBA E CROATA 3 - E1 [LT009Z] - MLADENOVIC Aleksandra\, Lezione
URL;VALUE=URI://www.unive.it/data/insegnamento/458831
DTSTART:20260526T121500
END:VEVENT
BEGIN:VEVENT
DTEND:20260527T153000
UID:69e775a4ab16a
DTSTAMP:20260421T130332
LOCATION:Aula 8 Rio Novo
SUMMARY:LINGUA SERBA E CROATA 3 - E1 [LT009Z] - MLADENOVIC Aleksandra\, Lezione
URL;VALUE=URI://www.unive.it/data/insegnamento/458831
DTSTART:20260527T140000
END:VEVENT
BEGIN:VEVENT
DTEND:20260603T153000
UID:69e775a4ab1b9
DTSTAMP:20260421T130332
LOCATION:Aula 8 Rio Novo
SUMMARY:LINGUA SERBA E CROATA 3 - E1 [LT009Z] - MLADENOVIC Aleksandra\, Lezione
URL;VALUE=URI://www.unive.it/data/insegnamento/458831
DTSTART:20260603T140000
END:VEVENT
END:VCALENDAR