BEGIN:VCALENDAR
VERSION:2.0
PRODID:-//hacksw/handcal//NONSGML v1.0//EN
CALSCALE:GREGORIAN
X-WR-CALNAME:ECONOMIA POLITICA [LT0210]
DESCRIPTION:ECONOMIA POLITICA [LT0210]
REFRESH-INTERVAL;VALUE=DURATION:P1D
X-WR-TIMEZONE:Europe/Rome
BEGIN:VEVENT
DTEND:20250926T171500
UID:69e905b73284b
DTSTAMP:20260422T173031
LOCATION:Aula gradoni Santa Marta
SUMMARY:ECONOMIA POLITICA [LT0210] - BUIA Raluca Elena\, Lezione
URL;VALUE=URI://www.unive.it/data/insegnamento/458880
DTSTART:20250926T154500
END:VEVENT
BEGIN:VEVENT
DTEND:20251003T171500
UID:69e905b7328d2
DTSTAMP:20260422T173031
LOCATION:Aula gradoni Santa Marta
SUMMARY:ECONOMIA POLITICA [LT0210] - BUIA Raluca Elena\, Lezione
URL;VALUE=URI://www.unive.it/data/insegnamento/458880
DTSTART:20251003T154500
END:VEVENT
BEGIN:VEVENT
DTEND:20251010T171500
UID:69e905b732925
DTSTAMP:20260422T173031
LOCATION:Aula gradoni Santa Marta
SUMMARY:ECONOMIA POLITICA [LT0210] - BUIA Raluca Elena\, Lezione
URL;VALUE=URI://www.unive.it/data/insegnamento/458880
DTSTART:20251010T154500
END:VEVENT
BEGIN:VEVENT
DTEND:20251017T171500
UID:69e905b732971
DTSTAMP:20260422T173031
LOCATION:Aula gradoni Santa Marta
SUMMARY:ECONOMIA POLITICA [LT0210] - BUIA Raluca Elena\, Lezione
URL;VALUE=URI://www.unive.it/data/insegnamento/458880
DTSTART:20251017T154500
END:VEVENT
BEGIN:VEVENT
DTEND:20251024T120000
UID:69e905b7329bc
DTSTAMP:20260422T173031
LOCATION:Aula MF5 Polo didattico San Basilio (MF - Magazzini Frigoriferi)
SUMMARY:ECONOMIA POLITICA [LT0210] - BUIA Raluca Elena\, Lezione
URL;VALUE=URI://www.unive.it/data/insegnamento/458880
DTSTART:20251024T103000
END:VEVENT
BEGIN:VEVENT
DTEND:20251024T171500
UID:69e905b732a08
DTSTAMP:20260422T173031
LOCATION:Aula gradoni Santa Marta
SUMMARY:ECONOMIA POLITICA [LT0210] - BUIA Raluca Elena\, Lezione
URL;VALUE=URI://www.unive.it/data/insegnamento/458880
DTSTART:20251024T154500
END:VEVENT
BEGIN:VEVENT
DTEND:20251031T120000
UID:69e905b732a51
DTSTAMP:20260422T173031
LOCATION:Teatro Santa Marta Santa Marta
SUMMARY:ECONOMIA POLITICA [LT0210] - BUIA Raluca Elena\, Lezione
URL;VALUE=URI://www.unive.it/data/insegnamento/458880
DTSTART:20251031T103000
END:VEVENT
BEGIN:VEVENT
DTEND:20251031T171500
UID:69e905b732a9b
DTSTAMP:20260422T173031
LOCATION:Aula gradoni Santa Marta
SUMMARY:ECONOMIA POLITICA [LT0210] - BUIA Raluca Elena\, Lezione
URL;VALUE=URI://www.unive.it/data/insegnamento/458880
DTSTART:20251031T154500
END:VEVENT
BEGIN:VEVENT
DTEND:20251105T101500
UID:69e905b732acb
DTSTAMP:20260422T173031
LOCATION:Aula 2B Polo didattico San Basilio (Magazzino 5)
SUMMARY:ECONOMIA POLITICA [LT0210] - BUIA Raluca Elena\, Lezione
URL;VALUE=URI://www.unive.it/data/insegnamento/458880
DTSTART:20251105T084500
END:VEVENT
BEGIN:VEVENT
DTEND:20251128T171500
UID:69e905b732b17
DTSTAMP:20260422T173031
LOCATION:Aula gradoni Santa Marta
SUMMARY:ECONOMIA POLITICA [LT0210] - BUIA Raluca Elena\, Lezione
URL;VALUE=URI://www.unive.it/data/insegnamento/458880
DTSTART:20251128T154500
END:VEVENT
BEGIN:VEVENT
DTEND:20251205T120000
UID:69e905b732b61
DTSTAMP:20260422T173031
LOCATION:Aula 5A San Giobbe
SUMMARY:ECONOMIA POLITICA [LT0210] - BUIA Raluca Elena\, Lezione
URL;VALUE=URI://www.unive.it/data/insegnamento/458880
DTSTART:20251205T103000
END:VEVENT
BEGIN:VEVENT
DTEND:20251205T171500
UID:69e905b732baa
DTSTAMP:20260422T173031
LOCATION:Aula gradoni Santa Marta
SUMMARY:ECONOMIA POLITICA [LT0210] - BUIA Raluca Elena\, Lezione
URL;VALUE=URI://www.unive.it/data/insegnamento/458880
DTSTART:20251205T154500
END:VEVENT
BEGIN:VEVENT
DTEND:20251212T171500
UID:69e905b732bf4
DTSTAMP:20260422T173031
LOCATION:Aula gradoni Santa Marta
SUMMARY:ECONOMIA POLITICA [LT0210] - BUIA Raluca Elena\, Lezione
URL;VALUE=URI://www.unive.it/data/insegnamento/458880
DTSTART:20251212T154500
END:VEVENT
BEGIN:VEVENT
DTEND:20251219T120000
UID:69e905b732c45
DTSTAMP:20260422T173031
LOCATION:Aula 5A San Giobbe
SUMMARY:ECONOMIA POLITICA [LT0210] - BUIA Raluca Elena\, Lezione
URL;VALUE=URI://www.unive.it/data/insegnamento/458880
DTSTART:20251219T103000
END:VEVENT
BEGIN:VEVENT
DTEND:20251219T171500
UID:69e905b732c8e
DTSTAMP:20260422T173031
LOCATION:Aula gradoni Santa Marta
SUMMARY:ECONOMIA POLITICA [LT0210] - BUIA Raluca Elena\, Lezione
URL;VALUE=URI://www.unive.it/data/insegnamento/458880
DTSTART:20251219T154500
END:VEVENT
BEGIN:VEVENT
DTEND:20260112T101500
UID:69e905b732cd8
DTSTAMP:20260422T173031
LOCATION:Aula 9B San Giobbe
SUMMARY:ECONOMIA POLITICA [LT0210] - BUIA Raluca Elena\, Lezione
URL;VALUE=URI://www.unive.it/data/insegnamento/458880
DTSTART:20260112T084500
END:VEVENT
BEGIN:VEVENT
DTEND:20260116T120000
UID:69e905b732d21
DTSTAMP:20260422T173031
LOCATION:Aula MF5 Polo didattico San Basilio (MF - Magazzini Frigoriferi)
SUMMARY:ECONOMIA POLITICA [LT0210] - BUIA Raluca Elena\, Lezione
URL;VALUE=URI://www.unive.it/data/insegnamento/458880
DTSTART:20260116T103000
END:VEVENT
BEGIN:VEVENT
DTEND:20260116T171500
UID:69e905b732d6c
DTSTAMP:20260422T173031
LOCATION:Aula gradoni Santa Marta
SUMMARY:ECONOMIA POLITICA [LT0210] - BUIA Raluca Elena\, Lezione
URL;VALUE=URI://www.unive.it/data/insegnamento/458880
DTSTART:20260116T154500
END:VEVENT
BEGIN:VEVENT
DTEND:20260123T120000
UID:69e905b732db5
DTSTAMP:20260422T173031
LOCATION:Aula MF5 Polo didattico San Basilio (MF - Magazzini Frigoriferi)
SUMMARY:ECONOMIA POLITICA [LT0210] - BUIA Raluca Elena\, Lezione
URL;VALUE=URI://www.unive.it/data/insegnamento/458880
DTSTART:20260123T103000
END:VEVENT
BEGIN:VEVENT
DTEND:20260123T171500
UID:69e905b732e00
DTSTAMP:20260422T173031
LOCATION:Aula gradoni Santa Marta
SUMMARY:ECONOMIA POLITICA [LT0210] - BUIA Raluca Elena\, Lezione
URL;VALUE=URI://www.unive.it/data/insegnamento/458880
DTSTART:20260123T154500
END:VEVENT
END:VCALENDAR