BEGIN:VCALENDAR
VERSION:2.0
PRODID:-//hacksw/handcal//NONSGML v1.0//EN
CALSCALE:GREGORIAN
X-WR-CALNAME:LINGUISTICA SPAGNOLA [LT0970]
DESCRIPTION:LINGUISTICA SPAGNOLA [LT0970]
REFRESH-INTERVAL;VALUE=DURATION:P1D
X-WR-TIMEZONE:Europe/Rome
BEGIN:VEVENT
DTEND:20250923T120000
UID:69e76205aa629
DTSTAMP:20260421T113949
LOCATION:Aula A Ca' Bottacin
SUMMARY:LINGUISTICA SPAGNOLA [LT0970] - BRUGE' Laura\, Lezione
URL;VALUE=URI://www.unive.it/data/insegnamento/458904
DTSTART:20250923T103000
END:VEVENT
BEGIN:VEVENT
DTEND:20250930T120000
UID:69e76205aa6b6
DTSTAMP:20260421T113949
LOCATION:Aula A Ca' Bottacin
SUMMARY:LINGUISTICA SPAGNOLA [LT0970] - BRUGE' Laura\, Lezione
URL;VALUE=URI://www.unive.it/data/insegnamento/458904
DTSTART:20250930T103000
END:VEVENT
BEGIN:VEVENT
DTEND:20251007T120000
UID:69e76205aa707
DTSTAMP:20260421T113949
LOCATION:Aula A Ca' Bottacin
SUMMARY:LINGUISTICA SPAGNOLA [LT0970] - BRUGE' Laura\, Lezione
URL;VALUE=URI://www.unive.it/data/insegnamento/458904
DTSTART:20251007T103000
END:VEVENT
BEGIN:VEVENT
DTEND:20251014T120000
UID:69e76205aa755
DTSTAMP:20260421T113949
LOCATION:Aula A Ca' Bottacin
SUMMARY:LINGUISTICA SPAGNOLA [LT0970] - BRUGE' Laura\, Lezione
URL;VALUE=URI://www.unive.it/data/insegnamento/458904
DTSTART:20251014T103000
END:VEVENT
BEGIN:VEVENT
DTEND:20251021T120000
UID:69e76205aa7a0
DTSTAMP:20260421T113949
LOCATION:Aula A Ca' Bottacin
SUMMARY:LINGUISTICA SPAGNOLA [LT0970] - BRUGE' Laura\, Lezione
URL;VALUE=URI://www.unive.it/data/insegnamento/458904
DTSTART:20251021T103000
END:VEVENT
BEGIN:VEVENT
DTEND:20251028T120000
UID:69e76205aa7ec
DTSTAMP:20260421T113949
LOCATION:Aula A Ca' Bottacin
SUMMARY:LINGUISTICA SPAGNOLA [LT0970] - BRUGE' Laura\, Lezione
URL;VALUE=URI://www.unive.it/data/insegnamento/458904
DTSTART:20251028T103000
END:VEVENT
BEGIN:VEVENT
DTEND:20251104T120000
UID:69e76205aa83b
DTSTAMP:20260421T113949
LOCATION:Aula A Ca' Bottacin
SUMMARY:LINGUISTICA SPAGNOLA [LT0970] - BRUGE' Laura\, Lezione
URL;VALUE=URI://www.unive.it/data/insegnamento/458904
DTSTART:20251104T103000
END:VEVENT
BEGIN:VEVENT
DTEND:20251111T120000
UID:69e76205aa88b
DTSTAMP:20260421T113949
LOCATION:Aula A Ca' Bottacin
SUMMARY:LINGUISTICA SPAGNOLA [LT0970] - BRUGE' Laura\, Lezione
URL;VALUE=URI://www.unive.it/data/insegnamento/458904
DTSTART:20251111T103000
END:VEVENT
BEGIN:VEVENT
DTEND:20251118T120000
UID:69e76205aa8b8
DTSTAMP:20260421T113949
LOCATION:Aula A Ca' Bottacin
SUMMARY:LINGUISTICA SPAGNOLA [LT0970] - BRUGE' Laura\, Lezione
URL;VALUE=URI://www.unive.it/data/insegnamento/458904
DTSTART:20251118T103000
END:VEVENT
BEGIN:VEVENT
DTEND:20251125T120000
UID:69e76205aa903
DTSTAMP:20260421T113949
LOCATION:Aula A Ca' Bottacin
SUMMARY:LINGUISTICA SPAGNOLA [LT0970] - BRUGE' Laura\, Lezione
URL;VALUE=URI://www.unive.it/data/insegnamento/458904
DTSTART:20251125T103000
END:VEVENT
BEGIN:VEVENT
DTEND:20251202T120000
UID:69e76205aa953
DTSTAMP:20260421T113949
LOCATION:Aula A Ca' Bottacin
SUMMARY:LINGUISTICA SPAGNOLA [LT0970] - BRUGE' Laura\, Lezione
URL;VALUE=URI://www.unive.it/data/insegnamento/458904
DTSTART:20251202T103000
END:VEVENT
BEGIN:VEVENT
DTEND:20251209T120000
UID:69e76205aa99c
DTSTAMP:20260421T113949
LOCATION:Aula A Ca' Bottacin
SUMMARY:LINGUISTICA SPAGNOLA [LT0970] - BRUGE' Laura\, Lezione
URL;VALUE=URI://www.unive.it/data/insegnamento/458904
DTSTART:20251209T103000
END:VEVENT
BEGIN:VEVENT
DTEND:20251216T120000
UID:69e76205aa9e7
DTSTAMP:20260421T113949
LOCATION:Aula A Ca' Bottacin
SUMMARY:LINGUISTICA SPAGNOLA [LT0970] - BRUGE' Laura\, Lezione
URL;VALUE=URI://www.unive.it/data/insegnamento/458904
DTSTART:20251216T103000
END:VEVENT
BEGIN:VEVENT
DTEND:20260113T120000
UID:69e76205aaa31
DTSTAMP:20260421T113949
LOCATION:Aula A Ca' Bottacin
SUMMARY:LINGUISTICA SPAGNOLA [LT0970] - BRUGE' Laura\, Lezione
URL;VALUE=URI://www.unive.it/data/insegnamento/458904
DTSTART:20260113T103000
END:VEVENT
BEGIN:VEVENT
DTEND:20260120T120000
UID:69e76205aaa7b
DTSTAMP:20260421T113949
LOCATION:Aula A Ca' Bottacin
SUMMARY:LINGUISTICA SPAGNOLA [LT0970] - BRUGE' Laura\, Lezione
URL;VALUE=URI://www.unive.it/data/insegnamento/458904
DTSTART:20260120T103000
END:VEVENT
END:VCALENDAR