BEGIN:VCALENDAR
VERSION:2.0
PRODID:-//hacksw/handcal//NONSGML v1.0//EN
CALSCALE:GREGORIAN
X-WR-CALNAME:LINGUISTICA FRANCESE [LT0930]
DESCRIPTION:LINGUISTICA FRANCESE [LT0930]
REFRESH-INTERVAL;VALUE=DURATION:P1D
X-WR-TIMEZONE:Europe/Rome
BEGIN:VEVENT
DTEND:20250922T190000
UID:69e71c850a449
DTSTAMP:20260421T064317
LOCATION:Aula C Ca' Bembo
SUMMARY:LINGUISTICA FRANCESE [LT0930] - CARDINALETTI Anna\, Lezione
URL;VALUE=URI://www.unive.it/data/insegnamento/458906
DTSTART:20250922T173000
END:VEVENT
BEGIN:VEVENT
DTEND:20250929T190000
UID:69e71c850a50e
DTSTAMP:20260421T064317
LOCATION:Aula C Ca' Bembo
SUMMARY:LINGUISTICA FRANCESE [LT0930] - CARDINALETTI Anna\, Lezione
URL;VALUE=URI://www.unive.it/data/insegnamento/458906
DTSTART:20250929T173000
END:VEVENT
BEGIN:VEVENT
DTEND:20251006T190000
UID:69e71c850a573
DTSTAMP:20260421T064317
LOCATION:Aula C Ca' Bembo
SUMMARY:LINGUISTICA FRANCESE [LT0930] - CARDINALETTI Anna\, Lezione
URL;VALUE=URI://www.unive.it/data/insegnamento/458906
DTSTART:20251006T173000
END:VEVENT
BEGIN:VEVENT
DTEND:20251013T190000
UID:69e71c850a5d5
DTSTAMP:20260421T064317
LOCATION:Aula C Ca' Bembo
SUMMARY:LINGUISTICA FRANCESE [LT0930] - CARDINALETTI Anna\, Lezione
URL;VALUE=URI://www.unive.it/data/insegnamento/458906
DTSTART:20251013T173000
END:VEVENT
BEGIN:VEVENT
DTEND:20251020T190000
UID:69e71c850a653
DTSTAMP:20260421T064317
LOCATION:Aula C Ca' Bembo
SUMMARY:LINGUISTICA FRANCESE [LT0930] - CARDINALETTI Anna\, Lezione
URL;VALUE=URI://www.unive.it/data/insegnamento/458906
DTSTART:20251020T173000
END:VEVENT
BEGIN:VEVENT
DTEND:20251027T190000
UID:69e71c850a6b7
DTSTAMP:20260421T064317
LOCATION:Aula C Ca' Bembo
SUMMARY:LINGUISTICA FRANCESE [LT0930] - CARDINALETTI Anna\, Lezione
URL;VALUE=URI://www.unive.it/data/insegnamento/458906
DTSTART:20251027T173000
END:VEVENT
BEGIN:VEVENT
DTEND:20251103T190000
UID:69e71c850a808
DTSTAMP:20260421T064317
LOCATION:Aula C Ca' Bembo
SUMMARY:LINGUISTICA FRANCESE [LT0930] - CARDINALETTI Anna\, Lezione
URL;VALUE=URI://www.unive.it/data/insegnamento/458906
DTSTART:20251103T173000
END:VEVENT
BEGIN:VEVENT
DTEND:20251110T190000
UID:69e71c850a874
DTSTAMP:20260421T064317
LOCATION:Aula C Ca' Bembo
SUMMARY:LINGUISTICA FRANCESE [LT0930] - CARDINALETTI Anna\, Lezione
URL;VALUE=URI://www.unive.it/data/insegnamento/458906
DTSTART:20251110T173000
END:VEVENT
BEGIN:VEVENT
DTEND:20251117T190000
UID:69e71c850a8ce
DTSTAMP:20260421T064317
LOCATION:Aula C Ca' Bembo
SUMMARY:LINGUISTICA FRANCESE [LT0930] - CARDINALETTI Anna\, Lezione
URL;VALUE=URI://www.unive.it/data/insegnamento/458906
DTSTART:20251117T173000
END:VEVENT
BEGIN:VEVENT
DTEND:20251124T190000
UID:69e71c850a926
DTSTAMP:20260421T064317
LOCATION:Aula C Ca' Bembo
SUMMARY:LINGUISTICA FRANCESE [LT0930] - CARDINALETTI Anna\, Lezione
URL;VALUE=URI://www.unive.it/data/insegnamento/458906
DTSTART:20251124T173000
END:VEVENT
BEGIN:VEVENT
DTEND:20251201T190000
UID:69e71c850a97d
DTSTAMP:20260421T064317
LOCATION:Aula C Ca' Bembo
SUMMARY:LINGUISTICA FRANCESE [LT0930] - CARDINALETTI Anna\, Lezione
URL;VALUE=URI://www.unive.it/data/insegnamento/458906
DTSTART:20251201T173000
END:VEVENT
BEGIN:VEVENT
DTEND:20251215T190000
UID:69e71c850a9d4
DTSTAMP:20260421T064317
LOCATION:Aula C Ca' Bembo
SUMMARY:LINGUISTICA FRANCESE [LT0930] - CARDINALETTI Anna\, Lezione
URL;VALUE=URI://www.unive.it/data/insegnamento/458906
DTSTART:20251215T173000
END:VEVENT
BEGIN:VEVENT
DTEND:20260112T190000
UID:69e71c850aa23
DTSTAMP:20260421T064317
LOCATION:Aula C Ca' Bembo
SUMMARY:LINGUISTICA FRANCESE [LT0930] - CARDINALETTI Anna\, Lezione
URL;VALUE=URI://www.unive.it/data/insegnamento/458906
DTSTART:20260112T173000
END:VEVENT
BEGIN:VEVENT
DTEND:20260119T190000
UID:69e71c850aa88
DTSTAMP:20260421T064317
LOCATION:Aula C Ca' Bembo
SUMMARY:LINGUISTICA FRANCESE [LT0930] - CARDINALETTI Anna\, Lezione
URL;VALUE=URI://www.unive.it/data/insegnamento/458906
DTSTART:20260119T173000
END:VEVENT
BEGIN:VEVENT
DTEND:20260120T190000
UID:69e71c850abc4
DTSTAMP:20260421T064317
LOCATION:Aula A Ca' Bembo
SUMMARY:LINGUISTICA FRANCESE [LT0930] - CARDINALETTI Anna\, Lezione
URL;VALUE=URI://www.unive.it/data/insegnamento/458906
DTSTART:20260120T173000
END:VEVENT
END:VCALENDAR