BEGIN:VCALENDAR
VERSION:2.0
PRODID:-//hacksw/handcal//NONSGML v1.0//EN
CALSCALE:GREGORIAN
X-WR-CALNAME:LAB OF COMPUTER SECURITY [ET7016]
DESCRIPTION:LAB OF COMPUTER SECURITY [ET7016]
REFRESH-INTERVAL;VALUE=DURATION:P1D
X-WR-TIMEZONE:Europe/Rome
BEGIN:VEVENT
DTEND:20250923T173000
UID:69e912156906e
DTSTAMP:20260422T182317
LOCATION:Aula B3 H-Campus
SUMMARY:LAB OF COMPUTER SECURITY [ET7016] - MACCARI Leonardo\, Lezione
URL;VALUE=URI://www.unive.it/data/insegnamento/463772
DTSTART:20250923T160000
END:VEVENT
BEGIN:VEVENT
DTEND:20250925T110000
UID:69e9121569101
DTSTAMP:20260422T182317
LOCATION:Aula B3 H-Campus
SUMMARY:LAB OF COMPUTER SECURITY [ET7016] - MACCARI Leonardo\, Lezione
URL;VALUE=URI://www.unive.it/data/insegnamento/463772
DTSTART:20250925T093000
END:VEVENT
BEGIN:VEVENT
DTEND:20250925T130000
UID:69e9121569153
DTSTAMP:20260422T182317
LOCATION:Aula B3 H-Campus
SUMMARY:LAB OF COMPUTER SECURITY [ET7016] - MACCARI Leonardo\, Lezione
URL;VALUE=URI://www.unive.it/data/insegnamento/463772
DTSTART:20250925T113000
END:VEVENT
BEGIN:VEVENT
DTEND:20250930T173000
UID:69e91215691a4
DTSTAMP:20260422T182317
LOCATION:Aula B3 H-Campus
SUMMARY:LAB OF COMPUTER SECURITY [ET7016] - MACCARI Leonardo\, Lezione
URL;VALUE=URI://www.unive.it/data/insegnamento/463772
DTSTART:20250930T160000
END:VEVENT
BEGIN:VEVENT
DTEND:20251002T110000
UID:69e91215691e6
DTSTAMP:20260422T182317
LOCATION:Aula B3 H-Campus
SUMMARY:LAB OF COMPUTER SECURITY [ET7016] - MACCARI Leonardo\, Lezione
URL;VALUE=URI://www.unive.it/data/insegnamento/463772
DTSTART:20251002T093000
END:VEVENT
BEGIN:VEVENT
DTEND:20251002T130000
UID:69e9121569232
DTSTAMP:20260422T182317
LOCATION:Aula B3 H-Campus
SUMMARY:LAB OF COMPUTER SECURITY [ET7016] - MACCARI Leonardo\, Lezione
URL;VALUE=URI://www.unive.it/data/insegnamento/463772
DTSTART:20251002T113000
END:VEVENT
BEGIN:VEVENT
DTEND:20251007T173000
UID:69e912156927c
DTSTAMP:20260422T182317
LOCATION:Aula B3 H-Campus
SUMMARY:LAB OF COMPUTER SECURITY [ET7016] - MACCARI Leonardo\, Lezione
URL;VALUE=URI://www.unive.it/data/insegnamento/463772
DTSTART:20251007T160000
END:VEVENT
BEGIN:VEVENT
DTEND:20251009T110000
UID:69e91215692c7
DTSTAMP:20260422T182317
LOCATION:Aula B3 H-Campus
SUMMARY:LAB OF COMPUTER SECURITY [ET7016] - MACCARI Leonardo\, Lezione
URL;VALUE=URI://www.unive.it/data/insegnamento/463772
DTSTART:20251009T093000
END:VEVENT
BEGIN:VEVENT
DTEND:20251009T130000
UID:69e9121569311
DTSTAMP:20260422T182317
LOCATION:Aula B3 H-Campus
SUMMARY:LAB OF COMPUTER SECURITY [ET7016] - MACCARI Leonardo\, Lezione
URL;VALUE=URI://www.unive.it/data/insegnamento/463772
DTSTART:20251009T113000
END:VEVENT
BEGIN:VEVENT
DTEND:20251014T173000
UID:69e912156935c
DTSTAMP:20260422T182317
LOCATION:Aula B3 H-Campus
SUMMARY:LAB OF COMPUTER SECURITY [ET7016] - MACCARI Leonardo\, Lezione
URL;VALUE=URI://www.unive.it/data/insegnamento/463772
DTSTART:20251014T160000
END:VEVENT
BEGIN:VEVENT
DTEND:20251016T110000
UID:69e91215693a5
DTSTAMP:20260422T182317
LOCATION:Aula B3 H-Campus
SUMMARY:LAB OF COMPUTER SECURITY [ET7016] - MACCARI Leonardo\, Lezione
URL;VALUE=URI://www.unive.it/data/insegnamento/463772
DTSTART:20251016T093000
END:VEVENT
BEGIN:VEVENT
DTEND:20251016T130000
UID:69e91215693f5
DTSTAMP:20260422T182317
LOCATION:Aula B3 H-Campus
SUMMARY:LAB OF COMPUTER SECURITY [ET7016] - MACCARI Leonardo\, Lezione
URL;VALUE=URI://www.unive.it/data/insegnamento/463772
DTSTART:20251016T113000
END:VEVENT
BEGIN:VEVENT
DTEND:20251021T173000
UID:69e912156943e
DTSTAMP:20260422T182317
LOCATION:Aula B3 H-Campus
SUMMARY:LAB OF COMPUTER SECURITY [ET7016] - MACCARI Leonardo\, Lezione
URL;VALUE=URI://www.unive.it/data/insegnamento/463772
DTSTART:20251021T160000
END:VEVENT
BEGIN:VEVENT
DTEND:20251023T110000
UID:69e9121569489
DTSTAMP:20260422T182317
LOCATION:Aula B3 H-Campus
SUMMARY:LAB OF COMPUTER SECURITY [ET7016] - MACCARI Leonardo\, Lezione
URL;VALUE=URI://www.unive.it/data/insegnamento/463772
DTSTART:20251023T093000
END:VEVENT
BEGIN:VEVENT
DTEND:20251023T130000
UID:69e91215694d3
DTSTAMP:20260422T182317
LOCATION:Aula B3 H-Campus
SUMMARY:LAB OF COMPUTER SECURITY [ET7016] - MACCARI Leonardo\, Lezione
URL;VALUE=URI://www.unive.it/data/insegnamento/463772
DTSTART:20251023T113000
END:VEVENT
END:VCALENDAR