BEGIN:VCALENDAR
VERSION:2.0
PRODID:-//hacksw/handcal//NONSGML v1.0//EN
CALSCALE:GREGORIAN
X-WR-CALNAME:STRUMENTI OPERATIVI PER LE DECISIONI DI MARKETING [ET0065]
DESCRIPTION:STRUMENTI OPERATIVI PER LE DECISIONI DI MARKETING [ET0065]
REFRESH-INTERVAL;VALUE=DURATION:P1D
X-WR-TIMEZONE:Europe/Rome
BEGIN:VEVENT
DTEND:20250922T101500
UID:69e91c504faa3
DTSTAMP:20260422T190656
LOCATION:Aula 3A San Giobbe
SUMMARY:STRUMENTI OPERATIVI PER LE DECISIONI DI MARKETING [ET0065] - Checchinato Francesca\, Lezione
URL;VALUE=URI://www.unive.it/data/insegnamento/463805
DTSTART:20250922T084500
END:VEVENT
BEGIN:VEVENT
DTEND:20250923T134500
UID:69e91c504fb42
DTSTAMP:20260422T190656
LOCATION:Aula 3A San Giobbe
SUMMARY:STRUMENTI OPERATIVI PER LE DECISIONI DI MARKETING [ET0065] - Checchinato Francesca\, Lezione
URL;VALUE=URI://www.unive.it/data/insegnamento/463805
DTSTART:20250923T121500
END:VEVENT
BEGIN:VEVENT
DTEND:20250924T171500
UID:69e91c504fba4
DTSTAMP:20260422T190656
LOCATION:Aula 3A San Giobbe
SUMMARY:STRUMENTI OPERATIVI PER LE DECISIONI DI MARKETING [ET0065] - Checchinato Francesca\, Lezione
URL;VALUE=URI://www.unive.it/data/insegnamento/463805
DTSTART:20250924T154500
END:VEVENT
BEGIN:VEVENT
DTEND:20250929T101500
UID:69e91c504fbf3
DTSTAMP:20260422T190656
LOCATION:Aula 3A San Giobbe
SUMMARY:STRUMENTI OPERATIVI PER LE DECISIONI DI MARKETING [ET0065] - Checchinato Francesca\, Lezione
URL;VALUE=URI://www.unive.it/data/insegnamento/463805
DTSTART:20250929T084500
END:VEVENT
BEGIN:VEVENT
DTEND:20250930T134500
UID:69e91c504fc3f
DTSTAMP:20260422T190656
LOCATION:Aula 3A San Giobbe
SUMMARY:STRUMENTI OPERATIVI PER LE DECISIONI DI MARKETING [ET0065] - Checchinato Francesca\, Lezione
URL;VALUE=URI://www.unive.it/data/insegnamento/463805
DTSTART:20250930T121500
END:VEVENT
BEGIN:VEVENT
DTEND:20251001T171500
UID:69e91c504fc92
DTSTAMP:20260422T190656
LOCATION:Aula 3A San Giobbe
SUMMARY:STRUMENTI OPERATIVI PER LE DECISIONI DI MARKETING [ET0065] - Checchinato Francesca\, Lezione
URL;VALUE=URI://www.unive.it/data/insegnamento/463805
DTSTART:20251001T154500
END:VEVENT
BEGIN:VEVENT
DTEND:20251006T101500
UID:69e91c504fce1
DTSTAMP:20260422T190656
LOCATION:Aula 3A San Giobbe
SUMMARY:STRUMENTI OPERATIVI PER LE DECISIONI DI MARKETING [ET0065] - Checchinato Francesca\, Lezione
URL;VALUE=URI://www.unive.it/data/insegnamento/463805
DTSTART:20251006T084500
END:VEVENT
BEGIN:VEVENT
DTEND:20251007T134500
UID:69e91c504fd2d
DTSTAMP:20260422T190656
LOCATION:Aula 3A San Giobbe
SUMMARY:STRUMENTI OPERATIVI PER LE DECISIONI DI MARKETING [ET0065] - Checchinato Francesca\, Lezione
URL;VALUE=URI://www.unive.it/data/insegnamento/463805
DTSTART:20251007T121500
END:VEVENT
BEGIN:VEVENT
DTEND:20251008T171500
UID:69e91c504fdec
DTSTAMP:20260422T190656
LOCATION:Aula 3A San Giobbe
SUMMARY:STRUMENTI OPERATIVI PER LE DECISIONI DI MARKETING [ET0065] - Checchinato Francesca\, Lezione
URL;VALUE=URI://www.unive.it/data/insegnamento/463805
DTSTART:20251008T154500
END:VEVENT
BEGIN:VEVENT
DTEND:20251013T101500
UID:69e91c504fe46
DTSTAMP:20260422T190656
LOCATION:Aula 3A San Giobbe
SUMMARY:STRUMENTI OPERATIVI PER LE DECISIONI DI MARKETING [ET0065] - Checchinato Francesca\, Lezione
URL;VALUE=URI://www.unive.it/data/insegnamento/463805
DTSTART:20251013T084500
END:VEVENT
BEGIN:VEVENT
DTEND:20251014T134500
UID:69e91c504fe93
DTSTAMP:20260422T190656
LOCATION:Aula 3A San Giobbe
SUMMARY:STRUMENTI OPERATIVI PER LE DECISIONI DI MARKETING [ET0065] - Checchinato Francesca\, Lezione
URL;VALUE=URI://www.unive.it/data/insegnamento/463805
DTSTART:20251014T121500
END:VEVENT
BEGIN:VEVENT
DTEND:20251015T171500
UID:69e91c504fedf
DTSTAMP:20260422T190656
LOCATION:Aula 3A San Giobbe
SUMMARY:STRUMENTI OPERATIVI PER LE DECISIONI DI MARKETING [ET0065] - Checchinato Francesca\, Lezione
URL;VALUE=URI://www.unive.it/data/insegnamento/463805
DTSTART:20251015T154500
END:VEVENT
BEGIN:VEVENT
DTEND:20251020T101500
UID:69e91c504ff2b
DTSTAMP:20260422T190656
LOCATION:Aula 3A San Giobbe
SUMMARY:STRUMENTI OPERATIVI PER LE DECISIONI DI MARKETING [ET0065] - Checchinato Francesca\, Lezione
URL;VALUE=URI://www.unive.it/data/insegnamento/463805
DTSTART:20251020T084500
END:VEVENT
BEGIN:VEVENT
DTEND:20251021T134500
UID:69e91c504ff80
DTSTAMP:20260422T190656
LOCATION:Aula 3A San Giobbe
SUMMARY:STRUMENTI OPERATIVI PER LE DECISIONI DI MARKETING [ET0065] - Checchinato Francesca\, Lezione
URL;VALUE=URI://www.unive.it/data/insegnamento/463805
DTSTART:20251021T121500
END:VEVENT
BEGIN:VEVENT
DTEND:20251022T171500
UID:69e91c504ffd4
DTSTAMP:20260422T190656
LOCATION:Aula 3A San Giobbe
SUMMARY:STRUMENTI OPERATIVI PER LE DECISIONI DI MARKETING [ET0065] - Checchinato Francesca\, Lezione
URL;VALUE=URI://www.unive.it/data/insegnamento/463805
DTSTART:20251022T154500
END:VEVENT
BEGIN:VEVENT
DTEND:20251027T101500
UID:69e91c5050020
DTSTAMP:20260422T190656
LOCATION:Aula 3A San Giobbe
SUMMARY:STRUMENTI OPERATIVI PER LE DECISIONI DI MARKETING [ET0065] - Checchinato Francesca\, Lezione
URL;VALUE=URI://www.unive.it/data/insegnamento/463805
DTSTART:20251027T084500
END:VEVENT
BEGIN:VEVENT
DTEND:20251028T134500
UID:69e91c505006c
DTSTAMP:20260422T190656
LOCATION:Aula 3A San Giobbe
SUMMARY:STRUMENTI OPERATIVI PER LE DECISIONI DI MARKETING [ET0065] - Checchinato Francesca\, Lezione
URL;VALUE=URI://www.unive.it/data/insegnamento/463805
DTSTART:20251028T121500
END:VEVENT
BEGIN:VEVENT
DTEND:20251029T171500
UID:69e91c50500b8
DTSTAMP:20260422T190656
LOCATION:Aula 3A San Giobbe
SUMMARY:STRUMENTI OPERATIVI PER LE DECISIONI DI MARKETING [ET0065] - Checchinato Francesca\, Lezione
URL;VALUE=URI://www.unive.it/data/insegnamento/463805
DTSTART:20251029T154500
END:VEVENT
END:VCALENDAR