BEGIN:VCALENDAR
VERSION:2.0
PRODID:-//hacksw/handcal//NONSGML v1.0//EN
CALSCALE:GREGORIAN
X-WR-CALNAME:LINGUA CINESE 3 MOD. 2 [LT009I]
DESCRIPTION:LINGUA CINESE 3 MOD. 2 [LT009I]
REFRESH-INTERVAL;VALUE=DURATION:P1D
X-WR-TIMEZONE:Europe/Rome
BEGIN:VEVENT
DTEND:20260223T120000
UID:69e4cef247d16
DTSTAMP:20260419T124746
LOCATION:Aula 1L Polo didattico San Basilio (Magazzino 4)
SUMMARY:LINGUA CINESE 3 MOD. 2 [LT009I] - PASSI Federica\, Lezione
URL;VALUE=URI://www.unive.it/data/insegnamento/466732
DTSTART:20260223T103000
END:VEVENT
BEGIN:VEVENT
DTEND:20260302T120000
UID:69e4cef247dab
DTSTAMP:20260419T124746
LOCATION:Aula 1L Polo didattico San Basilio (Magazzino 4)
SUMMARY:LINGUA CINESE 3 MOD. 2 [LT009I] - PASSI Federica\, Lezione
URL;VALUE=URI://www.unive.it/data/insegnamento/466732
DTSTART:20260302T103000
END:VEVENT
BEGIN:VEVENT
DTEND:20260309T120000
UID:69e4cef247dfe
DTSTAMP:20260419T124746
LOCATION:Aula 1L Polo didattico San Basilio (Magazzino 4)
SUMMARY:LINGUA CINESE 3 MOD. 2 [LT009I] - PASSI Federica\, Lezione
URL;VALUE=URI://www.unive.it/data/insegnamento/466732
DTSTART:20260309T103000
END:VEVENT
BEGIN:VEVENT
DTEND:20260316T120000
UID:69e4cef247e50
DTSTAMP:20260419T124746
LOCATION:Aula 1L Polo didattico San Basilio (Magazzino 4)
SUMMARY:LINGUA CINESE 3 MOD. 2 [LT009I] - PASSI Federica\, Lezione
URL;VALUE=URI://www.unive.it/data/insegnamento/466732
DTSTART:20260316T103000
END:VEVENT
BEGIN:VEVENT
DTEND:20260323T120000
UID:69e4cef247e99
DTSTAMP:20260419T124746
LOCATION:Aula 1L Polo didattico San Basilio (Magazzino 4)
SUMMARY:LINGUA CINESE 3 MOD. 2 [LT009I] - PASSI Federica\, Lezione
URL;VALUE=URI://www.unive.it/data/insegnamento/466732
DTSTART:20260323T103000
END:VEVENT
BEGIN:VEVENT
DTEND:20260330T120000
UID:69e4cef247ee5
DTSTAMP:20260419T124746
LOCATION:Aula 1L Polo didattico San Basilio (Magazzino 4)
SUMMARY:LINGUA CINESE 3 MOD. 2 [LT009I] - PASSI Federica\, Lezione
URL;VALUE=URI://www.unive.it/data/insegnamento/466732
DTSTART:20260330T103000
END:VEVENT
BEGIN:VEVENT
DTEND:20260420T120000
UID:69e4cef247f2f
DTSTAMP:20260419T124746
LOCATION:Aula 1L Polo didattico San Basilio (Magazzino 4)
SUMMARY:LINGUA CINESE 3 MOD. 2 [LT009I] - PASSI Federica\, Lezione
URL;VALUE=URI://www.unive.it/data/insegnamento/466732
DTSTART:20260420T103000
END:VEVENT
BEGIN:VEVENT
DTEND:20260427T120000
UID:69e4cef247f7a
DTSTAMP:20260419T124746
LOCATION:Aula 1L Polo didattico San Basilio (Magazzino 4)
SUMMARY:LINGUA CINESE 3 MOD. 2 [LT009I] - PASSI Federica\, Lezione
URL;VALUE=URI://www.unive.it/data/insegnamento/466732
DTSTART:20260427T103000
END:VEVENT
BEGIN:VEVENT
DTEND:20260504T120000
UID:69e4cef247fc7
DTSTAMP:20260419T124746
LOCATION:Aula 1L Polo didattico San Basilio (Magazzino 4)
SUMMARY:LINGUA CINESE 3 MOD. 2 [LT009I] - PASSI Federica\, Lezione
URL;VALUE=URI://www.unive.it/data/insegnamento/466732
DTSTART:20260504T103000
END:VEVENT
BEGIN:VEVENT
DTEND:20260511T120000
UID:69e4cef248011
DTSTAMP:20260419T124746
LOCATION:Aula 1L Polo didattico San Basilio (Magazzino 4)
SUMMARY:LINGUA CINESE 3 MOD. 2 [LT009I] - PASSI Federica\, Lezione
URL;VALUE=URI://www.unive.it/data/insegnamento/466732
DTSTART:20260511T103000
END:VEVENT
BEGIN:VEVENT
DTEND:20260518T120000
UID:69e4cef24805c
DTSTAMP:20260419T124746
LOCATION:Aula 1L Polo didattico San Basilio (Magazzino 4)
SUMMARY:LINGUA CINESE 3 MOD. 2 [LT009I] - PASSI Federica\, Lezione
URL;VALUE=URI://www.unive.it/data/insegnamento/466732
DTSTART:20260518T103000
END:VEVENT
BEGIN:VEVENT
DTEND:20260525T120000
UID:69e4cef2480a9
DTSTAMP:20260419T124746
LOCATION:Aula 1L Polo didattico San Basilio (Magazzino 4)
SUMMARY:LINGUA CINESE 3 MOD. 2 [LT009I] - PASSI Federica\, Lezione
URL;VALUE=URI://www.unive.it/data/insegnamento/466732
DTSTART:20260525T103000
END:VEVENT
END:VCALENDAR