BEGIN:VCALENDAR
VERSION:2.0
PRODID:-//hacksw/handcal//NONSGML v1.0//EN
CALSCALE:GREGORIAN
X-WR-CALNAME:ESERCITAZIONI DI LINGUA URDU 1 MOD.2A [LT0U10]
DESCRIPTION:ESERCITAZIONI DI LINGUA URDU 1 MOD.2A [LT0U10]
REFRESH-INTERVAL;VALUE=DURATION:P1D
X-WR-TIMEZONE:Europe/Rome
BEGIN:VEVENT
DTEND:20260324T171500
UID:69e9121953b68
DTSTAMP:20260422T182321
LOCATION:Aula C Ca' Cappello
SUMMARY:ESERCITAZIONI DI LINGUA URDU 1 MOD.2A [LT0U10] - MEDHEKAR Shyama\, Lezione
URL;VALUE=URI://www.unive.it/data/insegnamento/502955
DTSTART:20260324T154500
END:VEVENT
BEGIN:VEVENT
DTEND:20260331T171500
UID:69e9121953bfe
DTSTAMP:20260422T182321
LOCATION:Aula C Ca' Cappello
SUMMARY:ESERCITAZIONI DI LINGUA URDU 1 MOD.2A [LT0U10] - MEDHEKAR Shyama\, Lezione
URL;VALUE=URI://www.unive.it/data/insegnamento/502955
DTSTART:20260331T154500
END:VEVENT
BEGIN:VEVENT
DTEND:20260407T171500
UID:69e9121953c51
DTSTAMP:20260422T182321
LOCATION:Aula C Ca' Cappello
SUMMARY:ESERCITAZIONI DI LINGUA URDU 1 MOD.2A [LT0U10] - MEDHEKAR Shyama\, Lezione
URL;VALUE=URI://www.unive.it/data/insegnamento/502955
DTSTART:20260407T154500
END:VEVENT
BEGIN:VEVENT
DTEND:20260414T171500
UID:69e9121953ca0
DTSTAMP:20260422T182321
LOCATION:Aula C Ca' Cappello
SUMMARY:ESERCITAZIONI DI LINGUA URDU 1 MOD.2A [LT0U10] - MEDHEKAR Shyama\, Lezione
URL;VALUE=URI://www.unive.it/data/insegnamento/502955
DTSTART:20260414T154500
END:VEVENT
BEGIN:VEVENT
DTEND:20260423T171500
UID:69e9121953ced
DTSTAMP:20260422T182321
LOCATION:Aula C Ca' Cappello
SUMMARY:ESERCITAZIONI DI LINGUA URDU 1 MOD.2A [LT0U10] - MEDHEKAR Shyama\, Lezione
URL;VALUE=URI://www.unive.it/data/insegnamento/502955
DTSTART:20260423T154500
END:VEVENT
BEGIN:VEVENT
DTEND:20260430T171500
UID:69e9121953d39
DTSTAMP:20260422T182321
LOCATION:Aula C Ca' Cappello
SUMMARY:ESERCITAZIONI DI LINGUA URDU 1 MOD.2A [LT0U10] - MEDHEKAR Shyama\, Lezione
URL;VALUE=URI://www.unive.it/data/insegnamento/502955
DTSTART:20260430T154500
END:VEVENT
BEGIN:VEVENT
DTEND:20260507T171500
UID:69e9121953d83
DTSTAMP:20260422T182321
LOCATION:Aula C Ca' Cappello
SUMMARY:ESERCITAZIONI DI LINGUA URDU 1 MOD.2A [LT0U10] - MEDHEKAR Shyama\, Lezione
URL;VALUE=URI://www.unive.it/data/insegnamento/502955
DTSTART:20260507T154500
END:VEVENT
BEGIN:VEVENT
DTEND:20260514T171500
UID:69e9121953dce
DTSTAMP:20260422T182321
LOCATION:Aula C Ca' Cappello
SUMMARY:ESERCITAZIONI DI LINGUA URDU 1 MOD.2A [LT0U10] - MEDHEKAR Shyama\, Lezione
URL;VALUE=URI://www.unive.it/data/insegnamento/502955
DTSTART:20260514T154500
END:VEVENT
BEGIN:VEVENT
DTEND:20260521T171500
UID:69e9121953e01
DTSTAMP:20260422T182321
LOCATION:Aula C Ca' Cappello
SUMMARY:ESERCITAZIONI DI LINGUA URDU 1 MOD.2A [LT0U10] - MEDHEKAR Shyama\, Lezione
URL;VALUE=URI://www.unive.it/data/insegnamento/502955
DTSTART:20260521T154500
END:VEVENT
BEGIN:VEVENT
DTEND:20260528T171500
UID:69e9121953e4b
DTSTAMP:20260422T182321
LOCATION:Aula C Ca' Cappello
SUMMARY:ESERCITAZIONI DI LINGUA URDU 1 MOD.2A [LT0U10] - MEDHEKAR Shyama\, Lezione
URL;VALUE=URI://www.unive.it/data/insegnamento/502955
DTSTART:20260528T154500
END:VEVENT
END:VCALENDAR