BEGIN:VCALENDAR
VERSION:2.0
PRODID:-//hacksw/handcal//NONSGML v1.0//EN
CALSCALE:GREGORIAN
X-WR-CALNAME:LINGUA CINESE MOD. 1 [LT005I]
DESCRIPTION:LINGUA CINESE MOD. 1 [LT005I]
REFRESH-INTERVAL;VALUE=DURATION:P1D
X-WR-TIMEZONE:Europe/Rome
BEGIN:VEVENT
DTEND:20250924T190000
UID:69e7dc54e766d
DTSTAMP:20260421T202140
LOCATION:Aula nuova Santa Marta
SUMMARY:LINGUA CINESE MOD. 1 [LT005I] - LIU HAOMING\, Lezione
URL;VALUE=URI://www.unive.it/data/insegnamento/503162
DTSTART:20250924T173000
END:VEVENT
BEGIN:VEVENT
DTEND:20251001T190000
UID:69e7dc54e770a
DTSTAMP:20260421T202140
LOCATION:Aula nuova Santa Marta
SUMMARY:LINGUA CINESE MOD. 1 [LT005I] - LIU HAOMING\, Lezione
URL;VALUE=URI://www.unive.it/data/insegnamento/503162
DTSTART:20251001T173000
END:VEVENT
BEGIN:VEVENT
DTEND:20251008T190000
UID:69e7dc54e7764
DTSTAMP:20260421T202140
LOCATION:Aula nuova Santa Marta
SUMMARY:LINGUA CINESE MOD. 1 [LT005I] - LIU HAOMING\, Lezione
URL;VALUE=URI://www.unive.it/data/insegnamento/503162
DTSTART:20251008T173000
END:VEVENT
BEGIN:VEVENT
DTEND:20251015T190000
UID:69e7dc54e77b4
DTSTAMP:20260421T202140
LOCATION:Aula nuova Santa Marta
SUMMARY:LINGUA CINESE MOD. 1 [LT005I] - LIU HAOMING\, Lezione
URL;VALUE=URI://www.unive.it/data/insegnamento/503162
DTSTART:20251015T173000
END:VEVENT
BEGIN:VEVENT
DTEND:20251022T190000
UID:69e7dc54e7804
DTSTAMP:20260421T202140
LOCATION:Aula nuova Santa Marta
SUMMARY:LINGUA CINESE MOD. 1 [LT005I] - LIU HAOMING\, Lezione
URL;VALUE=URI://www.unive.it/data/insegnamento/503162
DTSTART:20251022T173000
END:VEVENT
BEGIN:VEVENT
DTEND:20251029T190000
UID:69e7dc54e7850
DTSTAMP:20260421T202140
LOCATION:Aula nuova Santa Marta
SUMMARY:LINGUA CINESE MOD. 1 [LT005I] - LIU HAOMING\, Lezione
URL;VALUE=URI://www.unive.it/data/insegnamento/503162
DTSTART:20251029T173000
END:VEVENT
BEGIN:VEVENT
DTEND:20251105T190000
UID:69e7dc54e789b
DTSTAMP:20260421T202140
LOCATION:Aula nuova Santa Marta
SUMMARY:LINGUA CINESE MOD. 1 [LT005I] - LIU HAOMING\, Lezione
URL;VALUE=URI://www.unive.it/data/insegnamento/503162
DTSTART:20251105T173000
END:VEVENT
BEGIN:VEVENT
DTEND:20251112T190000
UID:69e7dc54e78e5
DTSTAMP:20260421T202140
LOCATION:Aula nuova Santa Marta
SUMMARY:LINGUA CINESE MOD. 1 [LT005I] - LIU HAOMING\, Lezione
URL;VALUE=URI://www.unive.it/data/insegnamento/503162
DTSTART:20251112T173000
END:VEVENT
BEGIN:VEVENT
DTEND:20251119T190000
UID:69e7dc54e7931
DTSTAMP:20260421T202140
LOCATION:Aula nuova Santa Marta
SUMMARY:LINGUA CINESE MOD. 1 [LT005I] - LIU HAOMING\, Lezione
URL;VALUE=URI://www.unive.it/data/insegnamento/503162
DTSTART:20251119T173000
END:VEVENT
BEGIN:VEVENT
DTEND:20251126T190000
UID:69e7dc54e7986
DTSTAMP:20260421T202140
LOCATION:Aula nuova Santa Marta
SUMMARY:LINGUA CINESE MOD. 1 [LT005I] - LIU HAOMING\, Lezione
URL;VALUE=URI://www.unive.it/data/insegnamento/503162
DTSTART:20251126T173000
END:VEVENT
BEGIN:VEVENT
DTEND:20251203T190000
UID:69e7dc54e79d0
DTSTAMP:20260421T202140
LOCATION:Aula nuova Santa Marta
SUMMARY:LINGUA CINESE MOD. 1 [LT005I] - LIU HAOMING\, Lezione
URL;VALUE=URI://www.unive.it/data/insegnamento/503162
DTSTART:20251203T173000
END:VEVENT
BEGIN:VEVENT
DTEND:20251210T190000
UID:69e7dc54e7a1a
DTSTAMP:20260421T202140
LOCATION:Aula nuova Santa Marta
SUMMARY:LINGUA CINESE MOD. 1 [LT005I] - LIU HAOMING\, Lezione
URL;VALUE=URI://www.unive.it/data/insegnamento/503162
DTSTART:20251210T173000
END:VEVENT
BEGIN:VEVENT
DTEND:20251217T190000
UID:69e7dc54e7a64
DTSTAMP:20260421T202140
LOCATION:Aula nuova Santa Marta
SUMMARY:LINGUA CINESE MOD. 1 [LT005I] - LIU HAOMING\, Lezione
URL;VALUE=URI://www.unive.it/data/insegnamento/503162
DTSTART:20251217T173000
END:VEVENT
BEGIN:VEVENT
DTEND:20260114T190000
UID:69e7dc54e7aad
DTSTAMP:20260421T202140
LOCATION:Aula nuova Santa Marta
SUMMARY:LINGUA CINESE MOD. 1 [LT005I] - LIU HAOMING\, Lezione
URL;VALUE=URI://www.unive.it/data/insegnamento/503162
DTSTART:20260114T173000
END:VEVENT
BEGIN:VEVENT
DTEND:20260121T190000
UID:69e7dc54e7af7
DTSTAMP:20260421T202140
LOCATION:Aula nuova Santa Marta
SUMMARY:LINGUA CINESE MOD. 1 [LT005I] - LIU HAOMING\, Lezione
URL;VALUE=URI://www.unive.it/data/insegnamento/503162
DTSTART:20260121T173000
END:VEVENT
END:VCALENDAR