BEGIN:VCALENDAR
VERSION:2.0
PRODID:-//hacksw/handcal//NONSGML v1.0//EN
CALSCALE:GREGORIAN
X-WR-CALNAME:POLICY EVALUATION [EM1420]
DESCRIPTION:POLICY EVALUATION [EM1420]
REFRESH-INTERVAL;VALUE=DURATION:P1D
X-WR-TIMEZONE:Europe/Rome
BEGIN:VEVENT
DTEND:20250922T153000
UID:69e96bd7a4276
DTSTAMP:20260423T004615
LOCATION:Aula 0C Palazzo Moro
SUMMARY:POLICY EVALUATION [EM1420] - PASINI Giacomo\, Lezione
URL;VALUE=URI://www.unive.it/data/insegnamento/506451
DTSTART:20250922T140000
END:VEVENT
BEGIN:VEVENT
DTEND:20250923T120000
UID:69e96bd7a4340
DTSTAMP:20260423T004615
LOCATION:Aula 0C Palazzo Moro
SUMMARY:POLICY EVALUATION [EM1420] - PASINI Giacomo\, Lezione
URL;VALUE=URI://www.unive.it/data/insegnamento/506451
DTSTART:20250923T103000
END:VEVENT
BEGIN:VEVENT
DTEND:20250924T120000
UID:69e96bd7a4396
DTSTAMP:20260423T004615
LOCATION:Aula 0C Palazzo Moro
SUMMARY:POLICY EVALUATION [EM1420] - PASINI Giacomo\, Lezione
URL;VALUE=URI://www.unive.it/data/insegnamento/506451
DTSTART:20250924T103000
END:VEVENT
BEGIN:VEVENT
DTEND:20250929T153000
UID:69e96bd7a43eb
DTSTAMP:20260423T004615
LOCATION:Aula 0C Palazzo Moro
SUMMARY:POLICY EVALUATION [EM1420] - PASINI Giacomo\, Lezione
URL;VALUE=URI://www.unive.it/data/insegnamento/506451
DTSTART:20250929T140000
END:VEVENT
BEGIN:VEVENT
DTEND:20250930T120000
UID:69e96bd7a4440
DTSTAMP:20260423T004615
LOCATION:Aula 0C Palazzo Moro
SUMMARY:POLICY EVALUATION [EM1420] - PASINI Giacomo\, Lezione
URL;VALUE=URI://www.unive.it/data/insegnamento/506451
DTSTART:20250930T103000
END:VEVENT
BEGIN:VEVENT
DTEND:20251001T120000
UID:69e96bd7a4495
DTSTAMP:20260423T004615
LOCATION:Aula 0C Palazzo Moro
SUMMARY:POLICY EVALUATION [EM1420] - PASINI Giacomo\, Lezione
URL;VALUE=URI://www.unive.it/data/insegnamento/506451
DTSTART:20251001T103000
END:VEVENT
BEGIN:VEVENT
DTEND:20251006T153000
UID:69e96bd7a44ea
DTSTAMP:20260423T004615
LOCATION:Aula 0C Palazzo Moro
SUMMARY:POLICY EVALUATION [EM1420] - PASINI Giacomo\, Lezione
URL;VALUE=URI://www.unive.it/data/insegnamento/506451
DTSTART:20251006T140000
END:VEVENT
BEGIN:VEVENT
DTEND:20251007T120000
UID:69e96bd7a453f
DTSTAMP:20260423T004615
LOCATION:Aula 0C Palazzo Moro
SUMMARY:POLICY EVALUATION [EM1420] - PASINI Giacomo\, Lezione
URL;VALUE=URI://www.unive.it/data/insegnamento/506451
DTSTART:20251007T103000
END:VEVENT
BEGIN:VEVENT
DTEND:20251008T120000
UID:69e96bd7a4593
DTSTAMP:20260423T004615
LOCATION:Aula 0C Palazzo Moro
SUMMARY:POLICY EVALUATION [EM1420] - PASINI Giacomo\, Lezione
URL;VALUE=URI://www.unive.it/data/insegnamento/506451
DTSTART:20251008T103000
END:VEVENT
BEGIN:VEVENT
DTEND:20251013T153000
UID:69e96bd7a45e8
DTSTAMP:20260423T004615
LOCATION:Aula 0C Palazzo Moro
SUMMARY:POLICY EVALUATION [EM1420] - PASINI Giacomo\, Lezione
URL;VALUE=URI://www.unive.it/data/insegnamento/506451
DTSTART:20251013T140000
END:VEVENT
BEGIN:VEVENT
DTEND:20251014T120000
UID:69e96bd7a4649
DTSTAMP:20260423T004615
LOCATION:Aula 0C Palazzo Moro
SUMMARY:POLICY EVALUATION [EM1420] - PASINI Giacomo\, Lezione
URL;VALUE=URI://www.unive.it/data/insegnamento/506451
DTSTART:20251014T103000
END:VEVENT
BEGIN:VEVENT
DTEND:20251015T120000
UID:69e96bd7a46a8
DTSTAMP:20260423T004615
LOCATION:Aula 0C Palazzo Moro
SUMMARY:POLICY EVALUATION [EM1420] - PASINI Giacomo\, Lezione
URL;VALUE=URI://www.unive.it/data/insegnamento/506451
DTSTART:20251015T103000
END:VEVENT
BEGIN:VEVENT
DTEND:20251020T153000
UID:69e96bd7a4712
DTSTAMP:20260423T004615
LOCATION:Aula 0C Palazzo Moro
SUMMARY:POLICY EVALUATION [EM1420] - PASINI Giacomo\, Lezione
URL;VALUE=URI://www.unive.it/data/insegnamento/506451
DTSTART:20251020T140000
END:VEVENT
BEGIN:VEVENT
DTEND:20251021T120000
UID:69e96bd7a4795
DTSTAMP:20260423T004615
LOCATION:Aula 0C Palazzo Moro
SUMMARY:POLICY EVALUATION [EM1420] - PASINI Giacomo\, Lezione
URL;VALUE=URI://www.unive.it/data/insegnamento/506451
DTSTART:20251021T103000
END:VEVENT
BEGIN:VEVENT
DTEND:20251027T153000
UID:69e96bd7a47f6
DTSTAMP:20260423T004615
LOCATION:Aula 0C Palazzo Moro
SUMMARY:POLICY EVALUATION [EM1420] - PASINI Giacomo\, Lezione
URL;VALUE=URI://www.unive.it/data/insegnamento/506451
DTSTART:20251027T140000
END:VEVENT
BEGIN:VEVENT
DTEND:20251029T120000
UID:69e96bd7a4851
DTSTAMP:20260423T004615
LOCATION:Aula 0C Palazzo Moro
SUMMARY:POLICY EVALUATION [EM1420] - PASINI Giacomo\, Lezione
URL;VALUE=URI://www.unive.it/data/insegnamento/506451
DTSTART:20251029T103000
END:VEVENT
END:VCALENDAR