BEGIN:VCALENDAR
VERSION:2.0
PRODID:-//hacksw/handcal//NONSGML v1.0//EN
CALSCALE:GREGORIAN
X-WR-CALNAME:DATA DRIVEN COMPETITIVE STRATEGY AND TECHNOLOGY ANALYSIS [EM1418]
DESCRIPTION:DATA DRIVEN COMPETITIVE STRATEGY AND TECHNOLOGY ANALYSIS [EM1418]
REFRESH-INTERVAL;VALUE=DURATION:P1D
X-WR-TIMEZONE:Europe/Rome
BEGIN:VEVENT
DTEND:20251110T190000
UID:69e6bca555c2c
DTSTAMP:20260420T235413
LOCATION:Aula 8B San Giobbe
SUMMARY:DATA DRIVEN COMPETITIVE STRATEGY AND TECHNOLOGY ANALYSIS [EM1418] - RULLANI Francesco\, Lezione
URL;VALUE=URI://www.unive.it/data/insegnamento/506456
DTSTART:20251110T173000
END:VEVENT
BEGIN:VEVENT
DTEND:20251111T153000
UID:69e6bca555ca9
DTSTAMP:20260420T235413
LOCATION:Aula 8B San Giobbe
SUMMARY:DATA DRIVEN COMPETITIVE STRATEGY AND TECHNOLOGY ANALYSIS [EM1418] - RULLANI Francesco\, Lezione
URL;VALUE=URI://www.unive.it/data/insegnamento/506456
DTSTART:20251111T140000
END:VEVENT
BEGIN:VEVENT
DTEND:20251113T153000
UID:69e6bca555cfe
DTSTAMP:20260420T235413
LOCATION:Aula 8B San Giobbe
SUMMARY:DATA DRIVEN COMPETITIVE STRATEGY AND TECHNOLOGY ANALYSIS [EM1418] - RULLANI Francesco\, Lezione
URL;VALUE=URI://www.unive.it/data/insegnamento/506456
DTSTART:20251113T140000
END:VEVENT
BEGIN:VEVENT
DTEND:20251117T190000
UID:69e6bca555d41
DTSTAMP:20260420T235413
LOCATION:Aula 8B San Giobbe
SUMMARY:DATA DRIVEN COMPETITIVE STRATEGY AND TECHNOLOGY ANALYSIS [EM1418] - RULLANI Francesco\, Lezione
URL;VALUE=URI://www.unive.it/data/insegnamento/506456
DTSTART:20251117T173000
END:VEVENT
BEGIN:VEVENT
DTEND:20251118T153000
UID:69e6bca555d90
DTSTAMP:20260420T235413
LOCATION:Aula 8B San Giobbe
SUMMARY:DATA DRIVEN COMPETITIVE STRATEGY AND TECHNOLOGY ANALYSIS [EM1418] - RULLANI Francesco\, Lezione
URL;VALUE=URI://www.unive.it/data/insegnamento/506456
DTSTART:20251118T140000
END:VEVENT
BEGIN:VEVENT
DTEND:20251120T153000
UID:69e6bca555ddd
DTSTAMP:20260420T235413
LOCATION:Aula 8B San Giobbe
SUMMARY:DATA DRIVEN COMPETITIVE STRATEGY AND TECHNOLOGY ANALYSIS [EM1418] - RULLANI Francesco\, Lezione
URL;VALUE=URI://www.unive.it/data/insegnamento/506456
DTSTART:20251120T140000
END:VEVENT
BEGIN:VEVENT
DTEND:20251124T190000
UID:69e6bca555e29
DTSTAMP:20260420T235413
LOCATION:Aula 8B San Giobbe
SUMMARY:DATA DRIVEN COMPETITIVE STRATEGY AND TECHNOLOGY ANALYSIS [EM1418] - RULLANI Francesco\, Lezione
URL;VALUE=URI://www.unive.it/data/insegnamento/506456
DTSTART:20251124T173000
END:VEVENT
BEGIN:VEVENT
DTEND:20251125T153000
UID:69e6bca555e73
DTSTAMP:20260420T235413
LOCATION:Aula 8B San Giobbe
SUMMARY:DATA DRIVEN COMPETITIVE STRATEGY AND TECHNOLOGY ANALYSIS [EM1418] - RULLANI Francesco\, Lezione
URL;VALUE=URI://www.unive.it/data/insegnamento/506456
DTSTART:20251125T140000
END:VEVENT
BEGIN:VEVENT
DTEND:20251127T153000
UID:69e6bca555ebf
DTSTAMP:20260420T235413
LOCATION:Aula 8B San Giobbe
SUMMARY:DATA DRIVEN COMPETITIVE STRATEGY AND TECHNOLOGY ANALYSIS [EM1418] - RULLANI Francesco\, Lezione
URL;VALUE=URI://www.unive.it/data/insegnamento/506456
DTSTART:20251127T140000
END:VEVENT
BEGIN:VEVENT
DTEND:20251201T190000
UID:69e6bca555f0a
DTSTAMP:20260420T235413
LOCATION:Aula 8B San Giobbe
SUMMARY:DATA DRIVEN COMPETITIVE STRATEGY AND TECHNOLOGY ANALYSIS [EM1418] - RULLANI Francesco\, Lezione
URL;VALUE=URI://www.unive.it/data/insegnamento/506456
DTSTART:20251201T173000
END:VEVENT
BEGIN:VEVENT
DTEND:20251202T153000
UID:69e6bca555f55
DTSTAMP:20260420T235413
LOCATION:Aula 8B San Giobbe
SUMMARY:DATA DRIVEN COMPETITIVE STRATEGY AND TECHNOLOGY ANALYSIS [EM1418] - RULLANI Francesco\, Lezione
URL;VALUE=URI://www.unive.it/data/insegnamento/506456
DTSTART:20251202T140000
END:VEVENT
BEGIN:VEVENT
DTEND:20251204T153000
UID:69e6bca555fa1
DTSTAMP:20260420T235413
LOCATION:Aula 8B San Giobbe
SUMMARY:DATA DRIVEN COMPETITIVE STRATEGY AND TECHNOLOGY ANALYSIS [EM1418] - RULLANI Francesco\, Lezione
URL;VALUE=URI://www.unive.it/data/insegnamento/506456
DTSTART:20251204T140000
END:VEVENT
BEGIN:VEVENT
DTEND:20251209T153000
UID:69e6bca555ff7
DTSTAMP:20260420T235413
LOCATION:Aula 8B San Giobbe
SUMMARY:DATA DRIVEN COMPETITIVE STRATEGY AND TECHNOLOGY ANALYSIS [EM1418] - RULLANI Francesco\, Lezione
URL;VALUE=URI://www.unive.it/data/insegnamento/506456
DTSTART:20251209T140000
END:VEVENT
BEGIN:VEVENT
DTEND:20251211T153000
UID:69e6bca556042
DTSTAMP:20260420T235413
LOCATION:Aula 8B San Giobbe
SUMMARY:DATA DRIVEN COMPETITIVE STRATEGY AND TECHNOLOGY ANALYSIS [EM1418] - RULLANI Francesco\, Lezione
URL;VALUE=URI://www.unive.it/data/insegnamento/506456
DTSTART:20251211T140000
END:VEVENT
BEGIN:VEVENT
DTEND:20251215T190000
UID:69e6bca55608e
DTSTAMP:20260420T235413
LOCATION:Aula 8B San Giobbe
SUMMARY:DATA DRIVEN COMPETITIVE STRATEGY AND TECHNOLOGY ANALYSIS [EM1418] - RULLANI Francesco\, Lezione
URL;VALUE=URI://www.unive.it/data/insegnamento/506456
DTSTART:20251215T173000
END:VEVENT
BEGIN:VEVENT
DTEND:20251218T153000
UID:69e6bca5560db
DTSTAMP:20260420T235413
LOCATION:Aula 8B San Giobbe
SUMMARY:DATA DRIVEN COMPETITIVE STRATEGY AND TECHNOLOGY ANALYSIS [EM1418] - RULLANI Francesco\, Lezione
URL;VALUE=URI://www.unive.it/data/insegnamento/506456
DTSTART:20251218T140000
END:VEVENT
END:VCALENDAR