BEGIN:VCALENDAR
VERSION:2.0
PRODID:-//hacksw/handcal//NONSGML v1.0//EN
CALSCALE:GREGORIAN
X-WR-CALNAME:LAW AND ECONOMICS [EM1514]
DESCRIPTION:LAW AND ECONOMICS [EM1514]
REFRESH-INTERVAL;VALUE=DURATION:P1D
X-WR-TIMEZONE:Europe/Rome
BEGIN:VEVENT
DTEND:20260216T101500
UID:69e6d1e3ef010
DTSTAMP:20260421T012451
LOCATION:Aula 3B San Giobbe
SUMMARY:LAW AND ECONOMICS [EM1514] - Minto Andrea\, Lezione
URL;VALUE=URI://www.unive.it/data/insegnamento/506527
DTSTART:20260216T084500
END:VEVENT
BEGIN:VEVENT
DTEND:20260217T101500
UID:69e6d1e3ef093
DTSTAMP:20260421T012451
LOCATION:Aula 3B San Giobbe
SUMMARY:LAW AND ECONOMICS [EM1514] - Minto Andrea\, Lezione
URL;VALUE=URI://www.unive.it/data/insegnamento/506527
DTSTART:20260217T084500
END:VEVENT
BEGIN:VEVENT
DTEND:20260218T190000
UID:69e6d1e3ef0e1
DTSTAMP:20260421T012451
LOCATION:Aula 3B San Giobbe
SUMMARY:LAW AND ECONOMICS [EM1514] - Minto Andrea\, Lezione
URL;VALUE=URI://www.unive.it/data/insegnamento/506527
DTSTART:20260218T173000
END:VEVENT
BEGIN:VEVENT
DTEND:20260223T101500
UID:69e6d1e3ef12c
DTSTAMP:20260421T012451
LOCATION:Aula 3B San Giobbe
SUMMARY:LAW AND ECONOMICS [EM1514] - Minto Andrea\, Lezione
URL;VALUE=URI://www.unive.it/data/insegnamento/506527
DTSTART:20260223T084500
END:VEVENT
BEGIN:VEVENT
DTEND:20260224T101500
UID:69e6d1e3ef176
DTSTAMP:20260421T012451
LOCATION:Aula 3B San Giobbe
SUMMARY:LAW AND ECONOMICS [EM1514] - Minto Andrea\, Lezione
URL;VALUE=URI://www.unive.it/data/insegnamento/506527
DTSTART:20260224T084500
END:VEVENT
BEGIN:VEVENT
DTEND:20260225T190000
UID:69e6d1e3ef1c0
DTSTAMP:20260421T012451
LOCATION:Aula 3B San Giobbe
SUMMARY:LAW AND ECONOMICS [EM1514] - Minto Andrea\, Lezione
URL;VALUE=URI://www.unive.it/data/insegnamento/506527
DTSTART:20260225T173000
END:VEVENT
BEGIN:VEVENT
DTEND:20260302T101500
UID:69e6d1e3ef20a
DTSTAMP:20260421T012451
LOCATION:Aula 3B San Giobbe
SUMMARY:LAW AND ECONOMICS [EM1514] - Minto Andrea\, Lezione
URL;VALUE=URI://www.unive.it/data/insegnamento/506527
DTSTART:20260302T084500
END:VEVENT
BEGIN:VEVENT
DTEND:20260303T101500
UID:69e6d1e3ef254
DTSTAMP:20260421T012451
LOCATION:Aula 3B San Giobbe
SUMMARY:LAW AND ECONOMICS [EM1514] - Minto Andrea\, Lezione
URL;VALUE=URI://www.unive.it/data/insegnamento/506527
DTSTART:20260303T084500
END:VEVENT
BEGIN:VEVENT
DTEND:20260304T190000
UID:69e6d1e3ef2a6
DTSTAMP:20260421T012451
LOCATION:Aula 3B San Giobbe
SUMMARY:LAW AND ECONOMICS [EM1514] - Minto Andrea\, Lezione
URL;VALUE=URI://www.unive.it/data/insegnamento/506527
DTSTART:20260304T173000
END:VEVENT
BEGIN:VEVENT
DTEND:20260309T101500
UID:69e6d1e3ef2ef
DTSTAMP:20260421T012451
LOCATION:Aula 3B San Giobbe
SUMMARY:LAW AND ECONOMICS [EM1514] - Minto Andrea\, Lezione
URL;VALUE=URI://www.unive.it/data/insegnamento/506527
DTSTART:20260309T084500
END:VEVENT
BEGIN:VEVENT
DTEND:20260310T101500
UID:69e6d1e3ef338
DTSTAMP:20260421T012451
LOCATION:Aula 3B San Giobbe
SUMMARY:LAW AND ECONOMICS [EM1514] - Minto Andrea\, Lezione
URL;VALUE=URI://www.unive.it/data/insegnamento/506527
DTSTART:20260310T084500
END:VEVENT
BEGIN:VEVENT
DTEND:20260311T190000
UID:69e6d1e3ef381
DTSTAMP:20260421T012451
LOCATION:Aula 3B San Giobbe
SUMMARY:LAW AND ECONOMICS [EM1514] - Minto Andrea\, Lezione
URL;VALUE=URI://www.unive.it/data/insegnamento/506527
DTSTART:20260311T173000
END:VEVENT
BEGIN:VEVENT
DTEND:20260316T101500
UID:69e6d1e3ef3ca
DTSTAMP:20260421T012451
LOCATION:Aula 3B San Giobbe
SUMMARY:LAW AND ECONOMICS [EM1514] - Minto Andrea\, Lezione
URL;VALUE=URI://www.unive.it/data/insegnamento/506527
DTSTART:20260316T084500
END:VEVENT
BEGIN:VEVENT
DTEND:20260317T101500
UID:69e6d1e3ef412
DTSTAMP:20260421T012451
LOCATION:Aula 3B San Giobbe
SUMMARY:LAW AND ECONOMICS [EM1514] - Minto Andrea\, Lezione
URL;VALUE=URI://www.unive.it/data/insegnamento/506527
DTSTART:20260317T084500
END:VEVENT
BEGIN:VEVENT
DTEND:20260318T190000
UID:69e6d1e3ef45b
DTSTAMP:20260421T012451
LOCATION:Aula 3B San Giobbe
SUMMARY:LAW AND ECONOMICS [EM1514] - Minto Andrea\, Lezione
URL;VALUE=URI://www.unive.it/data/insegnamento/506527
DTSTART:20260318T173000
END:VEVENT
BEGIN:VEVENT
DTEND:20260323T101500
UID:69e6d1e3ef4a4
DTSTAMP:20260421T012451
LOCATION:Aula 3B San Giobbe
SUMMARY:LAW AND ECONOMICS [EM1514] - Minto Andrea\, Lezione
URL;VALUE=URI://www.unive.it/data/insegnamento/506527
DTSTART:20260323T084500
END:VEVENT
BEGIN:VEVENT
DTEND:20260324T101500
UID:69e6d1e3ef4ed
DTSTAMP:20260421T012451
LOCATION:Aula 3B San Giobbe
SUMMARY:LAW AND ECONOMICS [EM1514] - Minto Andrea\, Lezione
URL;VALUE=URI://www.unive.it/data/insegnamento/506527
DTSTART:20260324T084500
END:VEVENT
BEGIN:VEVENT
DTEND:20260325T190000
UID:69e6d1e3ef53b
DTSTAMP:20260421T012451
LOCATION:Aula 3B San Giobbe
SUMMARY:LAW AND ECONOMICS [EM1514] - Minto Andrea\, Lezione
URL;VALUE=URI://www.unive.it/data/insegnamento/506527
DTSTART:20260325T173000
END:VEVENT
END:VCALENDAR