BEGIN:VCALENDAR
VERSION:2.0
PRODID:-//hacksw/handcal//NONSGML v1.0//EN
CALSCALE:GREGORIAN
X-WR-CALNAME:COMPUTATIONAL FINANCE LAB [EM2082]
DESCRIPTION:COMPUTATIONAL FINANCE LAB [EM2082]
REFRESH-INTERVAL;VALUE=DURATION:P1D
X-WR-TIMEZONE:Europe/Rome
BEGIN:VEVENT
DTEND:20251110T153000
UID:69e6eba628f18
DTSTAMP:20260421T031446
LOCATION:Aula 3B San Giobbe
SUMMARY:COMPUTATIONAL FINANCE LAB [EM2082] - BASSO Antonella\, Lezione
URL;VALUE=URI://www.unive.it/data/insegnamento/506559
DTSTART:20251110T140000
END:VEVENT
BEGIN:VEVENT
DTEND:20251111T134500
UID:69e6eba628f95
DTSTAMP:20260421T031446
LOCATION:Aula 4A San Giobbe
SUMMARY:COMPUTATIONAL FINANCE LAB [EM2082] - BASSO Antonella\, Lezione
URL;VALUE=URI://www.unive.it/data/insegnamento/506559
DTSTART:20251111T121500
END:VEVENT
BEGIN:VEVENT
DTEND:20251112T153000
UID:69e6eba628fe8
DTSTAMP:20260421T031446
LOCATION:Aula 9C San Giobbe
SUMMARY:COMPUTATIONAL FINANCE LAB [EM2082] - BASSO Antonella\, Lezione
URL;VALUE=URI://www.unive.it/data/insegnamento/506559
DTSTART:20251112T140000
END:VEVENT
BEGIN:VEVENT
DTEND:20251117T153000
UID:69e6eba629037
DTSTAMP:20260421T031446
LOCATION:Aula 3B San Giobbe
SUMMARY:COMPUTATIONAL FINANCE LAB [EM2082] - BASSO Antonella\, Lezione
URL;VALUE=URI://www.unive.it/data/insegnamento/506559
DTSTART:20251117T140000
END:VEVENT
BEGIN:VEVENT
DTEND:20251118T134500
UID:69e6eba629082
DTSTAMP:20260421T031446
LOCATION:Aula 4A San Giobbe
SUMMARY:COMPUTATIONAL FINANCE LAB [EM2082] - BASSO Antonella\, Lezione
URL;VALUE=URI://www.unive.it/data/insegnamento/506559
DTSTART:20251118T121500
END:VEVENT
BEGIN:VEVENT
DTEND:20251119T153000
UID:69e6eba6290cd
DTSTAMP:20260421T031446
LOCATION:Aula 9C San Giobbe
SUMMARY:COMPUTATIONAL FINANCE LAB [EM2082] - BASSO Antonella\, Lezione
URL;VALUE=URI://www.unive.it/data/insegnamento/506559
DTSTART:20251119T140000
END:VEVENT
BEGIN:VEVENT
DTEND:20251124T153000
UID:69e6eba629117
DTSTAMP:20260421T031446
LOCATION:Aula 3B San Giobbe
SUMMARY:COMPUTATIONAL FINANCE LAB [EM2082] - BASSO Antonella\, Lezione
URL;VALUE=URI://www.unive.it/data/insegnamento/506559
DTSTART:20251124T140000
END:VEVENT
BEGIN:VEVENT
DTEND:20251125T134500
UID:69e6eba629161
DTSTAMP:20260421T031446
LOCATION:Aula 4A San Giobbe
SUMMARY:COMPUTATIONAL FINANCE LAB [EM2082] - BASSO Antonella\, Lezione
URL;VALUE=URI://www.unive.it/data/insegnamento/506559
DTSTART:20251125T121500
END:VEVENT
BEGIN:VEVENT
DTEND:20251126T153000
UID:69e6eba6291ab
DTSTAMP:20260421T031446
LOCATION:Aula 9C San Giobbe
SUMMARY:COMPUTATIONAL FINANCE LAB [EM2082] - BASSO Antonella\, Lezione
URL;VALUE=URI://www.unive.it/data/insegnamento/506559
DTSTART:20251126T140000
END:VEVENT
BEGIN:VEVENT
DTEND:20251201T153000
UID:69e6eba6291f5
DTSTAMP:20260421T031446
LOCATION:Aula 3B San Giobbe
SUMMARY:COMPUTATIONAL FINANCE LAB [EM2082] - BASSO Antonella\, Lezione
URL;VALUE=URI://www.unive.it/data/insegnamento/506559
DTSTART:20251201T140000
END:VEVENT
BEGIN:VEVENT
DTEND:20251202T134500
UID:69e6eba62923f
DTSTAMP:20260421T031446
LOCATION:Aula 4A San Giobbe
SUMMARY:COMPUTATIONAL FINANCE LAB [EM2082] - BASSO Antonella\, Lezione
URL;VALUE=URI://www.unive.it/data/insegnamento/506559
DTSTART:20251202T121500
END:VEVENT
BEGIN:VEVENT
DTEND:20251203T153000
UID:69e6eba629268
DTSTAMP:20260421T031446
LOCATION:Aula 9C San Giobbe
SUMMARY:COMPUTATIONAL FINANCE LAB [EM2082] - BASSO Antonella\, Lezione
URL;VALUE=URI://www.unive.it/data/insegnamento/506559
DTSTART:20251203T140000
END:VEVENT
BEGIN:VEVENT
DTEND:20251209T134500
UID:69e6eba6292b3
DTSTAMP:20260421T031446
LOCATION:Aula 4A San Giobbe
SUMMARY:COMPUTATIONAL FINANCE LAB [EM2082] - BASSO Antonella\, Lezione
URL;VALUE=URI://www.unive.it/data/insegnamento/506559
DTSTART:20251209T121500
END:VEVENT
BEGIN:VEVENT
DTEND:20251210T153000
UID:69e6eba6292fe
DTSTAMP:20260421T031446
LOCATION:Aula 9C San Giobbe
SUMMARY:COMPUTATIONAL FINANCE LAB [EM2082] - BASSO Antonella\, Lezione
URL;VALUE=URI://www.unive.it/data/insegnamento/506559
DTSTART:20251210T140000
END:VEVENT
BEGIN:VEVENT
DTEND:20251215T153000
UID:69e6eba629348
DTSTAMP:20260421T031446
LOCATION:Aula 3B San Giobbe
SUMMARY:COMPUTATIONAL FINANCE LAB [EM2082] - BASSO Antonella\, Lezione
URL;VALUE=URI://www.unive.it/data/insegnamento/506559
DTSTART:20251215T140000
END:VEVENT
BEGIN:VEVENT
DTEND:20251216T134500
UID:69e6eba629392
DTSTAMP:20260421T031446
LOCATION:Aula 4A San Giobbe
SUMMARY:COMPUTATIONAL FINANCE LAB [EM2082] - BASSO Antonella\, Lezione
URL;VALUE=URI://www.unive.it/data/insegnamento/506559
DTSTART:20251216T121500
END:VEVENT
BEGIN:VEVENT
DTEND:20251217T153000
UID:69e6eba6293e4
DTSTAMP:20260421T031446
LOCATION:Aula 9C San Giobbe
SUMMARY:COMPUTATIONAL FINANCE LAB [EM2082] - BASSO Antonella\, Lezione
URL;VALUE=URI://www.unive.it/data/insegnamento/506559
DTSTART:20251217T140000
END:VEVENT
END:VCALENDAR