BEGIN:VCALENDAR
VERSION:2.0
PRODID:-//hacksw/handcal//NONSGML v1.0//EN
CALSCALE:GREGORIAN
X-WR-CALNAME:DIRITTO DELLE ASSICURAZIONI PRIVATE [EM5001]
DESCRIPTION:DIRITTO DELLE ASSICURAZIONI PRIVATE [EM5001]
REFRESH-INTERVAL;VALUE=DURATION:P1D
X-WR-TIMEZONE:Europe/Rome
BEGIN:VEVENT
DTEND:20260409T190000
UID:69e54226d11c2
DTSTAMP:20260419T205918
LOCATION:Aula 4A San Giobbe
SUMMARY:DIRITTO DELLE ASSICURAZIONI PRIVATE [EM5001] - CORVESE Ciro Gennaro\, Lezione
URL;VALUE=URI://www.unive.it/data/insegnamento/506586
DTSTART:20260409T173000
END:VEVENT
BEGIN:VEVENT
DTEND:20260410T101500
UID:69e54226d125a
DTSTAMP:20260419T205918
LOCATION:Aula 4A San Giobbe
SUMMARY:DIRITTO DELLE ASSICURAZIONI PRIVATE [EM5001] - CORVESE Ciro Gennaro\, Lezione
URL;VALUE=URI://www.unive.it/data/insegnamento/506586
DTSTART:20260410T084500
END:VEVENT
BEGIN:VEVENT
DTEND:20260410T134500
UID:69e54226d12ad
DTSTAMP:20260419T205918
LOCATION:Aula 9A San Giobbe
SUMMARY:DIRITTO DELLE ASSICURAZIONI PRIVATE [EM5001] - CORVESE Ciro Gennaro\, Lezione
URL;VALUE=URI://www.unive.it/data/insegnamento/506586
DTSTART:20260410T121500
END:VEVENT
BEGIN:VEVENT
DTEND:20260416T190000
UID:69e54226d12fd
DTSTAMP:20260419T205918
LOCATION:Aula 4A San Giobbe
SUMMARY:DIRITTO DELLE ASSICURAZIONI PRIVATE [EM5001] - CORVESE Ciro Gennaro\, Lezione
URL;VALUE=URI://www.unive.it/data/insegnamento/506586
DTSTART:20260416T173000
END:VEVENT
BEGIN:VEVENT
DTEND:20260417T101500
UID:69e54226d1354
DTSTAMP:20260419T205918
LOCATION:Aula 4A San Giobbe
SUMMARY:DIRITTO DELLE ASSICURAZIONI PRIVATE [EM5001] - CORVESE Ciro Gennaro\, Lezione
URL;VALUE=URI://www.unive.it/data/insegnamento/506586
DTSTART:20260417T084500
END:VEVENT
BEGIN:VEVENT
DTEND:20260417T134500
UID:69e54226d13aa
DTSTAMP:20260419T205918
LOCATION:Aula 9A San Giobbe
SUMMARY:DIRITTO DELLE ASSICURAZIONI PRIVATE [EM5001] - CORVESE Ciro Gennaro\, Lezione
URL;VALUE=URI://www.unive.it/data/insegnamento/506586
DTSTART:20260417T121500
END:VEVENT
BEGIN:VEVENT
DTEND:20260423T190000
UID:69e54226d1402
DTSTAMP:20260419T205918
LOCATION:Aula 4A San Giobbe
SUMMARY:DIRITTO DELLE ASSICURAZIONI PRIVATE [EM5001] - CORVESE Ciro Gennaro\, Lezione
URL;VALUE=URI://www.unive.it/data/insegnamento/506586
DTSTART:20260423T173000
END:VEVENT
BEGIN:VEVENT
DTEND:20260424T101500
UID:69e54226d144f
DTSTAMP:20260419T205918
LOCATION:Aula 4A San Giobbe
SUMMARY:DIRITTO DELLE ASSICURAZIONI PRIVATE [EM5001] - CORVESE Ciro Gennaro\, Lezione
URL;VALUE=URI://www.unive.it/data/insegnamento/506586
DTSTART:20260424T084500
END:VEVENT
BEGIN:VEVENT
DTEND:20260424T134500
UID:69e54226d149b
DTSTAMP:20260419T205918
LOCATION:Aula 9A San Giobbe
SUMMARY:DIRITTO DELLE ASSICURAZIONI PRIVATE [EM5001] - CORVESE Ciro Gennaro\, Lezione
URL;VALUE=URI://www.unive.it/data/insegnamento/506586
DTSTART:20260424T121500
END:VEVENT
BEGIN:VEVENT
DTEND:20260430T190000
UID:69e54226d14e6
DTSTAMP:20260419T205918
LOCATION:Aula 4A San Giobbe
SUMMARY:DIRITTO DELLE ASSICURAZIONI PRIVATE [EM5001] - CORVESE Ciro Gennaro\, Lezione
URL;VALUE=URI://www.unive.it/data/insegnamento/506586
DTSTART:20260430T173000
END:VEVENT
BEGIN:VEVENT
DTEND:20260507T190000
UID:69e54226d1531
DTSTAMP:20260419T205918
LOCATION:Aula 4A San Giobbe
SUMMARY:DIRITTO DELLE ASSICURAZIONI PRIVATE [EM5001] - CORVESE Ciro Gennaro\, Lezione
URL;VALUE=URI://www.unive.it/data/insegnamento/506586
DTSTART:20260507T173000
END:VEVENT
BEGIN:VEVENT
DTEND:20260508T101500
UID:69e54226d157b
DTSTAMP:20260419T205918
LOCATION:Aula 4A San Giobbe
SUMMARY:DIRITTO DELLE ASSICURAZIONI PRIVATE [EM5001] - CORVESE Ciro Gennaro\, Lezione
URL;VALUE=URI://www.unive.it/data/insegnamento/506586
DTSTART:20260508T084500
END:VEVENT
BEGIN:VEVENT
DTEND:20260508T134500
UID:69e54226d15c5
DTSTAMP:20260419T205918
LOCATION:Aula 9A San Giobbe
SUMMARY:DIRITTO DELLE ASSICURAZIONI PRIVATE [EM5001] - CORVESE Ciro Gennaro\, Lezione
URL;VALUE=URI://www.unive.it/data/insegnamento/506586
DTSTART:20260508T121500
END:VEVENT
BEGIN:VEVENT
DTEND:20260514T190000
UID:69e54226d1620
DTSTAMP:20260419T205918
LOCATION:Aula 4A San Giobbe
SUMMARY:DIRITTO DELLE ASSICURAZIONI PRIVATE [EM5001] - CORVESE Ciro Gennaro\, Lezione
URL;VALUE=URI://www.unive.it/data/insegnamento/506586
DTSTART:20260514T173000
END:VEVENT
BEGIN:VEVENT
DTEND:20260515T101500
UID:69e54226d1671
DTSTAMP:20260419T205918
LOCATION:Aula 4A San Giobbe
SUMMARY:DIRITTO DELLE ASSICURAZIONI PRIVATE [EM5001] - CORVESE Ciro Gennaro\, Lezione
URL;VALUE=URI://www.unive.it/data/insegnamento/506586
DTSTART:20260515T084500
END:VEVENT
BEGIN:VEVENT
DTEND:20260515T134500
UID:69e54226d16ce
DTSTAMP:20260419T205918
LOCATION:Aula 9A San Giobbe
SUMMARY:DIRITTO DELLE ASSICURAZIONI PRIVATE [EM5001] - CORVESE Ciro Gennaro\, Lezione
URL;VALUE=URI://www.unive.it/data/insegnamento/506586
DTSTART:20260515T121500
END:VEVENT
END:VCALENDAR