BEGIN:VCALENDAR
VERSION:2.0
PRODID:-//hacksw/handcal//NONSGML v1.0//EN
CALSCALE:GREGORIAN
X-WR-CALNAME:DIRITTO DEL MERCATO FINANZIARIO [EM0001]
DESCRIPTION:DIRITTO DEL MERCATO FINANZIARIO [EM0001]
REFRESH-INTERVAL;VALUE=DURATION:P1D
X-WR-TIMEZONE:Europe/Rome
BEGIN:VEVENT
DTEND:20260219T153000
UID:69e55d8a59e46
DTSTAMP:20260419T225610
LOCATION:Aula 3A San Giobbe
SUMMARY:DIRITTO DEL MERCATO FINANZIARIO [EM0001] - ANNUNZIATA FILIPPO CLAUDIO\, Lezione
URL;VALUE=URI://www.unive.it/data/insegnamento/506600
DTSTART:20260219T140000
END:VEVENT
BEGIN:VEVENT
DTEND:20260220T134500
UID:69e55d8a59ee2
DTSTAMP:20260419T225610
LOCATION:Aula 4A San Giobbe
SUMMARY:DIRITTO DEL MERCATO FINANZIARIO [EM0001] - ANNUNZIATA FILIPPO CLAUDIO\, Lezione
URL;VALUE=URI://www.unive.it/data/insegnamento/506600
DTSTART:20260220T121500
END:VEVENT
BEGIN:VEVENT
DTEND:20260220T153000
UID:69e55d8a59f36
DTSTAMP:20260419T225610
LOCATION:Aula 4A San Giobbe
SUMMARY:DIRITTO DEL MERCATO FINANZIARIO [EM0001] - ANNUNZIATA FILIPPO CLAUDIO\, Lezione
URL;VALUE=URI://www.unive.it/data/insegnamento/506600
DTSTART:20260220T140000
END:VEVENT
BEGIN:VEVENT
DTEND:20260226T153000
UID:69e55d8a59f87
DTSTAMP:20260419T225610
LOCATION:Aula 3A San Giobbe
SUMMARY:DIRITTO DEL MERCATO FINANZIARIO [EM0001] - ANNUNZIATA FILIPPO CLAUDIO\, Lezione
URL;VALUE=URI://www.unive.it/data/insegnamento/506600
DTSTART:20260226T140000
END:VEVENT
BEGIN:VEVENT
DTEND:20260227T134500
UID:69e55d8a59fa9
DTSTAMP:20260419T225610
LOCATION:Aula 4A San Giobbe
SUMMARY:DIRITTO DEL MERCATO FINANZIARIO [EM0001] - ANNUNZIATA FILIPPO CLAUDIO\, Lezione
URL;VALUE=URI://www.unive.it/data/insegnamento/506600
DTSTART:20260227T121500
END:VEVENT
BEGIN:VEVENT
DTEND:20260227T153000
UID:69e55d8a59ff6
DTSTAMP:20260419T225610
LOCATION:Aula 4A San Giobbe
SUMMARY:DIRITTO DEL MERCATO FINANZIARIO [EM0001] - ANNUNZIATA FILIPPO CLAUDIO\, Lezione
URL;VALUE=URI://www.unive.it/data/insegnamento/506600
DTSTART:20260227T140000
END:VEVENT
BEGIN:VEVENT
DTEND:20260305T153000
UID:69e55d8a5a041
DTSTAMP:20260419T225610
LOCATION:Aula 3A San Giobbe
SUMMARY:DIRITTO DEL MERCATO FINANZIARIO [EM0001] - ANNUNZIATA FILIPPO CLAUDIO\, Lezione
URL;VALUE=URI://www.unive.it/data/insegnamento/506600
DTSTART:20260305T140000
END:VEVENT
BEGIN:VEVENT
DTEND:20260306T134500
UID:69e55d8a5a08c
DTSTAMP:20260419T225610
LOCATION:Aula 4A San Giobbe
SUMMARY:DIRITTO DEL MERCATO FINANZIARIO [EM0001] - ANNUNZIATA FILIPPO CLAUDIO\, Lezione
URL;VALUE=URI://www.unive.it/data/insegnamento/506600
DTSTART:20260306T121500
END:VEVENT
BEGIN:VEVENT
DTEND:20260306T153000
UID:69e55d8a5a0d7
DTSTAMP:20260419T225610
LOCATION:Aula 4A San Giobbe
SUMMARY:DIRITTO DEL MERCATO FINANZIARIO [EM0001] - ANNUNZIATA FILIPPO CLAUDIO\, Lezione
URL;VALUE=URI://www.unive.it/data/insegnamento/506600
DTSTART:20260306T140000
END:VEVENT
BEGIN:VEVENT
DTEND:20260312T153000
UID:69e55d8a5a125
DTSTAMP:20260419T225610
LOCATION:Aula 3A San Giobbe
SUMMARY:DIRITTO DEL MERCATO FINANZIARIO [EM0001] - ANNUNZIATA FILIPPO CLAUDIO\, Lezione
URL;VALUE=URI://www.unive.it/data/insegnamento/506600
DTSTART:20260312T140000
END:VEVENT
BEGIN:VEVENT
DTEND:20260313T134500
UID:69e55d8a5a178
DTSTAMP:20260419T225610
LOCATION:Aula 4A San Giobbe
SUMMARY:DIRITTO DEL MERCATO FINANZIARIO [EM0001] - ANNUNZIATA FILIPPO CLAUDIO\, Lezione
URL;VALUE=URI://www.unive.it/data/insegnamento/506600
DTSTART:20260313T121500
END:VEVENT
BEGIN:VEVENT
DTEND:20260313T153000
UID:69e55d8a5a1c3
DTSTAMP:20260419T225610
LOCATION:Aula 4A San Giobbe
SUMMARY:DIRITTO DEL MERCATO FINANZIARIO [EM0001] - ANNUNZIATA FILIPPO CLAUDIO\, Lezione
URL;VALUE=URI://www.unive.it/data/insegnamento/506600
DTSTART:20260313T140000
END:VEVENT
BEGIN:VEVENT
DTEND:20260319T153000
UID:69e55d8a5a20f
DTSTAMP:20260419T225610
LOCATION:Aula 3A San Giobbe
SUMMARY:DIRITTO DEL MERCATO FINANZIARIO [EM0001] - ANNUNZIATA FILIPPO CLAUDIO\, Lezione
URL;VALUE=URI://www.unive.it/data/insegnamento/506600
DTSTART:20260319T140000
END:VEVENT
BEGIN:VEVENT
DTEND:20260320T134500
UID:69e55d8a5a259
DTSTAMP:20260419T225610
LOCATION:Aula 4A San Giobbe
SUMMARY:DIRITTO DEL MERCATO FINANZIARIO [EM0001] - ANNUNZIATA FILIPPO CLAUDIO\, Lezione
URL;VALUE=URI://www.unive.it/data/insegnamento/506600
DTSTART:20260320T121500
END:VEVENT
BEGIN:VEVENT
DTEND:20260320T153000
UID:69e55d8a5a2a4
DTSTAMP:20260419T225610
LOCATION:Aula 4A San Giobbe
SUMMARY:DIRITTO DEL MERCATO FINANZIARIO [EM0001] - ANNUNZIATA FILIPPO CLAUDIO\, Lezione
URL;VALUE=URI://www.unive.it/data/insegnamento/506600
DTSTART:20260320T140000
END:VEVENT
BEGIN:VEVENT
DTEND:20260326T153000
UID:69e55d8a5a2ef
DTSTAMP:20260419T225610
LOCATION:Aula 3A San Giobbe
SUMMARY:DIRITTO DEL MERCATO FINANZIARIO [EM0001] - ANNUNZIATA FILIPPO CLAUDIO\, Lezione
URL;VALUE=URI://www.unive.it/data/insegnamento/506600
DTSTART:20260326T140000
END:VEVENT
BEGIN:VEVENT
DTEND:20260327T134500
UID:69e55d8a5a339
DTSTAMP:20260419T225610
LOCATION:Aula 4A San Giobbe
SUMMARY:DIRITTO DEL MERCATO FINANZIARIO [EM0001] - ANNUNZIATA FILIPPO CLAUDIO\, Lezione
URL;VALUE=URI://www.unive.it/data/insegnamento/506600
DTSTART:20260327T121500
END:VEVENT
BEGIN:VEVENT
DTEND:20260327T153000
UID:69e55d8a5a38e
DTSTAMP:20260419T225610
LOCATION:Aula 4A San Giobbe
SUMMARY:DIRITTO DEL MERCATO FINANZIARIO [EM0001] - ANNUNZIATA FILIPPO CLAUDIO\, Lezione
URL;VALUE=URI://www.unive.it/data/insegnamento/506600
DTSTART:20260327T140000
END:VEVENT
END:VCALENDAR