BEGIN:VCALENDAR
VERSION:2.0
PRODID:-//hacksw/handcal//NONSGML v1.0//EN
CALSCALE:GREGORIAN
X-WR-CALNAME:TECNOLOGIE WEB PER IL TURISMO [EM9033]
DESCRIPTION:TECNOLOGIE WEB PER IL TURISMO [EM9033]
REFRESH-INTERVAL;VALUE=DURATION:P1D
X-WR-TIMEZONE:Europe/Rome
BEGIN:VEVENT
DTEND:20251117T101500
UID:69e6e54094639
DTSTAMP:20260421T024728
LOCATION:Laboratorio 3 Campus scientifico via Torino (edificio Zeta)
SUMMARY:TECNOLOGIE WEB PER IL TURISMO [EM9033] - MATTIOLI Martina\, Lezione
URL;VALUE=URI://www.unive.it/data/insegnamento/506636
DTSTART:20251117T084500
END:VEVENT
BEGIN:VEVENT
DTEND:20251117T171500
UID:69e6e540946b9
DTSTAMP:20260421T024728
LOCATION:Laboratorio 5 Campus scientifico via Torino (edificio Zeta)
SUMMARY:TECNOLOGIE WEB PER IL TURISMO [EM9033] - MATTIOLI Martina\, Lezione
URL;VALUE=URI://www.unive.it/data/insegnamento/506636
DTSTART:20251117T154500
END:VEVENT
BEGIN:VEVENT
DTEND:20251118T171500
UID:69e6e5409470d
DTSTAMP:20260421T024728
LOCATION:Laboratorio 5 Campus scientifico via Torino (edificio Zeta)
SUMMARY:TECNOLOGIE WEB PER IL TURISMO [EM9033] - MATTIOLI Martina\, Lezione
URL;VALUE=URI://www.unive.it/data/insegnamento/506636
DTSTART:20251118T154500
END:VEVENT
BEGIN:VEVENT
DTEND:20251124T101500
UID:69e6e5409475e
DTSTAMP:20260421T024728
LOCATION:Laboratorio 3 Campus scientifico via Torino (edificio Zeta)
SUMMARY:TECNOLOGIE WEB PER IL TURISMO [EM9033] - MATTIOLI Martina\, Lezione
URL;VALUE=URI://www.unive.it/data/insegnamento/506636
DTSTART:20251124T084500
END:VEVENT
BEGIN:VEVENT
DTEND:20251124T171500
UID:69e6e540947ac
DTSTAMP:20260421T024728
LOCATION:Laboratorio 5 Campus scientifico via Torino (edificio Zeta)
SUMMARY:TECNOLOGIE WEB PER IL TURISMO [EM9033] - MATTIOLI Martina\, Lezione
URL;VALUE=URI://www.unive.it/data/insegnamento/506636
DTSTART:20251124T154500
END:VEVENT
BEGIN:VEVENT
DTEND:20251125T171500
UID:69e6e540947f7
DTSTAMP:20260421T024728
LOCATION:Laboratorio 5 Campus scientifico via Torino (edificio Zeta)
SUMMARY:TECNOLOGIE WEB PER IL TURISMO [EM9033] - MATTIOLI Martina\, Lezione
URL;VALUE=URI://www.unive.it/data/insegnamento/506636
DTSTART:20251125T154500
END:VEVENT
BEGIN:VEVENT
DTEND:20251126T134500
UID:69e6e54094843
DTSTAMP:20260421T024728
LOCATION:Aula C Campus scientifico via Torino (edificio Zeta)
SUMMARY:TECNOLOGIE WEB PER IL TURISMO [EM9033] - MATTIOLI Martina\, Lezione
URL;VALUE=URI://www.unive.it/data/insegnamento/506636
DTSTART:20251126T121500
END:VEVENT
BEGIN:VEVENT
DTEND:20251201T101500
UID:69e6e5409488e
DTSTAMP:20260421T024728
LOCATION:Aula Delta 2C Campus scientifico via Torino (edificio Delta)
SUMMARY:TECNOLOGIE WEB PER IL TURISMO [EM9033] - MATTIOLI Martina\, Lezione
URL;VALUE=URI://www.unive.it/data/insegnamento/506636
DTSTART:20251201T084500
END:VEVENT
BEGIN:VEVENT
DTEND:20251201T171500
UID:69e6e540948da
DTSTAMP:20260421T024728
LOCATION:Laboratorio 5 Campus scientifico via Torino (edificio Zeta)
SUMMARY:TECNOLOGIE WEB PER IL TURISMO [EM9033] - MATTIOLI Martina\, Lezione
URL;VALUE=URI://www.unive.it/data/insegnamento/506636
DTSTART:20251201T154500
END:VEVENT
BEGIN:VEVENT
DTEND:20251202T171500
UID:69e6e54094934
DTSTAMP:20260421T024728
LOCATION:Laboratorio 5 Campus scientifico via Torino (edificio Zeta)
SUMMARY:TECNOLOGIE WEB PER IL TURISMO [EM9033] - MATTIOLI Martina\, Lezione
URL;VALUE=URI://www.unive.it/data/insegnamento/506636
DTSTART:20251202T154500
END:VEVENT
BEGIN:VEVENT
DTEND:20251203T134500
UID:69e6e54094982
DTSTAMP:20260421T024728
LOCATION:Aula C Campus scientifico via Torino (edificio Zeta)
SUMMARY:TECNOLOGIE WEB PER IL TURISMO [EM9033] - MATTIOLI Martina\, Lezione
URL;VALUE=URI://www.unive.it/data/insegnamento/506636
DTSTART:20251203T121500
END:VEVENT
BEGIN:VEVENT
DTEND:20251209T171500
UID:69e6e540949ce
DTSTAMP:20260421T024728
LOCATION:Laboratorio 5 Campus scientifico via Torino (edificio Zeta)
SUMMARY:TECNOLOGIE WEB PER IL TURISMO [EM9033] - MATTIOLI Martina\, Lezione
URL;VALUE=URI://www.unive.it/data/insegnamento/506636
DTSTART:20251209T154500
END:VEVENT
BEGIN:VEVENT
DTEND:20251210T134500
UID:69e6e54094a19
DTSTAMP:20260421T024728
LOCATION:Aula C Campus scientifico via Torino (edificio Zeta)
SUMMARY:TECNOLOGIE WEB PER IL TURISMO [EM9033] - MATTIOLI Martina\, Lezione
URL;VALUE=URI://www.unive.it/data/insegnamento/506636
DTSTART:20251210T121500
END:VEVENT
BEGIN:VEVENT
DTEND:20251215T101500
UID:69e6e54094a65
DTSTAMP:20260421T024728
LOCATION:Laboratorio 3 Campus scientifico via Torino (edificio Zeta)
SUMMARY:TECNOLOGIE WEB PER IL TURISMO [EM9033] - MATTIOLI Martina\, Lezione
URL;VALUE=URI://www.unive.it/data/insegnamento/506636
DTSTART:20251215T084500
END:VEVENT
BEGIN:VEVENT
DTEND:20251215T171500
UID:69e6e54094ab0
DTSTAMP:20260421T024728
LOCATION:Laboratorio 5 Campus scientifico via Torino (edificio Zeta)
SUMMARY:TECNOLOGIE WEB PER IL TURISMO [EM9033] - MATTIOLI Martina\, Lezione
URL;VALUE=URI://www.unive.it/data/insegnamento/506636
DTSTART:20251215T154500
END:VEVENT
END:VCALENDAR