BEGIN:VCALENDAR
VERSION:2.0
PRODID:-//hacksw/handcal//NONSGML v1.0//EN
CALSCALE:GREGORIAN
X-WR-CALNAME:SCIENZA DELLE FINANZE [ET0057]
DESCRIPTION:SCIENZA DELLE FINANZE [ET0057]
REFRESH-INTERVAL;VALUE=DURATION:P1D
X-WR-TIMEZONE:Europe/Rome
BEGIN:VEVENT
DTEND:20260218T153000
UID:69e74d073d092
DTSTAMP:20260421T101015
LOCATION:Aula 9A San Giobbe
SUMMARY:SCIENZA DELLE FINANZE [ET0057] - MAMMI Irene\, Lezione
URL;VALUE=URI://www.unive.it/data/insegnamento/507024
DTSTART:20260218T140000
END:VEVENT
BEGIN:VEVENT
DTEND:20260219T171500
UID:69e74d073d127
DTSTAMP:20260421T101015
LOCATION:Aula 9A San Giobbe
SUMMARY:SCIENZA DELLE FINANZE [ET0057] - MAMMI Irene\, Lezione
URL;VALUE=URI://www.unive.it/data/insegnamento/507024
DTSTART:20260219T154500
END:VEVENT
BEGIN:VEVENT
DTEND:20260220T120000
UID:69e74d073d17b
DTSTAMP:20260421T101015
LOCATION:Aula 9A San Giobbe
SUMMARY:SCIENZA DELLE FINANZE [ET0057] - MAMMI Irene\, Lezione
URL;VALUE=URI://www.unive.it/data/insegnamento/507024
DTSTART:20260220T103000
END:VEVENT
BEGIN:VEVENT
DTEND:20260225T153000
UID:69e74d073d1d7
DTSTAMP:20260421T101015
LOCATION:Aula 9A San Giobbe
SUMMARY:SCIENZA DELLE FINANZE [ET0057] - MAMMI Irene\, Lezione
URL;VALUE=URI://www.unive.it/data/insegnamento/507024
DTSTART:20260225T140000
END:VEVENT
BEGIN:VEVENT
DTEND:20260226T171500
UID:69e74d073d223
DTSTAMP:20260421T101015
LOCATION:Aula 9A San Giobbe
SUMMARY:SCIENZA DELLE FINANZE [ET0057] - MAMMI Irene\, Lezione
URL;VALUE=URI://www.unive.it/data/insegnamento/507024
DTSTART:20260226T154500
END:VEVENT
BEGIN:VEVENT
DTEND:20260227T120000
UID:69e74d073d26e
DTSTAMP:20260421T101015
LOCATION:Aula 9A San Giobbe
SUMMARY:SCIENZA DELLE FINANZE [ET0057] - MAMMI Irene\, Lezione
URL;VALUE=URI://www.unive.it/data/insegnamento/507024
DTSTART:20260227T103000
END:VEVENT
BEGIN:VEVENT
DTEND:20260304T153000
UID:69e74d073d2b9
DTSTAMP:20260421T101015
LOCATION:Aula 9A San Giobbe
SUMMARY:SCIENZA DELLE FINANZE [ET0057] - MAMMI Irene\, Lezione
URL;VALUE=URI://www.unive.it/data/insegnamento/507024
DTSTART:20260304T140000
END:VEVENT
BEGIN:VEVENT
DTEND:20260311T153000
UID:69e74d073d303
DTSTAMP:20260421T101015
LOCATION:Aula 9A San Giobbe
SUMMARY:SCIENZA DELLE FINANZE [ET0057] - MAMMI Irene\, Lezione
URL;VALUE=URI://www.unive.it/data/insegnamento/507024
DTSTART:20260311T140000
END:VEVENT
BEGIN:VEVENT
DTEND:20260312T171500
UID:69e74d073d34d
DTSTAMP:20260421T101015
LOCATION:Aula 9A San Giobbe
SUMMARY:SCIENZA DELLE FINANZE [ET0057] - MAMMI Irene\, Lezione
URL;VALUE=URI://www.unive.it/data/insegnamento/507024
DTSTART:20260312T154500
END:VEVENT
BEGIN:VEVENT
DTEND:20260313T120000
UID:69e74d073d397
DTSTAMP:20260421T101015
LOCATION:Aula 9A San Giobbe
SUMMARY:SCIENZA DELLE FINANZE [ET0057] - MAMMI Irene\, Lezione
URL;VALUE=URI://www.unive.it/data/insegnamento/507024
DTSTART:20260313T103000
END:VEVENT
BEGIN:VEVENT
DTEND:20260318T153000
UID:69e74d073d3e1
DTSTAMP:20260421T101015
LOCATION:Aula 9A San Giobbe
SUMMARY:SCIENZA DELLE FINANZE [ET0057] - MAMMI Irene\, Lezione
URL;VALUE=URI://www.unive.it/data/insegnamento/507024
DTSTART:20260318T140000
END:VEVENT
BEGIN:VEVENT
DTEND:20260319T171500
UID:69e74d073d42c
DTSTAMP:20260421T101015
LOCATION:Aula 9A San Giobbe
SUMMARY:SCIENZA DELLE FINANZE [ET0057] - MAMMI Irene\, Lezione
URL;VALUE=URI://www.unive.it/data/insegnamento/507024
DTSTART:20260319T154500
END:VEVENT
BEGIN:VEVENT
DTEND:20260320T120000
UID:69e74d073d476
DTSTAMP:20260421T101015
LOCATION:Aula 9A San Giobbe
SUMMARY:SCIENZA DELLE FINANZE [ET0057] - MAMMI Irene\, Lezione
URL;VALUE=URI://www.unive.it/data/insegnamento/507024
DTSTART:20260320T103000
END:VEVENT
BEGIN:VEVENT
DTEND:20260325T153000
UID:69e74d073d4bf
DTSTAMP:20260421T101015
LOCATION:Aula 9A San Giobbe
SUMMARY:SCIENZA DELLE FINANZE [ET0057] - MAMMI Irene\, Lezione
URL;VALUE=URI://www.unive.it/data/insegnamento/507024
DTSTART:20260325T140000
END:VEVENT
BEGIN:VEVENT
DTEND:20260326T171500
UID:69e74d073d508
DTSTAMP:20260421T101015
LOCATION:Aula 9A San Giobbe
SUMMARY:SCIENZA DELLE FINANZE [ET0057] - MAMMI Irene\, Lezione
URL;VALUE=URI://www.unive.it/data/insegnamento/507024
DTSTART:20260326T154500
END:VEVENT
BEGIN:VEVENT
DTEND:20260327T120000
UID:69e74d073d551
DTSTAMP:20260421T101015
LOCATION:Aula 9A San Giobbe
SUMMARY:SCIENZA DELLE FINANZE [ET0057] - MAMMI Irene\, Lezione
URL;VALUE=URI://www.unive.it/data/insegnamento/507024
DTSTART:20260327T103000
END:VEVENT
END:VCALENDAR