BEGIN:VCALENDAR
VERSION:2.0
PRODID:-//hacksw/handcal//NONSGML v1.0//EN
CALSCALE:GREGORIAN
X-WR-CALNAME:DIGITAL ICONOGRAPHY AND ICONOLOGY STUDIES [FM0504]
DESCRIPTION:DIGITAL ICONOGRAPHY AND ICONOLOGY STUDIES [FM0504]
REFRESH-INTERVAL;VALUE=DURATION:P1D
X-WR-TIMEZONE:Europe/Rome
BEGIN:VEVENT
DTEND:20260216T171500
UID:69e8c2622010a
DTSTAMP:20260422T124314
LOCATION:Aula 1E Polo didattico San Basilio (Magazzino 5)
SUMMARY:DIGITAL ICONOGRAPHY AND ICONOLOGY STUDIES [FM0504] - DE VINCENTIS Stefania\, Lezione
URL;VALUE=URI://www.unive.it/data/insegnamento/508228
DTSTART:20260216T154500
END:VEVENT
BEGIN:VEVENT
DTEND:20260223T171500
UID:69e8c262201cd
DTSTAMP:20260422T124314
LOCATION:Aula 1E Polo didattico San Basilio (Magazzino 5)
SUMMARY:DIGITAL ICONOGRAPHY AND ICONOLOGY STUDIES [FM0504] - DE VINCENTIS Stefania\, Lezione
URL;VALUE=URI://www.unive.it/data/insegnamento/508228
DTSTART:20260223T154500
END:VEVENT
BEGIN:VEVENT
DTEND:20260302T171500
UID:69e8c26220231
DTSTAMP:20260422T124314
LOCATION:Aula 1E Polo didattico San Basilio (Magazzino 5)
SUMMARY:DIGITAL ICONOGRAPHY AND ICONOLOGY STUDIES [FM0504] - DE VINCENTIS Stefania\, Lezione
URL;VALUE=URI://www.unive.it/data/insegnamento/508228
DTSTART:20260302T154500
END:VEVENT
BEGIN:VEVENT
DTEND:20260309T171500
UID:69e8c26220285
DTSTAMP:20260422T124314
LOCATION:Aula 1E Polo didattico San Basilio (Magazzino 5)
SUMMARY:DIGITAL ICONOGRAPHY AND ICONOLOGY STUDIES [FM0504] - DE VINCENTIS Stefania\, Lezione
URL;VALUE=URI://www.unive.it/data/insegnamento/508228
DTSTART:20260309T154500
END:VEVENT
BEGIN:VEVENT
DTEND:20260316T171500
UID:69e8c262202d6
DTSTAMP:20260422T124314
LOCATION:Aula 1E Polo didattico San Basilio (Magazzino 5)
SUMMARY:DIGITAL ICONOGRAPHY AND ICONOLOGY STUDIES [FM0504] - DE VINCENTIS Stefania\, Lezione
URL;VALUE=URI://www.unive.it/data/insegnamento/508228
DTSTART:20260316T154500
END:VEVENT
BEGIN:VEVENT
DTEND:20260323T171500
UID:69e8c26220323
DTSTAMP:20260422T124314
LOCATION:Aula 1E Polo didattico San Basilio (Magazzino 5)
SUMMARY:DIGITAL ICONOGRAPHY AND ICONOLOGY STUDIES [FM0504] - DE VINCENTIS Stefania\, Lezione
URL;VALUE=URI://www.unive.it/data/insegnamento/508228
DTSTART:20260323T154500
END:VEVENT
BEGIN:VEVENT
DTEND:20260414T134500
UID:69e8c2622036f
DTSTAMP:20260422T124314
LOCATION:Aula 1P Polo didattico San Basilio (Magazzino 4)
SUMMARY:DIGITAL ICONOGRAPHY AND ICONOLOGY STUDIES [FM0504] - DE VINCENTIS Stefania\, Lezione
URL;VALUE=URI://www.unive.it/data/insegnamento/508228
DTSTART:20260414T121500
END:VEVENT
BEGIN:VEVENT
DTEND:20260416T120000
UID:69e8c262203bd
DTSTAMP:20260422T124314
LOCATION:Aula 0B Polo didattico San Basilio (Magazzino 5)
SUMMARY:DIGITAL ICONOGRAPHY AND ICONOLOGY STUDIES [FM0504] - DE VINCENTIS Stefania\, Lezione
URL;VALUE=URI://www.unive.it/data/insegnamento/508228
DTSTART:20260416T103000
END:VEVENT
BEGIN:VEVENT
DTEND:20260421T134500
UID:69e8c2622040b
DTSTAMP:20260422T124314
LOCATION:Aula 1P Polo didattico San Basilio (Magazzino 4)
SUMMARY:DIGITAL ICONOGRAPHY AND ICONOLOGY STUDIES [FM0504] - DE VINCENTIS Stefania\, Lezione
URL;VALUE=URI://www.unive.it/data/insegnamento/508228
DTSTART:20260421T121500
END:VEVENT
BEGIN:VEVENT
DTEND:20260422T101500
UID:69e8c26220459
DTSTAMP:20260422T124314
LOCATION:Sala audio 1 Palazzo Cosulich
SUMMARY:DIGITAL ICONOGRAPHY AND ICONOLOGY STUDIES [FM0504] - DE VINCENTIS Stefania\, Lezione
URL;VALUE=URI://www.unive.it/data/insegnamento/508228
DTSTART:20260422T084500
END:VEVENT
BEGIN:VEVENT
DTEND:20260428T134500
UID:69e8c262204a4
DTSTAMP:20260422T124314
LOCATION:Aula 1P Polo didattico San Basilio (Magazzino 4)
SUMMARY:DIGITAL ICONOGRAPHY AND ICONOLOGY STUDIES [FM0504] - DE VINCENTIS Stefania\, Lezione
URL;VALUE=URI://www.unive.it/data/insegnamento/508228
DTSTART:20260428T121500
END:VEVENT
BEGIN:VEVENT
DTEND:20260429T101500
UID:69e8c262204f2
DTSTAMP:20260422T124314
LOCATION:Sala audio 1 Palazzo Cosulich
SUMMARY:DIGITAL ICONOGRAPHY AND ICONOLOGY STUDIES [FM0504] - DE VINCENTIS Stefania\, Lezione
URL;VALUE=URI://www.unive.it/data/insegnamento/508228
DTSTART:20260429T084500
END:VEVENT
BEGIN:VEVENT
DTEND:20260505T134500
UID:69e8c2622053d
DTSTAMP:20260422T124314
LOCATION:Aula 1P Polo didattico San Basilio (Magazzino 4)
SUMMARY:DIGITAL ICONOGRAPHY AND ICONOLOGY STUDIES [FM0504] - DE VINCENTIS Stefania\, Lezione
URL;VALUE=URI://www.unive.it/data/insegnamento/508228
DTSTART:20260505T121500
END:VEVENT
BEGIN:VEVENT
DTEND:20260506T101500
UID:69e8c2622058a
DTSTAMP:20260422T124314
LOCATION:Sala audio 1 Palazzo Cosulich
SUMMARY:DIGITAL ICONOGRAPHY AND ICONOLOGY STUDIES [FM0504] - DE VINCENTIS Stefania\, Lezione
URL;VALUE=URI://www.unive.it/data/insegnamento/508228
DTSTART:20260506T084500
END:VEVENT
BEGIN:VEVENT
DTEND:20260512T134500
UID:69e8c262205d7
DTSTAMP:20260422T124314
LOCATION:Aula 1P Polo didattico San Basilio (Magazzino 4)
SUMMARY:DIGITAL ICONOGRAPHY AND ICONOLOGY STUDIES [FM0504] - DE VINCENTIS Stefania\, Lezione
URL;VALUE=URI://www.unive.it/data/insegnamento/508228
DTSTART:20260512T121500
END:VEVENT
BEGIN:VEVENT
DTEND:20260513T101500
UID:69e8c26220628
DTSTAMP:20260422T124314
LOCATION:Sala audio 1 Palazzo Cosulich
SUMMARY:DIGITAL ICONOGRAPHY AND ICONOLOGY STUDIES [FM0504] - DE VINCENTIS Stefania\, Lezione
URL;VALUE=URI://www.unive.it/data/insegnamento/508228
DTSTART:20260513T084500
END:VEVENT
END:VCALENDAR