BEGIN:VCALENDAR
VERSION:2.0
PRODID:-//hacksw/handcal//NONSGML v1.0//EN
CALSCALE:GREGORIAN
X-WR-CALNAME:EPIGRAFIA MEDIEVALE [FT0064]
DESCRIPTION:EPIGRAFIA MEDIEVALE [FT0064]
REFRESH-INTERVAL;VALUE=DURATION:P1D
X-WR-TIMEZONE:Europe/Rome
BEGIN:VEVENT
DTEND:20251110T190000
UID:69e7962f72517
DTSTAMP:20260421T152223
LOCATION:Aula Zattere Palazzo Cosulich
SUMMARY:EPIGRAFIA MEDIEVALE [FT0064] - De Rubeis Flavia\, Lezione
URL;VALUE=URI://www.unive.it/data/insegnamento/509369
DTSTART:20251110T173000
END:VEVENT
BEGIN:VEVENT
DTEND:20251111T120000
UID:69e7962f72599
DTSTAMP:20260421T152223
LOCATION:Aula 3 San Sebastiano
SUMMARY:EPIGRAFIA MEDIEVALE [FT0064] - De Rubeis Flavia\, Lezione
URL;VALUE=URI://www.unive.it/data/insegnamento/509369
DTSTART:20251111T103000
END:VEVENT
BEGIN:VEVENT
DTEND:20251112T190000
UID:69e7962f725eb
DTSTAMP:20260421T152223
LOCATION:Aula 1A Polo didattico San Basilio (Magazzino 5)
SUMMARY:EPIGRAFIA MEDIEVALE [FT0064] - De Rubeis Flavia\, Lezione
URL;VALUE=URI://www.unive.it/data/insegnamento/509369
DTSTART:20251112T173000
END:VEVENT
BEGIN:VEVENT
DTEND:20251117T190000
UID:69e7962f7263b
DTSTAMP:20260421T152223
LOCATION:Aula Zattere Palazzo Cosulich
SUMMARY:EPIGRAFIA MEDIEVALE [FT0064] - De Rubeis Flavia\, Lezione
URL;VALUE=URI://www.unive.it/data/insegnamento/509369
DTSTART:20251117T173000
END:VEVENT
BEGIN:VEVENT
DTEND:20251118T120000
UID:69e7962f72693
DTSTAMP:20260421T152223
LOCATION:Teatro Santa Marta Santa Marta
SUMMARY:EPIGRAFIA MEDIEVALE [FT0064] - De Rubeis Flavia\, Lezione
URL;VALUE=URI://www.unive.it/data/insegnamento/509369
DTSTART:20251118T103000
END:VEVENT
BEGIN:VEVENT
DTEND:20251119T190000
UID:69e7962f726e1
DTSTAMP:20260421T152223
LOCATION:Aula 1A Polo didattico San Basilio (Magazzino 5)
SUMMARY:EPIGRAFIA MEDIEVALE [FT0064] - De Rubeis Flavia\, Lezione
URL;VALUE=URI://www.unive.it/data/insegnamento/509369
DTSTART:20251119T173000
END:VEVENT
BEGIN:VEVENT
DTEND:20251124T190000
UID:69e7962f7272b
DTSTAMP:20260421T152223
LOCATION:Aula Zattere Palazzo Cosulich
SUMMARY:EPIGRAFIA MEDIEVALE [FT0064] - De Rubeis Flavia\, Lezione
URL;VALUE=URI://www.unive.it/data/insegnamento/509369
DTSTART:20251124T173000
END:VEVENT
BEGIN:VEVENT
DTEND:20251125T120000
UID:69e7962f72775
DTSTAMP:20260421T152223
LOCATION:Aula 3 San Sebastiano
SUMMARY:EPIGRAFIA MEDIEVALE [FT0064] - De Rubeis Flavia\, Lezione
URL;VALUE=URI://www.unive.it/data/insegnamento/509369
DTSTART:20251125T103000
END:VEVENT
BEGIN:VEVENT
DTEND:20251126T190000
UID:69e7962f727be
DTSTAMP:20260421T152223
LOCATION:Aula 1A Polo didattico San Basilio (Magazzino 5)
SUMMARY:EPIGRAFIA MEDIEVALE [FT0064] - De Rubeis Flavia\, Lezione
URL;VALUE=URI://www.unive.it/data/insegnamento/509369
DTSTART:20251126T173000
END:VEVENT
BEGIN:VEVENT
DTEND:20251201T190000
UID:69e7962f72809
DTSTAMP:20260421T152223
LOCATION:Aula Zattere Palazzo Cosulich
SUMMARY:EPIGRAFIA MEDIEVALE [FT0064] - De Rubeis Flavia\, Lezione
URL;VALUE=URI://www.unive.it/data/insegnamento/509369
DTSTART:20251201T173000
END:VEVENT
BEGIN:VEVENT
DTEND:20251202T120000
UID:69e7962f72853
DTSTAMP:20260421T152223
LOCATION:Aula 3 San Sebastiano
SUMMARY:EPIGRAFIA MEDIEVALE [FT0064] - De Rubeis Flavia\, Lezione
URL;VALUE=URI://www.unive.it/data/insegnamento/509369
DTSTART:20251202T103000
END:VEVENT
BEGIN:VEVENT
DTEND:20251203T190000
UID:69e7962f7289d
DTSTAMP:20260421T152223
LOCATION:Aula 1A Polo didattico San Basilio (Magazzino 5)
SUMMARY:EPIGRAFIA MEDIEVALE [FT0064] - De Rubeis Flavia\, Lezione
URL;VALUE=URI://www.unive.it/data/insegnamento/509369
DTSTART:20251203T173000
END:VEVENT
BEGIN:VEVENT
DTEND:20251209T120000
UID:69e7962f728e7
DTSTAMP:20260421T152223
LOCATION:Aula 3 San Sebastiano
SUMMARY:EPIGRAFIA MEDIEVALE [FT0064] - De Rubeis Flavia\, Lezione
URL;VALUE=URI://www.unive.it/data/insegnamento/509369
DTSTART:20251209T103000
END:VEVENT
BEGIN:VEVENT
DTEND:20251210T190000
UID:69e7962f72931
DTSTAMP:20260421T152223
LOCATION:Aula 1A Polo didattico San Basilio (Magazzino 5)
SUMMARY:EPIGRAFIA MEDIEVALE [FT0064] - De Rubeis Flavia\, Lezione
URL;VALUE=URI://www.unive.it/data/insegnamento/509369
DTSTART:20251210T173000
END:VEVENT
BEGIN:VEVENT
DTEND:20251215T190000
UID:69e7962f7297b
DTSTAMP:20260421T152223
LOCATION:Aula Zattere Palazzo Cosulich
SUMMARY:EPIGRAFIA MEDIEVALE [FT0064] - De Rubeis Flavia\, Lezione
URL;VALUE=URI://www.unive.it/data/insegnamento/509369
DTSTART:20251215T173000
END:VEVENT
BEGIN:VEVENT
DTEND:20251216T120000
UID:69e7962f729c6
DTSTAMP:20260421T152223
LOCATION:Aula 3 San Sebastiano
SUMMARY:EPIGRAFIA MEDIEVALE [FT0064] - De Rubeis Flavia\, Lezione
URL;VALUE=URI://www.unive.it/data/insegnamento/509369
DTSTART:20251216T103000
END:VEVENT
BEGIN:VEVENT
DTEND:20251217T190000
UID:69e7962f72a0f
DTSTAMP:20260421T152223
LOCATION:Aula 1A Polo didattico San Basilio (Magazzino 5)
SUMMARY:EPIGRAFIA MEDIEVALE [FT0064] - De Rubeis Flavia\, Lezione
URL;VALUE=URI://www.unive.it/data/insegnamento/509369
DTSTART:20251217T173000
END:VEVENT
END:VCALENDAR