BEGIN:VCALENDAR
VERSION:2.0
PRODID:-//hacksw/handcal//NONSGML v1.0//EN
CALSCALE:GREGORIAN
X-WR-CALNAME:METHODS FOR MOLECULAR DYNAMICS SIMULATION [CM0598]
DESCRIPTION:METHODS FOR MOLECULAR DYNAMICS SIMULATION [CM0598]
REFRESH-INTERVAL;VALUE=DURATION:P1D
X-WR-TIMEZONE:Europe/Rome
BEGIN:VEVENT
DTEND:20251001T153000
UID:69e91067984ff
DTSTAMP:20260422T181607
LOCATION:Aula C Campus scientifico via Torino (edificio Zeta)
SUMMARY:METHODS FOR MOLECULAR DYNAMICS SIMULATION [CM0598] - PIETROPOLLI CHARMET Andrea\, Lezione
URL;VALUE=URI://www.unive.it/data/insegnamento/509802
DTSTART:20251001T140000
END:VEVENT
BEGIN:VEVENT
DTEND:20251008T153000
UID:69e910679859c
DTSTAMP:20260422T181607
LOCATION:Aula C Campus scientifico via Torino (edificio Zeta)
SUMMARY:METHODS FOR MOLECULAR DYNAMICS SIMULATION [CM0598] - PIETROPOLLI CHARMET Andrea\, Lezione
URL;VALUE=URI://www.unive.it/data/insegnamento/509802
DTSTART:20251008T140000
END:VEVENT
BEGIN:VEVENT
DTEND:20251015T153000
UID:69e91067985f0
DTSTAMP:20260422T181607
LOCATION:Aula C Campus scientifico via Torino (edificio Zeta)
SUMMARY:METHODS FOR MOLECULAR DYNAMICS SIMULATION [CM0598] - PIETROPOLLI CHARMET Andrea\, Lezione
URL;VALUE=URI://www.unive.it/data/insegnamento/509802
DTSTART:20251015T140000
END:VEVENT
BEGIN:VEVENT
DTEND:20251022T153000
UID:69e910679863f
DTSTAMP:20260422T181607
LOCATION:Aula C Campus scientifico via Torino (edificio Zeta)
SUMMARY:METHODS FOR MOLECULAR DYNAMICS SIMULATION [CM0598] - PIETROPOLLI CHARMET Andrea\, Lezione
URL;VALUE=URI://www.unive.it/data/insegnamento/509802
DTSTART:20251022T140000
END:VEVENT
BEGIN:VEVENT
DTEND:20251029T153000
UID:69e910679868c
DTSTAMP:20260422T181607
LOCATION:Aula C Campus scientifico via Torino (edificio Zeta)
SUMMARY:METHODS FOR MOLECULAR DYNAMICS SIMULATION [CM0598] - PIETROPOLLI CHARMET Andrea\, Lezione
URL;VALUE=URI://www.unive.it/data/insegnamento/509802
DTSTART:20251029T140000
END:VEVENT
BEGIN:VEVENT
DTEND:20251105T153000
UID:69e91067986d8
DTSTAMP:20260422T181607
LOCATION:Aula C Campus scientifico via Torino (edificio Zeta)
SUMMARY:METHODS FOR MOLECULAR DYNAMICS SIMULATION [CM0598] - PIETROPOLLI CHARMET Andrea\, Lezione
URL;VALUE=URI://www.unive.it/data/insegnamento/509802
DTSTART:20251105T140000
END:VEVENT
BEGIN:VEVENT
DTEND:20251112T153000
UID:69e9106798724
DTSTAMP:20260422T181607
LOCATION:Aula C Campus scientifico via Torino (edificio Zeta)
SUMMARY:METHODS FOR MOLECULAR DYNAMICS SIMULATION [CM0598] - PIETROPOLLI CHARMET Andrea\, Lezione
URL;VALUE=URI://www.unive.it/data/insegnamento/509802
DTSTART:20251112T140000
END:VEVENT
BEGIN:VEVENT
DTEND:20251119T153000
UID:69e910679876f
DTSTAMP:20260422T181607
LOCATION:Aula C Campus scientifico via Torino (edificio Zeta)
SUMMARY:METHODS FOR MOLECULAR DYNAMICS SIMULATION [CM0598] - PIETROPOLLI CHARMET Andrea\, Lezione
URL;VALUE=URI://www.unive.it/data/insegnamento/509802
DTSTART:20251119T140000
END:VEVENT
BEGIN:VEVENT
DTEND:20251126T153000
UID:69e91067987a9
DTSTAMP:20260422T181607
LOCATION:Aula C Campus scientifico via Torino (edificio Zeta)
SUMMARY:METHODS FOR MOLECULAR DYNAMICS SIMULATION [CM0598] - PIETROPOLLI CHARMET Andrea\, Lezione
URL;VALUE=URI://www.unive.it/data/insegnamento/509802
DTSTART:20251126T140000
END:VEVENT
BEGIN:VEVENT
DTEND:20251203T153000
UID:69e91067987f5
DTSTAMP:20260422T181607
LOCATION:Aula C Campus scientifico via Torino (edificio Zeta)
SUMMARY:METHODS FOR MOLECULAR DYNAMICS SIMULATION [CM0598] - PIETROPOLLI CHARMET Andrea\, Lezione
URL;VALUE=URI://www.unive.it/data/insegnamento/509802
DTSTART:20251203T140000
END:VEVENT
BEGIN:VEVENT
DTEND:20251210T153000
UID:69e9106798843
DTSTAMP:20260422T181607
LOCATION:Aula C Campus scientifico via Torino (edificio Zeta)
SUMMARY:METHODS FOR MOLECULAR DYNAMICS SIMULATION [CM0598] - PIETROPOLLI CHARMET Andrea\, Lezione
URL;VALUE=URI://www.unive.it/data/insegnamento/509802
DTSTART:20251210T140000
END:VEVENT
BEGIN:VEVENT
DTEND:20251217T153000
UID:69e910679888f
DTSTAMP:20260422T181607
LOCATION:Aula C Campus scientifico via Torino (edificio Zeta)
SUMMARY:METHODS FOR MOLECULAR DYNAMICS SIMULATION [CM0598] - PIETROPOLLI CHARMET Andrea\, Lezione
URL;VALUE=URI://www.unive.it/data/insegnamento/509802
DTSTART:20251217T140000
END:VEVENT
BEGIN:VEVENT
DTEND:20260114T153000
UID:69e91067988dd
DTSTAMP:20260422T181607
LOCATION:Aula C Campus scientifico via Torino (edificio Zeta)
SUMMARY:METHODS FOR MOLECULAR DYNAMICS SIMULATION [CM0598] - PIETROPOLLI CHARMET Andrea\, Lezione
URL;VALUE=URI://www.unive.it/data/insegnamento/509802
DTSTART:20260114T140000
END:VEVENT
BEGIN:VEVENT
DTEND:20260121T153000
UID:69e9106798935
DTSTAMP:20260422T181607
LOCATION:Aula C Campus scientifico via Torino (edificio Zeta)
SUMMARY:METHODS FOR MOLECULAR DYNAMICS SIMULATION [CM0598] - PIETROPOLLI CHARMET Andrea\, Lezione
URL;VALUE=URI://www.unive.it/data/insegnamento/509802
DTSTART:20260121T140000
END:VEVENT
BEGIN:VEVENT
DTEND:20260128T153000
UID:69e9106798992
DTSTAMP:20260422T181607
LOCATION:Aula C Campus scientifico via Torino (edificio Zeta)
SUMMARY:METHODS FOR MOLECULAR DYNAMICS SIMULATION [CM0598] - PIETROPOLLI CHARMET Andrea\, Lezione
URL;VALUE=URI://www.unive.it/data/insegnamento/509802
DTSTART:20260128T140000
END:VEVENT
END:VCALENDAR