BEGIN:VCALENDAR
VERSION:2.0
PRODID:-//hacksw/handcal//NONSGML v1.0//EN
CALSCALE:GREGORIAN
X-WR-CALNAME:CHIMICA METALLORGANICA [CM0372]
DESCRIPTION:CHIMICA METALLORGANICA [CM0372]
REFRESH-INTERVAL;VALUE=DURATION:P1D
X-WR-TIMEZONE:Europe/Rome
BEGIN:VEVENT
DTEND:20250930T171500
UID:69e91229b14b5
DTSTAMP:20260422T182337
LOCATION:Aula Delta 2B Campus scientifico via Torino (edificio Delta)
SUMMARY:CHIMICA METALLORGANICA [CM0372] - VISENTIN Fabiano\, Lezione
URL;VALUE=URI://www.unive.it/data/insegnamento/509811
DTSTART:20250930T154500
END:VEVENT
BEGIN:VEVENT
DTEND:20251002T120000
UID:69e91229b1542
DTSTAMP:20260422T182337
LOCATION:Aula Delta 2B Campus scientifico via Torino (edificio Delta)
SUMMARY:CHIMICA METALLORGANICA [CM0372] - VISENTIN Fabiano\, Lezione
URL;VALUE=URI://www.unive.it/data/insegnamento/509811
DTSTART:20251002T103000
END:VEVENT
BEGIN:VEVENT
DTEND:20251007T171500
UID:69e91229b1597
DTSTAMP:20260422T182337
LOCATION:Aula Delta 2B Campus scientifico via Torino (edificio Delta)
SUMMARY:CHIMICA METALLORGANICA [CM0372] - VISENTIN Fabiano\, Lezione
URL;VALUE=URI://www.unive.it/data/insegnamento/509811
DTSTART:20251007T154500
END:VEVENT
BEGIN:VEVENT
DTEND:20251009T120000
UID:69e91229b15e8
DTSTAMP:20260422T182337
LOCATION:Aula Delta 2B Campus scientifico via Torino (edificio Delta)
SUMMARY:CHIMICA METALLORGANICA [CM0372] - VISENTIN Fabiano\, Lezione
URL;VALUE=URI://www.unive.it/data/insegnamento/509811
DTSTART:20251009T103000
END:VEVENT
BEGIN:VEVENT
DTEND:20251014T171500
UID:69e91229b1618
DTSTAMP:20260422T182337
LOCATION:Aula Delta 2B Campus scientifico via Torino (edificio Delta)
SUMMARY:CHIMICA METALLORGANICA [CM0372] - VISENTIN Fabiano\, Lezione
URL;VALUE=URI://www.unive.it/data/insegnamento/509811
DTSTART:20251014T154500
END:VEVENT
BEGIN:VEVENT
DTEND:20251016T120000
UID:69e91229b1665
DTSTAMP:20260422T182337
LOCATION:Aula Delta 2B Campus scientifico via Torino (edificio Delta)
SUMMARY:CHIMICA METALLORGANICA [CM0372] - VISENTIN Fabiano\, Lezione
URL;VALUE=URI://www.unive.it/data/insegnamento/509811
DTSTART:20251016T103000
END:VEVENT
BEGIN:VEVENT
DTEND:20251021T171500
UID:69e91229b16b1
DTSTAMP:20260422T182337
LOCATION:Aula Delta 2B Campus scientifico via Torino (edificio Delta)
SUMMARY:CHIMICA METALLORGANICA [CM0372] - VISENTIN Fabiano\, Lezione
URL;VALUE=URI://www.unive.it/data/insegnamento/509811
DTSTART:20251021T154500
END:VEVENT
BEGIN:VEVENT
DTEND:20251023T120000
UID:69e91229b16fc
DTSTAMP:20260422T182337
LOCATION:Aula Delta 2B Campus scientifico via Torino (edificio Delta)
SUMMARY:CHIMICA METALLORGANICA [CM0372] - VISENTIN Fabiano\, Lezione
URL;VALUE=URI://www.unive.it/data/insegnamento/509811
DTSTART:20251023T103000
END:VEVENT
BEGIN:VEVENT
DTEND:20251028T171500
UID:69e91229b1748
DTSTAMP:20260422T182337
LOCATION:Aula Delta 2B Campus scientifico via Torino (edificio Delta)
SUMMARY:CHIMICA METALLORGANICA [CM0372] - VISENTIN Fabiano\, Lezione
URL;VALUE=URI://www.unive.it/data/insegnamento/509811
DTSTART:20251028T154500
END:VEVENT
BEGIN:VEVENT
DTEND:20251030T120000
UID:69e91229b1794
DTSTAMP:20260422T182337
LOCATION:Aula Delta 2B Campus scientifico via Torino (edificio Delta)
SUMMARY:CHIMICA METALLORGANICA [CM0372] - VISENTIN Fabiano\, Lezione
URL;VALUE=URI://www.unive.it/data/insegnamento/509811
DTSTART:20251030T103000
END:VEVENT
BEGIN:VEVENT
DTEND:20251104T171500
UID:69e91229b17df
DTSTAMP:20260422T182337
LOCATION:Aula Delta 2B Campus scientifico via Torino (edificio Delta)
SUMMARY:CHIMICA METALLORGANICA [CM0372] - VISENTIN Fabiano\, Lezione
URL;VALUE=URI://www.unive.it/data/insegnamento/509811
DTSTART:20251104T154500
END:VEVENT
BEGIN:VEVENT
DTEND:20251106T120000
UID:69e91229b1831
DTSTAMP:20260422T182337
LOCATION:Aula Delta 2B Campus scientifico via Torino (edificio Delta)
SUMMARY:CHIMICA METALLORGANICA [CM0372] - VISENTIN Fabiano\, Lezione
URL;VALUE=URI://www.unive.it/data/insegnamento/509811
DTSTART:20251106T103000
END:VEVENT
BEGIN:VEVENT
DTEND:20251111T171500
UID:69e91229b187c
DTSTAMP:20260422T182337
LOCATION:Aula Delta 2B Campus scientifico via Torino (edificio Delta)
SUMMARY:CHIMICA METALLORGANICA [CM0372] - VISENTIN Fabiano\, Lezione
URL;VALUE=URI://www.unive.it/data/insegnamento/509811
DTSTART:20251111T154500
END:VEVENT
BEGIN:VEVENT
DTEND:20251113T120000
UID:69e91229b18c7
DTSTAMP:20260422T182337
LOCATION:Aula Delta 2B Campus scientifico via Torino (edificio Delta)
SUMMARY:CHIMICA METALLORGANICA [CM0372] - VISENTIN Fabiano\, Lezione
URL;VALUE=URI://www.unive.it/data/insegnamento/509811
DTSTART:20251113T103000
END:VEVENT
BEGIN:VEVENT
DTEND:20251118T171500
UID:69e91229b1912
DTSTAMP:20260422T182337
LOCATION:Aula Delta 2B Campus scientifico via Torino (edificio Delta)
SUMMARY:CHIMICA METALLORGANICA [CM0372] - VISENTIN Fabiano\, Lezione
URL;VALUE=URI://www.unive.it/data/insegnamento/509811
DTSTART:20251118T154500
END:VEVENT
BEGIN:VEVENT
DTEND:20251120T120000
UID:69e91229b195d
DTSTAMP:20260422T182337
LOCATION:Aula Delta 2B Campus scientifico via Torino (edificio Delta)
SUMMARY:CHIMICA METALLORGANICA [CM0372] - VISENTIN Fabiano\, Lezione
URL;VALUE=URI://www.unive.it/data/insegnamento/509811
DTSTART:20251120T103000
END:VEVENT
BEGIN:VEVENT
DTEND:20251125T171500
UID:69e91229b19a8
DTSTAMP:20260422T182337
LOCATION:Aula Delta 2B Campus scientifico via Torino (edificio Delta)
SUMMARY:CHIMICA METALLORGANICA [CM0372] - VISENTIN Fabiano\, Lezione
URL;VALUE=URI://www.unive.it/data/insegnamento/509811
DTSTART:20251125T154500
END:VEVENT
BEGIN:VEVENT
DTEND:20251127T120000
UID:69e91229b19f3
DTSTAMP:20260422T182337
LOCATION:Aula Delta 2B Campus scientifico via Torino (edificio Delta)
SUMMARY:CHIMICA METALLORGANICA [CM0372] - VISENTIN Fabiano\, Lezione
URL;VALUE=URI://www.unive.it/data/insegnamento/509811
DTSTART:20251127T103000
END:VEVENT
BEGIN:VEVENT
DTEND:20251202T171500
UID:69e91229b1a4e
DTSTAMP:20260422T182337
LOCATION:Aula Delta 2B Campus scientifico via Torino (edificio Delta)
SUMMARY:CHIMICA METALLORGANICA [CM0372] - VISENTIN Fabiano\, Lezione
URL;VALUE=URI://www.unive.it/data/insegnamento/509811
DTSTART:20251202T154500
END:VEVENT
BEGIN:VEVENT
DTEND:20251204T120000
UID:69e91229b1a98
DTSTAMP:20260422T182337
LOCATION:Aula Delta 2B Campus scientifico via Torino (edificio Delta)
SUMMARY:CHIMICA METALLORGANICA [CM0372] - VISENTIN Fabiano\, Lezione
URL;VALUE=URI://www.unive.it/data/insegnamento/509811
DTSTART:20251204T103000
END:VEVENT
BEGIN:VEVENT
DTEND:20251209T171500
UID:69e91229b1ae4
DTSTAMP:20260422T182337
LOCATION:Aula Delta 2B Campus scientifico via Torino (edificio Delta)
SUMMARY:CHIMICA METALLORGANICA [CM0372] - VISENTIN Fabiano\, Lezione
URL;VALUE=URI://www.unive.it/data/insegnamento/509811
DTSTART:20251209T154500
END:VEVENT
BEGIN:VEVENT
DTEND:20251211T120000
UID:69e91229b1b2e
DTSTAMP:20260422T182337
LOCATION:Aula Delta 2B Campus scientifico via Torino (edificio Delta)
SUMMARY:CHIMICA METALLORGANICA [CM0372] - VISENTIN Fabiano\, Lezione
URL;VALUE=URI://www.unive.it/data/insegnamento/509811
DTSTART:20251211T103000
END:VEVENT
BEGIN:VEVENT
DTEND:20251216T171500
UID:69e91229b1b79
DTSTAMP:20260422T182337
LOCATION:Aula Delta 2B Campus scientifico via Torino (edificio Delta)
SUMMARY:CHIMICA METALLORGANICA [CM0372] - VISENTIN Fabiano\, Lezione
URL;VALUE=URI://www.unive.it/data/insegnamento/509811
DTSTART:20251216T154500
END:VEVENT
BEGIN:VEVENT
DTEND:20251218T120000
UID:69e91229b1bc5
DTSTAMP:20260422T182337
LOCATION:Aula Delta 2B Campus scientifico via Torino (edificio Delta)
SUMMARY:CHIMICA METALLORGANICA [CM0372] - VISENTIN Fabiano\, Lezione
URL;VALUE=URI://www.unive.it/data/insegnamento/509811
DTSTART:20251218T103000
END:VEVENT
END:VCALENDAR