BEGIN:VCALENDAR
VERSION:2.0
PRODID:-//hacksw/handcal//NONSGML v1.0//EN
CALSCALE:GREGORIAN
X-WR-CALNAME:CHIMICA ANALITICA STRUMENTALE E LABORATORIO - MOD.2 [CT0018]
DESCRIPTION:CHIMICA ANALITICA STRUMENTALE E LABORATORIO - MOD.2 [CT0018]
REFRESH-INTERVAL;VALUE=DURATION:P1D
X-WR-TIMEZONE:Europe/Rome
BEGIN:VEVENT
DTEND:20260407T181500
UID:69e905b7231c7
DTSTAMP:20260422T173031
LOCATION:Laboratorio Chimica Analitica Campus scientifico via Torino (edificio Beta)
SUMMARY:CHIMICA ANALITICA STRUMENTALE E LABORATORIO - MOD.2 [CT0018] - MORO Giulia\, Laboratorio
URL;VALUE=URI://www.unive.it/data/insegnamento/510082
DTSTART:20260407T140000
END:VEVENT
BEGIN:VEVENT
DTEND:20260410T181500
UID:69e905b72326d
DTSTAMP:20260422T173031
LOCATION:Laboratorio Chimica Analitica Campus scientifico via Torino (edificio Beta)
SUMMARY:CHIMICA ANALITICA STRUMENTALE E LABORATORIO - MOD.2 [CT0018] - MORO Giulia\, Laboratorio
URL;VALUE=URI://www.unive.it/data/insegnamento/510082
DTSTART:20260410T140000
END:VEVENT
BEGIN:VEVENT
DTEND:20260414T181500
UID:69e905b7232c1
DTSTAMP:20260422T173031
LOCATION:Laboratorio Chimica Analitica Campus scientifico via Torino (edificio Beta)
SUMMARY:CHIMICA ANALITICA STRUMENTALE E LABORATORIO - MOD.2 [CT0018] - MORO Giulia\, Laboratorio
URL;VALUE=URI://www.unive.it/data/insegnamento/510082
DTSTART:20260414T140000
END:VEVENT
BEGIN:VEVENT
DTEND:20260417T181500
UID:69e905b723310
DTSTAMP:20260422T173031
LOCATION:Laboratorio Chimica Analitica Campus scientifico via Torino (edificio Beta)
SUMMARY:CHIMICA ANALITICA STRUMENTALE E LABORATORIO - MOD.2 [CT0018] - MORO Giulia\, Laboratorio
URL;VALUE=URI://www.unive.it/data/insegnamento/510082
DTSTART:20260417T140000
END:VEVENT
BEGIN:VEVENT
DTEND:20260421T181500
UID:69e905b72335e
DTSTAMP:20260422T173031
LOCATION:Laboratorio Chimica Analitica Campus scientifico via Torino (edificio Beta)
SUMMARY:CHIMICA ANALITICA STRUMENTALE E LABORATORIO - MOD.2 [CT0018] - MORO Giulia\, Laboratorio
URL;VALUE=URI://www.unive.it/data/insegnamento/510082
DTSTART:20260421T140000
END:VEVENT
BEGIN:VEVENT
DTEND:20260424T181500
UID:69e905b7233ad
DTSTAMP:20260422T173031
LOCATION:Laboratorio Chimica Analitica Campus scientifico via Torino (edificio Beta)
SUMMARY:CHIMICA ANALITICA STRUMENTALE E LABORATORIO - MOD.2 [CT0018] - MORO Giulia\, Laboratorio
URL;VALUE=URI://www.unive.it/data/insegnamento/510082
DTSTART:20260424T140000
END:VEVENT
BEGIN:VEVENT
DTEND:20260428T181500
UID:69e905b7233fa
DTSTAMP:20260422T173031
LOCATION:Laboratorio Chimica Analitica Campus scientifico via Torino (edificio Beta)
SUMMARY:CHIMICA ANALITICA STRUMENTALE E LABORATORIO - MOD.2 [CT0018] - MORO Giulia\, Laboratorio
URL;VALUE=URI://www.unive.it/data/insegnamento/510082
DTSTART:20260428T140000
END:VEVENT
BEGIN:VEVENT
DTEND:20260504T181500
UID:69e905b723447
DTSTAMP:20260422T173031
LOCATION:Laboratorio Chimica Analitica Campus scientifico via Torino (edificio Beta)
SUMMARY:CHIMICA ANALITICA STRUMENTALE E LABORATORIO - MOD.2 [CT0018] - MORO Giulia\, Laboratorio
URL;VALUE=URI://www.unive.it/data/insegnamento/510082
DTSTART:20260504T140000
END:VEVENT
BEGIN:VEVENT
DTEND:20260507T181500
UID:69e905b723493
DTSTAMP:20260422T173031
LOCATION:Laboratorio Chimica Analitica Campus scientifico via Torino (edificio Beta)
SUMMARY:CHIMICA ANALITICA STRUMENTALE E LABORATORIO - MOD.2 [CT0018] - MORO Giulia\, Laboratorio
URL;VALUE=URI://www.unive.it/data/insegnamento/510082
DTSTART:20260507T140000
END:VEVENT
BEGIN:VEVENT
DTEND:20260511T181500
UID:69e905b7234ec
DTSTAMP:20260422T173031
LOCATION:Laboratorio Chimica Analitica Campus scientifico via Torino (edificio Beta)
SUMMARY:CHIMICA ANALITICA STRUMENTALE E LABORATORIO - MOD.2 [CT0018] - MORO Giulia\, Laboratorio
URL;VALUE=URI://www.unive.it/data/insegnamento/510082
DTSTART:20260511T140000
END:VEVENT
BEGIN:VEVENT
DTEND:20260514T181500
UID:69e905b72353f
DTSTAMP:20260422T173031
LOCATION:Laboratorio Chimica Analitica Campus scientifico via Torino (edificio Beta)
SUMMARY:CHIMICA ANALITICA STRUMENTALE E LABORATORIO - MOD.2 [CT0018] - MORO Giulia\, Laboratorio
URL;VALUE=URI://www.unive.it/data/insegnamento/510082
DTSTART:20260514T140000
END:VEVENT
BEGIN:VEVENT
DTEND:20260518T181500
UID:69e905b72358f
DTSTAMP:20260422T173031
LOCATION:Laboratorio Chimica Analitica Campus scientifico via Torino (edificio Beta)
SUMMARY:CHIMICA ANALITICA STRUMENTALE E LABORATORIO - MOD.2 [CT0018] - MORO Giulia\, Laboratorio
URL;VALUE=URI://www.unive.it/data/insegnamento/510082
DTSTART:20260518T140000
END:VEVENT
END:VCALENDAR