BEGIN:VCALENDAR
VERSION:2.0
PRODID:-//hacksw/handcal//NONSGML v1.0//EN
CALSCALE:GREGORIAN
X-WR-CALNAME:FUNDING PER L'ARTE E LA CULTURA [EM3E13]
DESCRIPTION:FUNDING PER L'ARTE E LA CULTURA [EM3E13]
REFRESH-INTERVAL;VALUE=DURATION:P1D
X-WR-TIMEZONE:Europe/Rome
BEGIN:VEVENT
DTEND:20260216T134500
UID:69e92d7731a5d
DTSTAMP:20260422T202007
LOCATION:Aula 1F Polo didattico San Basilio (Magazzino 5)
SUMMARY:FUNDING PER L'ARTE E LA CULTURA [EM3E13] - GENOVESI ALESSANDRO\, Lezione
URL;VALUE=URI://www.unive.it/data/insegnamento/512421
DTSTART:20260216T121500
END:VEVENT
BEGIN:VEVENT
DTEND:20260216T153000
UID:69e92d7731b0f
DTSTAMP:20260422T202007
LOCATION:Aula 1F Polo didattico San Basilio (Magazzino 5)
SUMMARY:FUNDING PER L'ARTE E LA CULTURA [EM3E13] - GENOVESI ALESSANDRO\, Lezione
URL;VALUE=URI://www.unive.it/data/insegnamento/512421
DTSTART:20260216T140000
END:VEVENT
BEGIN:VEVENT
DTEND:20260219T171500
UID:69e92d7731b72
DTSTAMP:20260422T202007
LOCATION:Aula San Trovaso Aula San Trovaso
SUMMARY:FUNDING PER L'ARTE E LA CULTURA [EM3E13] - GENOVESI ALESSANDRO\, Lezione
URL;VALUE=URI://www.unive.it/data/insegnamento/512421
DTSTART:20260219T154500
END:VEVENT
BEGIN:VEVENT
DTEND:20260223T134500
UID:69e92d7731bc3
DTSTAMP:20260422T202007
LOCATION:Aula 1F Polo didattico San Basilio (Magazzino 5)
SUMMARY:FUNDING PER L'ARTE E LA CULTURA [EM3E13] - GENOVESI ALESSANDRO\, Lezione
URL;VALUE=URI://www.unive.it/data/insegnamento/512421
DTSTART:20260223T121500
END:VEVENT
BEGIN:VEVENT
DTEND:20260223T153000
UID:69e92d7731c13
DTSTAMP:20260422T202007
LOCATION:Aula 1F Polo didattico San Basilio (Magazzino 5)
SUMMARY:FUNDING PER L'ARTE E LA CULTURA [EM3E13] - GENOVESI ALESSANDRO\, Lezione
URL;VALUE=URI://www.unive.it/data/insegnamento/512421
DTSTART:20260223T140000
END:VEVENT
BEGIN:VEVENT
DTEND:20260226T171500
UID:69e92d7731c5f
DTSTAMP:20260422T202007
LOCATION:Aula San Trovaso Aula San Trovaso
SUMMARY:FUNDING PER L'ARTE E LA CULTURA [EM3E13] - GENOVESI ALESSANDRO\, Lezione
URL;VALUE=URI://www.unive.it/data/insegnamento/512421
DTSTART:20260226T154500
END:VEVENT
BEGIN:VEVENT
DTEND:20260302T134500
UID:69e92d7731cb4
DTSTAMP:20260422T202007
LOCATION:Aula 1F Polo didattico San Basilio (Magazzino 5)
SUMMARY:FUNDING PER L'ARTE E LA CULTURA [EM3E13] - GENOVESI ALESSANDRO\, Lezione
URL;VALUE=URI://www.unive.it/data/insegnamento/512421
DTSTART:20260302T121500
END:VEVENT
BEGIN:VEVENT
DTEND:20260302T153000
UID:69e92d7731d01
DTSTAMP:20260422T202007
LOCATION:Aula 1F Polo didattico San Basilio (Magazzino 5)
SUMMARY:FUNDING PER L'ARTE E LA CULTURA [EM3E13] - GENOVESI ALESSANDRO\, Lezione
URL;VALUE=URI://www.unive.it/data/insegnamento/512421
DTSTART:20260302T140000
END:VEVENT
BEGIN:VEVENT
DTEND:20260305T171500
UID:69e92d7731d4d
DTSTAMP:20260422T202007
LOCATION:Aula San Trovaso Aula San Trovaso
SUMMARY:FUNDING PER L'ARTE E LA CULTURA [EM3E13] - GENOVESI ALESSANDRO\, Lezione
URL;VALUE=URI://www.unive.it/data/insegnamento/512421
DTSTART:20260305T154500
END:VEVENT
BEGIN:VEVENT
DTEND:20260309T134500
UID:69e92d7731d9a
DTSTAMP:20260422T202007
LOCATION:Aula 1F Polo didattico San Basilio (Magazzino 5)
SUMMARY:FUNDING PER L'ARTE E LA CULTURA [EM3E13] - GENOVESI ALESSANDRO\, Lezione
URL;VALUE=URI://www.unive.it/data/insegnamento/512421
DTSTART:20260309T121500
END:VEVENT
BEGIN:VEVENT
DTEND:20260309T153000
UID:69e92d7731de6
DTSTAMP:20260422T202007
LOCATION:Aula 1F Polo didattico San Basilio (Magazzino 5)
SUMMARY:FUNDING PER L'ARTE E LA CULTURA [EM3E13] - GENOVESI ALESSANDRO\, Lezione
URL;VALUE=URI://www.unive.it/data/insegnamento/512421
DTSTART:20260309T140000
END:VEVENT
BEGIN:VEVENT
DTEND:20260312T171500
UID:69e92d7731e32
DTSTAMP:20260422T202007
LOCATION:Aula San Trovaso Aula San Trovaso
SUMMARY:FUNDING PER L'ARTE E LA CULTURA [EM3E13] - GENOVESI ALESSANDRO\, Lezione
URL;VALUE=URI://www.unive.it/data/insegnamento/512421
DTSTART:20260312T154500
END:VEVENT
BEGIN:VEVENT
DTEND:20260316T134500
UID:69e92d7731e7d
DTSTAMP:20260422T202007
LOCATION:Aula 1F Polo didattico San Basilio (Magazzino 5)
SUMMARY:FUNDING PER L'ARTE E LA CULTURA [EM3E13] - GENOVESI ALESSANDRO\, Lezione
URL;VALUE=URI://www.unive.it/data/insegnamento/512421
DTSTART:20260316T121500
END:VEVENT
BEGIN:VEVENT
DTEND:20260316T153000
UID:69e92d7731eca
DTSTAMP:20260422T202007
LOCATION:Aula 1F Polo didattico San Basilio (Magazzino 5)
SUMMARY:FUNDING PER L'ARTE E LA CULTURA [EM3E13] - GENOVESI ALESSANDRO\, Lezione
URL;VALUE=URI://www.unive.it/data/insegnamento/512421
DTSTART:20260316T140000
END:VEVENT
BEGIN:VEVENT
DTEND:20260319T171500
UID:69e92d7731f08
DTSTAMP:20260422T202007
LOCATION:Aula San Trovaso Aula San Trovaso
SUMMARY:FUNDING PER L'ARTE E LA CULTURA [EM3E13] - GENOVESI ALESSANDRO\, Lezione
URL;VALUE=URI://www.unive.it/data/insegnamento/512421
DTSTART:20260319T154500
END:VEVENT
BEGIN:VEVENT
DTEND:20260323T134500
UID:69e92d7731f55
DTSTAMP:20260422T202007
LOCATION:Aula 1F Polo didattico San Basilio (Magazzino 5)
SUMMARY:FUNDING PER L'ARTE E LA CULTURA [EM3E13] - GENOVESI ALESSANDRO\, Lezione
URL;VALUE=URI://www.unive.it/data/insegnamento/512421
DTSTART:20260323T121500
END:VEVENT
BEGIN:VEVENT
DTEND:20260323T153000
UID:69e92d7731fa1
DTSTAMP:20260422T202007
LOCATION:Aula 1F Polo didattico San Basilio (Magazzino 5)
SUMMARY:FUNDING PER L'ARTE E LA CULTURA [EM3E13] - GENOVESI ALESSANDRO\, Lezione
URL;VALUE=URI://www.unive.it/data/insegnamento/512421
DTSTART:20260323T140000
END:VEVENT
BEGIN:VEVENT
DTEND:20260326T171500
UID:69e92d7731fec
DTSTAMP:20260422T202007
LOCATION:Aula San Trovaso Aula San Trovaso
SUMMARY:FUNDING PER L'ARTE E LA CULTURA [EM3E13] - GENOVESI ALESSANDRO\, Lezione
URL;VALUE=URI://www.unive.it/data/insegnamento/512421
DTSTART:20260326T154500
END:VEVENT
END:VCALENDAR