BEGIN:VCALENDAR
VERSION:2.0
PRODID:-//hacksw/handcal//NONSGML v1.0//EN
CALSCALE:GREGORIAN
X-WR-CALNAME:FONDAMENTI DI ETNOMUSICOLOGIA [FT0432]
DESCRIPTION:FONDAMENTI DI ETNOMUSICOLOGIA [FT0432]
REFRESH-INTERVAL;VALUE=DURATION:P1D
X-WR-TIMEZONE:Europe/Rome
BEGIN:VEVENT
DTEND:20250922T190000
UID:69e6d3647c327
DTSTAMP:20260421T013116
LOCATION:Aula Zattere Palazzo Cosulich
SUMMARY:FONDAMENTI DI ETNOMUSICOLOGIA [FT0432] - De Zorzi Giovanni\, Lezione
URL;VALUE=URI://www.unive.it/data/insegnamento/512702
DTSTART:20250922T173000
END:VEVENT
BEGIN:VEVENT
DTEND:20250923T153000
UID:69e6d3647c3af
DTSTAMP:20260421T013116
LOCATION:Aula 1A Polo didattico San Basilio (Magazzino 5)
SUMMARY:FONDAMENTI DI ETNOMUSICOLOGIA [FT0432] - De Zorzi Giovanni\, Lezione
URL;VALUE=URI://www.unive.it/data/insegnamento/512702
DTSTART:20250923T140000
END:VEVENT
BEGIN:VEVENT
DTEND:20250926T120000
UID:69e6d3647c3ff
DTSTAMP:20260421T013116
LOCATION:Aula 0D Polo didattico San Basilio (Magazzino 5)
SUMMARY:FONDAMENTI DI ETNOMUSICOLOGIA [FT0432] - De Zorzi Giovanni\, Lezione
URL;VALUE=URI://www.unive.it/data/insegnamento/512702
DTSTART:20250926T103000
END:VEVENT
BEGIN:VEVENT
DTEND:20250929T190000
UID:69e6d3647c44c
DTSTAMP:20260421T013116
LOCATION:Aula Zattere Palazzo Cosulich
SUMMARY:FONDAMENTI DI ETNOMUSICOLOGIA [FT0432] - De Zorzi Giovanni\, Lezione
URL;VALUE=URI://www.unive.it/data/insegnamento/512702
DTSTART:20250929T173000
END:VEVENT
BEGIN:VEVENT
DTEND:20250930T153000
UID:69e6d3647c497
DTSTAMP:20260421T013116
LOCATION:Aula 1A Polo didattico San Basilio (Magazzino 5)
SUMMARY:FONDAMENTI DI ETNOMUSICOLOGIA [FT0432] - De Zorzi Giovanni\, Lezione
URL;VALUE=URI://www.unive.it/data/insegnamento/512702
DTSTART:20250930T140000
END:VEVENT
BEGIN:VEVENT
DTEND:20251006T190000
UID:69e6d3647c4e3
DTSTAMP:20260421T013116
LOCATION:Aula Zattere Palazzo Cosulich
SUMMARY:FONDAMENTI DI ETNOMUSICOLOGIA [FT0432] - De Zorzi Giovanni\, Lezione
URL;VALUE=URI://www.unive.it/data/insegnamento/512702
DTSTART:20251006T173000
END:VEVENT
BEGIN:VEVENT
DTEND:20251007T153000
UID:69e6d3647c52f
DTSTAMP:20260421T013116
LOCATION:Aula 1A Polo didattico San Basilio (Magazzino 5)
SUMMARY:FONDAMENTI DI ETNOMUSICOLOGIA [FT0432] - De Zorzi Giovanni\, Lezione
URL;VALUE=URI://www.unive.it/data/insegnamento/512702
DTSTART:20251007T140000
END:VEVENT
BEGIN:VEVENT
DTEND:20251010T120000
UID:69e6d3647c57a
DTSTAMP:20260421T013116
LOCATION:Aula 0D Polo didattico San Basilio (Magazzino 5)
SUMMARY:FONDAMENTI DI ETNOMUSICOLOGIA [FT0432] - De Zorzi Giovanni\, Lezione
URL;VALUE=URI://www.unive.it/data/insegnamento/512702
DTSTART:20251010T103000
END:VEVENT
BEGIN:VEVENT
DTEND:20251013T190000
UID:69e6d3647c5c6
DTSTAMP:20260421T013116
LOCATION:Aula Zattere Palazzo Cosulich
SUMMARY:FONDAMENTI DI ETNOMUSICOLOGIA [FT0432] - De Zorzi Giovanni\, Lezione
URL;VALUE=URI://www.unive.it/data/insegnamento/512702
DTSTART:20251013T173000
END:VEVENT
BEGIN:VEVENT
DTEND:20251014T153000
UID:69e6d3647c611
DTSTAMP:20260421T013116
LOCATION:Aula 1A Polo didattico San Basilio (Magazzino 5)
SUMMARY:FONDAMENTI DI ETNOMUSICOLOGIA [FT0432] - De Zorzi Giovanni\, Lezione
URL;VALUE=URI://www.unive.it/data/insegnamento/512702
DTSTART:20251014T140000
END:VEVENT
BEGIN:VEVENT
DTEND:20251017T120000
UID:69e6d3647c65d
DTSTAMP:20260421T013116
LOCATION:Aula 0D Polo didattico San Basilio (Magazzino 5)
SUMMARY:FONDAMENTI DI ETNOMUSICOLOGIA [FT0432] - De Zorzi Giovanni\, Lezione
URL;VALUE=URI://www.unive.it/data/insegnamento/512702
DTSTART:20251017T103000
END:VEVENT
BEGIN:VEVENT
DTEND:20251020T190000
UID:69e6d3647c6b2
DTSTAMP:20260421T013116
LOCATION:Aula Zattere Palazzo Cosulich
SUMMARY:FONDAMENTI DI ETNOMUSICOLOGIA [FT0432] - De Zorzi Giovanni\, Lezione
URL;VALUE=URI://www.unive.it/data/insegnamento/512702
DTSTART:20251020T173000
END:VEVENT
BEGIN:VEVENT
DTEND:20251021T153000
UID:69e6d3647c6fe
DTSTAMP:20260421T013116
LOCATION:Aula 1A Polo didattico San Basilio (Magazzino 5)
SUMMARY:FONDAMENTI DI ETNOMUSICOLOGIA [FT0432] - De Zorzi Giovanni\, Lezione
URL;VALUE=URI://www.unive.it/data/insegnamento/512702
DTSTART:20251021T140000
END:VEVENT
BEGIN:VEVENT
DTEND:20251024T120000
UID:69e6d3647c749
DTSTAMP:20260421T013116
LOCATION:Aula 0D Polo didattico San Basilio (Magazzino 5)
SUMMARY:FONDAMENTI DI ETNOMUSICOLOGIA [FT0432] - De Zorzi Giovanni\, Lezione
URL;VALUE=URI://www.unive.it/data/insegnamento/512702
DTSTART:20251024T103000
END:VEVENT
BEGIN:VEVENT
DTEND:20251027T190000
UID:69e6d3647c797
DTSTAMP:20260421T013116
LOCATION:Aula Zattere Palazzo Cosulich
SUMMARY:FONDAMENTI DI ETNOMUSICOLOGIA [FT0432] - De Zorzi Giovanni\, Lezione
URL;VALUE=URI://www.unive.it/data/insegnamento/512702
DTSTART:20251027T173000
END:VEVENT
BEGIN:VEVENT
DTEND:20251028T153000
UID:69e6d3647c7e3
DTSTAMP:20260421T013116
LOCATION:Aula 1A Polo didattico San Basilio (Magazzino 5)
SUMMARY:FONDAMENTI DI ETNOMUSICOLOGIA [FT0432] - De Zorzi Giovanni\, Lezione
URL;VALUE=URI://www.unive.it/data/insegnamento/512702
DTSTART:20251028T140000
END:VEVENT
BEGIN:VEVENT
DTEND:20251031T120000
UID:69e6d3647c82f
DTSTAMP:20260421T013116
LOCATION:Aula 0D Polo didattico San Basilio (Magazzino 5)
SUMMARY:FONDAMENTI DI ETNOMUSICOLOGIA [FT0432] - De Zorzi Giovanni\, Lezione
URL;VALUE=URI://www.unive.it/data/insegnamento/512702
DTSTART:20251031T103000
END:VEVENT
END:VCALENDAR