BEGIN:VCALENDAR
VERSION:2.0
PRODID:-//hacksw/handcal//NONSGML v1.0//EN
CALSCALE:GREGORIAN
X-WR-CALNAME:ERMENEUTICA FILOSOFICA I [FT0068]
DESCRIPTION:ERMENEUTICA FILOSOFICA I [FT0068]
REFRESH-INTERVAL;VALUE=DURATION:P1D
X-WR-TIMEZONE:Europe/Rome
BEGIN:VEVENT
DTEND:20260218T101500
UID:69e92d76a514b
DTSTAMP:20260422T202006
LOCATION:Aula 2L Polo didattico San Basilio (Magazzino 4)
SUMMARY:ERMENEUTICA FILOSOFICA I [FT0068] - TRIZIO Emiliano\, Lezione
URL;VALUE=URI://www.unive.it/data/insegnamento/512914
DTSTART:20260218T084500
END:VEVENT
BEGIN:VEVENT
DTEND:20260219T171500
UID:69e92d76a51eb
DTSTAMP:20260422T202006
LOCATION:Aula 1C Polo didattico San Basilio (Magazzino 5)
SUMMARY:ERMENEUTICA FILOSOFICA I [FT0068] - TRIZIO Emiliano\, Lezione
URL;VALUE=URI://www.unive.it/data/insegnamento/512914
DTSTART:20260219T154500
END:VEVENT
BEGIN:VEVENT
DTEND:20260220T134500
UID:69e92d76a5248
DTSTAMP:20260422T202006
LOCATION:Aula 1B Polo didattico San Basilio (Magazzino 5)
SUMMARY:ERMENEUTICA FILOSOFICA I [FT0068] - TRIZIO Emiliano\, Lezione
URL;VALUE=URI://www.unive.it/data/insegnamento/512914
DTSTART:20260220T121500
END:VEVENT
BEGIN:VEVENT
DTEND:20260225T101500
UID:69e92d76a52a0
DTSTAMP:20260422T202006
LOCATION:Aula 2L Polo didattico San Basilio (Magazzino 4)
SUMMARY:ERMENEUTICA FILOSOFICA I [FT0068] - TRIZIO Emiliano\, Lezione
URL;VALUE=URI://www.unive.it/data/insegnamento/512914
DTSTART:20260225T084500
END:VEVENT
BEGIN:VEVENT
DTEND:20260226T171500
UID:69e92d76a52d3
DTSTAMP:20260422T202006
LOCATION:Aula 1C Polo didattico San Basilio (Magazzino 5)
SUMMARY:ERMENEUTICA FILOSOFICA I [FT0068] - TRIZIO Emiliano\, Lezione
URL;VALUE=URI://www.unive.it/data/insegnamento/512914
DTSTART:20260226T154500
END:VEVENT
BEGIN:VEVENT
DTEND:20260227T134500
UID:69e92d76a5328
DTSTAMP:20260422T202006
LOCATION:Aula 1B Polo didattico San Basilio (Magazzino 5)
SUMMARY:ERMENEUTICA FILOSOFICA I [FT0068] - TRIZIO Emiliano\, Lezione
URL;VALUE=URI://www.unive.it/data/insegnamento/512914
DTSTART:20260227T121500
END:VEVENT
BEGIN:VEVENT
DTEND:20260304T101500
UID:69e92d76a5375
DTSTAMP:20260422T202006
LOCATION:Aula 2L Polo didattico San Basilio (Magazzino 4)
SUMMARY:ERMENEUTICA FILOSOFICA I [FT0068] - TRIZIO Emiliano\, Lezione
URL;VALUE=URI://www.unive.it/data/insegnamento/512914
DTSTART:20260304T084500
END:VEVENT
BEGIN:VEVENT
DTEND:20260305T171500
UID:69e92d76a53c2
DTSTAMP:20260422T202006
LOCATION:Aula 1C Polo didattico San Basilio (Magazzino 5)
SUMMARY:ERMENEUTICA FILOSOFICA I [FT0068] - TRIZIO Emiliano\, Lezione
URL;VALUE=URI://www.unive.it/data/insegnamento/512914
DTSTART:20260305T154500
END:VEVENT
BEGIN:VEVENT
DTEND:20260306T134500
UID:69e92d76a540d
DTSTAMP:20260422T202006
LOCATION:Aula 1B Polo didattico San Basilio (Magazzino 5)
SUMMARY:ERMENEUTICA FILOSOFICA I [FT0068] - TRIZIO Emiliano\, Lezione
URL;VALUE=URI://www.unive.it/data/insegnamento/512914
DTSTART:20260306T121500
END:VEVENT
BEGIN:VEVENT
DTEND:20260311T101500
UID:69e92d76a5460
DTSTAMP:20260422T202006
LOCATION:Aula 2L Polo didattico San Basilio (Magazzino 4)
SUMMARY:ERMENEUTICA FILOSOFICA I [FT0068] - TRIZIO Emiliano\, Lezione
URL;VALUE=URI://www.unive.it/data/insegnamento/512914
DTSTART:20260311T084500
END:VEVENT
BEGIN:VEVENT
DTEND:20260312T171500
UID:69e92d76a54ac
DTSTAMP:20260422T202006
LOCATION:Aula 1C Polo didattico San Basilio (Magazzino 5)
SUMMARY:ERMENEUTICA FILOSOFICA I [FT0068] - TRIZIO Emiliano\, Lezione
URL;VALUE=URI://www.unive.it/data/insegnamento/512914
DTSTART:20260312T154500
END:VEVENT
BEGIN:VEVENT
DTEND:20260313T134500
UID:69e92d76a54f8
DTSTAMP:20260422T202006
LOCATION:Aula 1B Polo didattico San Basilio (Magazzino 5)
SUMMARY:ERMENEUTICA FILOSOFICA I [FT0068] - TRIZIO Emiliano\, Lezione
URL;VALUE=URI://www.unive.it/data/insegnamento/512914
DTSTART:20260313T121500
END:VEVENT
BEGIN:VEVENT
DTEND:20260320T134500
UID:69e92d76a5543
DTSTAMP:20260422T202006
LOCATION:Aula 1B Polo didattico San Basilio (Magazzino 5)
SUMMARY:ERMENEUTICA FILOSOFICA I [FT0068] - TRIZIO Emiliano\, Lezione
URL;VALUE=URI://www.unive.it/data/insegnamento/512914
DTSTART:20260320T121500
END:VEVENT
BEGIN:VEVENT
DTEND:20260320T190000
UID:69e92d76a558f
DTSTAMP:20260422T202006
LOCATION:Aula 1F Polo didattico San Basilio (Magazzino 5)
SUMMARY:ERMENEUTICA FILOSOFICA I [FT0068] - TRIZIO Emiliano\, Lezione
URL;VALUE=URI://www.unive.it/data/insegnamento/512914
DTSTART:20260320T173000
END:VEVENT
BEGIN:VEVENT
DTEND:20260325T101500
UID:69e92d76a55da
DTSTAMP:20260422T202006
LOCATION:Aula 2L Polo didattico San Basilio (Magazzino 4)
SUMMARY:ERMENEUTICA FILOSOFICA I [FT0068] - TRIZIO Emiliano\, Lezione
URL;VALUE=URI://www.unive.it/data/insegnamento/512914
DTSTART:20260325T084500
END:VEVENT
BEGIN:VEVENT
DTEND:20260326T171500
UID:69e92d76a5626
DTSTAMP:20260422T202006
LOCATION:Aula 1C Polo didattico San Basilio (Magazzino 5)
SUMMARY:ERMENEUTICA FILOSOFICA I [FT0068] - TRIZIO Emiliano\, Lezione
URL;VALUE=URI://www.unive.it/data/insegnamento/512914
DTSTART:20260326T154500
END:VEVENT
BEGIN:VEVENT
DTEND:20260327T134500
UID:69e92d76a5670
DTSTAMP:20260422T202006
LOCATION:Aula 1B Polo didattico San Basilio (Magazzino 5)
SUMMARY:ERMENEUTICA FILOSOFICA I [FT0068] - TRIZIO Emiliano\, Lezione
URL;VALUE=URI://www.unive.it/data/insegnamento/512914
DTSTART:20260327T121500
END:VEVENT
END:VCALENDAR