BEGIN:VCALENDAR
VERSION:2.0
PRODID:-//hacksw/handcal//NONSGML v1.0//EN
CALSCALE:GREGORIAN
X-WR-CALNAME:FILOSOFIA TEORETICA I [FT0276]
DESCRIPTION:FILOSOFIA TEORETICA I [FT0276]
REFRESH-INTERVAL;VALUE=DURATION:P1D
X-WR-TIMEZONE:Europe/Rome
BEGIN:VEVENT
DTEND:20260218T171500
UID:69e92d76ef4f5
DTSTAMP:20260422T202006
LOCATION:Aula 2P Polo didattico San Basilio (Magazzino 4)
SUMMARY:FILOSOFIA TEORETICA I [FT0276] - Spanio Davide\, Lezione
URL;VALUE=URI://www.unive.it/data/insegnamento/512938
DTSTART:20260218T154500
END:VEVENT
BEGIN:VEVENT
DTEND:20260219T153000
UID:69e92d76ef598
DTSTAMP:20260422T202006
LOCATION:Aula 2P Polo didattico San Basilio (Magazzino 4)
SUMMARY:FILOSOFIA TEORETICA I [FT0276] - Spanio Davide\, Lezione
URL;VALUE=URI://www.unive.it/data/insegnamento/512938
DTSTART:20260219T140000
END:VEVENT
BEGIN:VEVENT
DTEND:20260220T153000
UID:69e92d76ef5ee
DTSTAMP:20260422T202006
LOCATION:Aula 2P Polo didattico San Basilio (Magazzino 4)
SUMMARY:FILOSOFIA TEORETICA I [FT0276] - Spanio Davide\, Lezione
URL;VALUE=URI://www.unive.it/data/insegnamento/512938
DTSTART:20260220T140000
END:VEVENT
BEGIN:VEVENT
DTEND:20260225T171500
UID:69e92d76ef64a
DTSTAMP:20260422T202006
LOCATION:Aula 2P Polo didattico San Basilio (Magazzino 4)
SUMMARY:FILOSOFIA TEORETICA I [FT0276] - Spanio Davide\, Lezione
URL;VALUE=URI://www.unive.it/data/insegnamento/512938
DTSTART:20260225T154500
END:VEVENT
BEGIN:VEVENT
DTEND:20260226T153000
UID:69e92d76ef6a2
DTSTAMP:20260422T202006
LOCATION:Aula 2P Polo didattico San Basilio (Magazzino 4)
SUMMARY:FILOSOFIA TEORETICA I [FT0276] - Spanio Davide\, Lezione
URL;VALUE=URI://www.unive.it/data/insegnamento/512938
DTSTART:20260226T140000
END:VEVENT
BEGIN:VEVENT
DTEND:20260227T153000
UID:69e92d76ef6f3
DTSTAMP:20260422T202006
LOCATION:Aula 2P Polo didattico San Basilio (Magazzino 4)
SUMMARY:FILOSOFIA TEORETICA I [FT0276] - Spanio Davide\, Lezione
URL;VALUE=URI://www.unive.it/data/insegnamento/512938
DTSTART:20260227T140000
END:VEVENT
BEGIN:VEVENT
DTEND:20260305T153000
UID:69e92d76ef743
DTSTAMP:20260422T202006
LOCATION:Aula 2P Polo didattico San Basilio (Magazzino 4)
SUMMARY:FILOSOFIA TEORETICA I [FT0276] - Spanio Davide\, Lezione
URL;VALUE=URI://www.unive.it/data/insegnamento/512938
DTSTART:20260305T140000
END:VEVENT
BEGIN:VEVENT
DTEND:20260306T153000
UID:69e92d76ef790
DTSTAMP:20260422T202006
LOCATION:Aula 2P Polo didattico San Basilio (Magazzino 4)
SUMMARY:FILOSOFIA TEORETICA I [FT0276] - Spanio Davide\, Lezione
URL;VALUE=URI://www.unive.it/data/insegnamento/512938
DTSTART:20260306T140000
END:VEVENT
BEGIN:VEVENT
DTEND:20260311T171500
UID:69e92d76ef7e5
DTSTAMP:20260422T202006
LOCATION:Aula 2B Polo didattico San Basilio (Magazzino 5)
SUMMARY:FILOSOFIA TEORETICA I [FT0276] - Spanio Davide\, Lezione
URL;VALUE=URI://www.unive.it/data/insegnamento/512938
DTSTART:20260311T154500
END:VEVENT
BEGIN:VEVENT
DTEND:20260312T153000
UID:69e92d76ef834
DTSTAMP:20260422T202006
LOCATION:Aula gradoni Santa Marta
SUMMARY:FILOSOFIA TEORETICA I [FT0276] - Spanio Davide\, Lezione
URL;VALUE=URI://www.unive.it/data/insegnamento/512938
DTSTART:20260312T140000
END:VEVENT
BEGIN:VEVENT
DTEND:20260313T153000
UID:69e92d76ef87e
DTSTAMP:20260422T202006
LOCATION:Aula 2B Polo didattico San Basilio (Magazzino 5)
SUMMARY:FILOSOFIA TEORETICA I [FT0276] - Spanio Davide\, Lezione
URL;VALUE=URI://www.unive.it/data/insegnamento/512938
DTSTART:20260313T140000
END:VEVENT
BEGIN:VEVENT
DTEND:20260318T171500
UID:69e92d76ef8c9
DTSTAMP:20260422T202006
LOCATION:Aula 2B Polo didattico San Basilio (Magazzino 5)
SUMMARY:FILOSOFIA TEORETICA I [FT0276] - Spanio Davide\, Lezione
URL;VALUE=URI://www.unive.it/data/insegnamento/512938
DTSTART:20260318T154500
END:VEVENT
BEGIN:VEVENT
DTEND:20260320T153000
UID:69e92d76ef918
DTSTAMP:20260422T202006
LOCATION:Aula 2B Polo didattico San Basilio (Magazzino 5)
SUMMARY:FILOSOFIA TEORETICA I [FT0276] - Spanio Davide\, Lezione
URL;VALUE=URI://www.unive.it/data/insegnamento/512938
DTSTART:20260320T140000
END:VEVENT
BEGIN:VEVENT
DTEND:20260325T171500
UID:69e92d76ef967
DTSTAMP:20260422T202006
LOCATION:Aula 2B Polo didattico San Basilio (Magazzino 5)
SUMMARY:FILOSOFIA TEORETICA I [FT0276] - Spanio Davide\, Lezione
URL;VALUE=URI://www.unive.it/data/insegnamento/512938
DTSTART:20260325T154500
END:VEVENT
BEGIN:VEVENT
DTEND:20260326T153000
UID:69e92d76ef9b5
DTSTAMP:20260422T202006
LOCATION:Aula gradoni Santa Marta
SUMMARY:FILOSOFIA TEORETICA I [FT0276] - Spanio Davide\, Lezione
URL;VALUE=URI://www.unive.it/data/insegnamento/512938
DTSTART:20260326T140000
END:VEVENT
BEGIN:VEVENT
DTEND:20260327T153000
UID:69e92d76efa04
DTSTAMP:20260422T202006
LOCATION:Aula 2B Polo didattico San Basilio (Magazzino 5)
SUMMARY:FILOSOFIA TEORETICA I [FT0276] - Spanio Davide\, Lezione
URL;VALUE=URI://www.unive.it/data/insegnamento/512938
DTSTART:20260327T140000
END:VEVENT
END:VCALENDAR