BEGIN:VCALENDAR
VERSION:2.0
PRODID:-//hacksw/handcal//NONSGML v1.0//EN
CALSCALE:GREGORIAN
X-WR-CALNAME:ECONOMICS OF LABOUR AND WELFARE [LT9023]
DESCRIPTION:ECONOMICS OF LABOUR AND WELFARE [LT9023]
REFRESH-INTERVAL;VALUE=DURATION:P1D
X-WR-TIMEZONE:Europe/Rome
BEGIN:VEVENT
DTEND:20250923T101500
UID:69e6eba4a2ed0
DTSTAMP:20260421T031444
LOCATION:Sala Giovanni Morelli Malcanton Marcorà
SUMMARY:ECONOMICS OF LABOUR AND WELFARE [LT9023] - BRILLI Ylenia\, Lezione
URL;VALUE=URI://www.unive.it/data/insegnamento/513081
DTSTART:20250923T084500
END:VEVENT
BEGIN:VEVENT
DTEND:20250926T101500
UID:69e6eba4a2f58
DTSTAMP:20260421T031444
LOCATION:Sala Giovanni Morelli Malcanton Marcorà
SUMMARY:ECONOMICS OF LABOUR AND WELFARE [LT9023] - BRILLI Ylenia\, Lezione
URL;VALUE=URI://www.unive.it/data/insegnamento/513081
DTSTART:20250926T084500
END:VEVENT
BEGIN:VEVENT
DTEND:20250926T120000
UID:69e6eba4a2fa2
DTSTAMP:20260421T031444
LOCATION:Sala Giovanni Morelli Malcanton Marcorà
SUMMARY:ECONOMICS OF LABOUR AND WELFARE [LT9023] - BRILLI Ylenia\, Lezione
URL;VALUE=URI://www.unive.it/data/insegnamento/513081
DTSTART:20250926T103000
END:VEVENT
BEGIN:VEVENT
DTEND:20250930T101500
UID:69e6eba4a2ff2
DTSTAMP:20260421T031444
LOCATION:Sala Giovanni Morelli Malcanton Marcorà
SUMMARY:ECONOMICS OF LABOUR AND WELFARE [LT9023] - BRILLI Ylenia\, Lezione
URL;VALUE=URI://www.unive.it/data/insegnamento/513081
DTSTART:20250930T084500
END:VEVENT
BEGIN:VEVENT
DTEND:20251003T101500
UID:69e6eba4a303f
DTSTAMP:20260421T031444
LOCATION:Sala Giovanni Morelli Malcanton Marcorà
SUMMARY:ECONOMICS OF LABOUR AND WELFARE [LT9023] - BRILLI Ylenia\, Lezione
URL;VALUE=URI://www.unive.it/data/insegnamento/513081
DTSTART:20251003T084500
END:VEVENT
BEGIN:VEVENT
DTEND:20251003T120000
UID:69e6eba4a3089
DTSTAMP:20260421T031444
LOCATION:Sala Giovanni Morelli Malcanton Marcorà
SUMMARY:ECONOMICS OF LABOUR AND WELFARE [LT9023] - BRILLI Ylenia\, Lezione
URL;VALUE=URI://www.unive.it/data/insegnamento/513081
DTSTART:20251003T103000
END:VEVENT
BEGIN:VEVENT
DTEND:20251007T101500
UID:69e6eba4a30d4
DTSTAMP:20260421T031444
LOCATION:Sala Giovanni Morelli Malcanton Marcorà
SUMMARY:ECONOMICS OF LABOUR AND WELFARE [LT9023] - BRILLI Ylenia\, Lezione
URL;VALUE=URI://www.unive.it/data/insegnamento/513081
DTSTART:20251007T084500
END:VEVENT
BEGIN:VEVENT
DTEND:20251010T101500
UID:69e6eba4a311f
DTSTAMP:20260421T031444
LOCATION:Sala Giovanni Morelli Malcanton Marcorà
SUMMARY:ECONOMICS OF LABOUR AND WELFARE [LT9023] - BRILLI Ylenia\, Lezione
URL;VALUE=URI://www.unive.it/data/insegnamento/513081
DTSTART:20251010T084500
END:VEVENT
BEGIN:VEVENT
DTEND:20251010T120000
UID:69e6eba4a3169
DTSTAMP:20260421T031444
LOCATION:Sala Giovanni Morelli Malcanton Marcorà
SUMMARY:ECONOMICS OF LABOUR AND WELFARE [LT9023] - BRILLI Ylenia\, Lezione
URL;VALUE=URI://www.unive.it/data/insegnamento/513081
DTSTART:20251010T103000
END:VEVENT
BEGIN:VEVENT
DTEND:20251014T101500
UID:69e6eba4a31b4
DTSTAMP:20260421T031444
LOCATION:Sala Giovanni Morelli Malcanton Marcorà
SUMMARY:ECONOMICS OF LABOUR AND WELFARE [LT9023] - BRILLI Ylenia\, Lezione
URL;VALUE=URI://www.unive.it/data/insegnamento/513081
DTSTART:20251014T084500
END:VEVENT
BEGIN:VEVENT
DTEND:20251017T101500
UID:69e6eba4a31fe
DTSTAMP:20260421T031444
LOCATION:Sala Giovanni Morelli Malcanton Marcorà
SUMMARY:ECONOMICS OF LABOUR AND WELFARE [LT9023] - BRILLI Ylenia\, Lezione
URL;VALUE=URI://www.unive.it/data/insegnamento/513081
DTSTART:20251017T084500
END:VEVENT
BEGIN:VEVENT
DTEND:20251017T120000
UID:69e6eba4a3248
DTSTAMP:20260421T031444
LOCATION:Sala Giovanni Morelli Malcanton Marcorà
SUMMARY:ECONOMICS OF LABOUR AND WELFARE [LT9023] - BRILLI Ylenia\, Lezione
URL;VALUE=URI://www.unive.it/data/insegnamento/513081
DTSTART:20251017T103000
END:VEVENT
BEGIN:VEVENT
DTEND:20251021T101500
UID:69e6eba4a3292
DTSTAMP:20260421T031444
LOCATION:Sala Giovanni Morelli Malcanton Marcorà
SUMMARY:ECONOMICS OF LABOUR AND WELFARE [LT9023] - BRILLI Ylenia\, Lezione
URL;VALUE=URI://www.unive.it/data/insegnamento/513081
DTSTART:20251021T084500
END:VEVENT
BEGIN:VEVENT
DTEND:20251024T101500
UID:69e6eba4a32dd
DTSTAMP:20260421T031444
LOCATION:Sala Giovanni Morelli Malcanton Marcorà
SUMMARY:ECONOMICS OF LABOUR AND WELFARE [LT9023] - BRILLI Ylenia\, Lezione
URL;VALUE=URI://www.unive.it/data/insegnamento/513081
DTSTART:20251024T084500
END:VEVENT
BEGIN:VEVENT
DTEND:20251024T120000
UID:69e6eba4a3327
DTSTAMP:20260421T031444
LOCATION:Sala Giovanni Morelli Malcanton Marcorà
SUMMARY:ECONOMICS OF LABOUR AND WELFARE [LT9023] - BRILLI Ylenia\, Lezione
URL;VALUE=URI://www.unive.it/data/insegnamento/513081
DTSTART:20251024T103000
END:VEVENT
BEGIN:VEVENT
DTEND:20251028T101500
UID:69e6eba4a3371
DTSTAMP:20260421T031444
LOCATION:Sala Giovanni Morelli Malcanton Marcorà
SUMMARY:ECONOMICS OF LABOUR AND WELFARE [LT9023] - BRILLI Ylenia\, Lezione
URL;VALUE=URI://www.unive.it/data/insegnamento/513081
DTSTART:20251028T084500
END:VEVENT
BEGIN:VEVENT
DTEND:20251031T101500
UID:69e6eba4a33c9
DTSTAMP:20260421T031444
LOCATION:Sala Giovanni Morelli Malcanton Marcorà
SUMMARY:ECONOMICS OF LABOUR AND WELFARE [LT9023] - BRILLI Ylenia\, Lezione
URL;VALUE=URI://www.unive.it/data/insegnamento/513081
DTSTART:20251031T084500
END:VEVENT
BEGIN:VEVENT
DTEND:20251031T120000
UID:69e6eba4a3414
DTSTAMP:20260421T031444
LOCATION:Sala Giovanni Morelli Malcanton Marcorà
SUMMARY:ECONOMICS OF LABOUR AND WELFARE [LT9023] - BRILLI Ylenia\, Lezione
URL;VALUE=URI://www.unive.it/data/insegnamento/513081
DTSTART:20251031T103000
END:VEVENT
END:VCALENDAR