BEGIN:VCALENDAR
VERSION:2.0
PRODID:-//hacksw/handcal//NONSGML v1.0//EN
CALSCALE:GREGORIAN
X-WR-CALNAME:ENTREPRENEURSHIP AND BUSINESS MODELS [EM1303]
DESCRIPTION:ENTREPRENEURSHIP AND BUSINESS MODELS [EM1303]
REFRESH-INTERVAL;VALUE=DURATION:P1D
X-WR-TIMEZONE:Europe/Rome
BEGIN:VEVENT
DTEND:20251112T120000
UID:69e964067fa35
DTSTAMP:20260423T001254
LOCATION:Aula 9C San Giobbe
SUMMARY:ENTREPRENEURSHIP AND BUSINESS MODELS [EM1303] - Finotto Vladi\, Lezione
URL;VALUE=URI://www.unive.it/data/insegnamento/514274
DTSTART:20251112T103000
END:VEVENT
BEGIN:VEVENT
DTEND:20251113T171500
UID:69e964067fade
DTSTAMP:20260423T001254
LOCATION:Aula 7A San Giobbe
SUMMARY:ENTREPRENEURSHIP AND BUSINESS MODELS [EM1303] - Finotto Vladi\, Lezione
URL;VALUE=URI://www.unive.it/data/insegnamento/514274
DTSTART:20251113T154500
END:VEVENT
BEGIN:VEVENT
DTEND:20251114T171500
UID:69e964067fb4a
DTSTAMP:20260423T001254
LOCATION:Aula 9C San Giobbe
SUMMARY:ENTREPRENEURSHIP AND BUSINESS MODELS [EM1303] - Finotto Vladi\, Lezione
URL;VALUE=URI://www.unive.it/data/insegnamento/514274
DTSTART:20251114T154500
END:VEVENT
BEGIN:VEVENT
DTEND:20251119T120000
UID:69e964067fb9a
DTSTAMP:20260423T001254
LOCATION:Aula 9C San Giobbe
SUMMARY:ENTREPRENEURSHIP AND BUSINESS MODELS [EM1303] - Finotto Vladi\, Lezione
URL;VALUE=URI://www.unive.it/data/insegnamento/514274
DTSTART:20251119T103000
END:VEVENT
BEGIN:VEVENT
DTEND:20251120T171500
UID:69e964067fbe6
DTSTAMP:20260423T001254
LOCATION:Aula 7B San Giobbe
SUMMARY:ENTREPRENEURSHIP AND BUSINESS MODELS [EM1303] - Finotto Vladi\, Lezione
URL;VALUE=URI://www.unive.it/data/insegnamento/514274
DTSTART:20251120T154500
END:VEVENT
BEGIN:VEVENT
DTEND:20251126T120000
UID:69e964067fc33
DTSTAMP:20260423T001254
LOCATION:Aula 2A San Giobbe
SUMMARY:ENTREPRENEURSHIP AND BUSINESS MODELS [EM1303] - Finotto Vladi\, Lezione
URL;VALUE=URI://www.unive.it/data/insegnamento/514274
DTSTART:20251126T103000
END:VEVENT
BEGIN:VEVENT
DTEND:20251127T171500
UID:69e964067fc8a
DTSTAMP:20260423T001254
LOCATION:Aula 3A San Giobbe
SUMMARY:ENTREPRENEURSHIP AND BUSINESS MODELS [EM1303] - Finotto Vladi\, Lezione
URL;VALUE=URI://www.unive.it/data/insegnamento/514274
DTSTART:20251127T154500
END:VEVENT
BEGIN:VEVENT
DTEND:20251128T171500
UID:69e964067fcd8
DTSTAMP:20260423T001254
LOCATION:Aula 9B San Giobbe
SUMMARY:ENTREPRENEURSHIP AND BUSINESS MODELS [EM1303] - Finotto Vladi\, Lezione
URL;VALUE=URI://www.unive.it/data/insegnamento/514274
DTSTART:20251128T154500
END:VEVENT
BEGIN:VEVENT
DTEND:20251203T120000
UID:69e964067fd22
DTSTAMP:20260423T001254
LOCATION:Aula 9C San Giobbe
SUMMARY:ENTREPRENEURSHIP AND BUSINESS MODELS [EM1303] - Finotto Vladi\, Lezione
URL;VALUE=URI://www.unive.it/data/insegnamento/514274
DTSTART:20251203T103000
END:VEVENT
BEGIN:VEVENT
DTEND:20251204T171500
UID:69e964067fd6e
DTSTAMP:20260423T001254
LOCATION:Aula 3A San Giobbe
SUMMARY:ENTREPRENEURSHIP AND BUSINESS MODELS [EM1303] - Finotto Vladi\, Lezione
URL;VALUE=URI://www.unive.it/data/insegnamento/514274
DTSTART:20251204T154500
END:VEVENT
BEGIN:VEVENT
DTEND:20251205T171500
UID:69e964067fdbb
DTSTAMP:20260423T001254
LOCATION:Aula 5A San Giobbe
SUMMARY:ENTREPRENEURSHIP AND BUSINESS MODELS [EM1303] - Finotto Vladi\, Lezione
URL;VALUE=URI://www.unive.it/data/insegnamento/514274
DTSTART:20251205T154500
END:VEVENT
BEGIN:VEVENT
DTEND:20251210T120000
UID:69e964067fe15
DTSTAMP:20260423T001254
LOCATION:Aula 9B San Giobbe
SUMMARY:ENTREPRENEURSHIP AND BUSINESS MODELS [EM1303] - Finotto Vladi\, Lezione
URL;VALUE=URI://www.unive.it/data/insegnamento/514274
DTSTART:20251210T103000
END:VEVENT
BEGIN:VEVENT
DTEND:20251212T171500
UID:69e964067fe61
DTSTAMP:20260423T001254
LOCATION:Aula 5A San Giobbe
SUMMARY:ENTREPRENEURSHIP AND BUSINESS MODELS [EM1303] - Finotto Vladi\, Lezione
URL;VALUE=URI://www.unive.it/data/insegnamento/514274
DTSTART:20251212T154500
END:VEVENT
BEGIN:VEVENT
DTEND:20251216T120000
UID:69e964067feb6
DTSTAMP:20260423T001254
LOCATION:Aula 10B San Giobbe
SUMMARY:ENTREPRENEURSHIP AND BUSINESS MODELS [EM1303] - Finotto Vladi\, Lezione
URL;VALUE=URI://www.unive.it/data/insegnamento/514274
DTSTART:20251216T103000
END:VEVENT
BEGIN:VEVENT
DTEND:20251216T134500
UID:69e964067ff10
DTSTAMP:20260423T001254
LOCATION:Aula 10B San Giobbe
SUMMARY:ENTREPRENEURSHIP AND BUSINESS MODELS [EM1303] - Finotto Vladi\, Lezione
URL;VALUE=URI://www.unive.it/data/insegnamento/514274
DTSTART:20251216T121500
END:VEVENT
BEGIN:VEVENT
DTEND:20251217T120000
UID:69e964067ff68
DTSTAMP:20260423T001254
LOCATION:Aula 9C San Giobbe
SUMMARY:ENTREPRENEURSHIP AND BUSINESS MODELS [EM1303] - Finotto Vladi\, Lezione
URL;VALUE=URI://www.unive.it/data/insegnamento/514274
DTSTART:20251217T103000
END:VEVENT
BEGIN:VEVENT
DTEND:20251218T153000
UID:69e964067ffb5
DTSTAMP:20260423T001254
LOCATION:Aula Magna Guido Cazzavillan San Giobbe
SUMMARY:ENTREPRENEURSHIP AND BUSINESS MODELS [EM1303] - Finotto Vladi\, Lezione
URL;VALUE=URI://www.unive.it/data/insegnamento/514274
DTSTART:20251218T140000
END:VEVENT
BEGIN:VEVENT
DTEND:20251218T171500
UID:69e964068000a
DTSTAMP:20260423T001254
LOCATION:Aula Magna Guido Cazzavillan San Giobbe
SUMMARY:ENTREPRENEURSHIP AND BUSINESS MODELS [EM1303] - Finotto Vladi\, Lezione
URL;VALUE=URI://www.unive.it/data/insegnamento/514274
DTSTART:20251218T154500
END:VEVENT
BEGIN:VEVENT
DTEND:20251219T171500
UID:69e9640680060
DTSTAMP:20260423T001254
LOCATION:Aula 5A San Giobbe
SUMMARY:ENTREPRENEURSHIP AND BUSINESS MODELS [EM1303] - Finotto Vladi\, Lezione
URL;VALUE=URI://www.unive.it/data/insegnamento/514274
DTSTART:20251219T154500
END:VEVENT
END:VCALENDAR