BEGIN:VCALENDAR
VERSION:2.0
PRODID:-//hacksw/handcal//NONSGML v1.0//EN
CALSCALE:GREGORIAN
X-WR-CALNAME:LINGUA ALBANESE 2 - E1 [LT007A]
DESCRIPTION:LINGUA ALBANESE 2 - E1 [LT007A]
REFRESH-INTERVAL;VALUE=DURATION:P1D
X-WR-TIMEZONE:Europe/Rome
BEGIN:VEVENT
DTEND:20250924T190000
UID:69e7dc54a1a72
DTSTAMP:20260421T202140
LOCATION:Aula C Ca' Cappello
SUMMARY:LINGUA ALBANESE 2 - E1 [LT007A] - ALHASA ANILA\, Lezione
URL;VALUE=URI://www.unive.it/data/insegnamento/517373
DTSTART:20250924T173000
END:VEVENT
BEGIN:VEVENT
DTEND:20251001T190000
UID:69e7dc54a1b11
DTSTAMP:20260421T202140
LOCATION:Aula C Ca' Cappello
SUMMARY:LINGUA ALBANESE 2 - E1 [LT007A] - ALHASA ANILA\, Lezione
URL;VALUE=URI://www.unive.it/data/insegnamento/517373
DTSTART:20251001T173000
END:VEVENT
BEGIN:VEVENT
DTEND:20251008T190000
UID:69e7dc54a1b66
DTSTAMP:20260421T202140
LOCATION:Aula C Ca' Cappello
SUMMARY:LINGUA ALBANESE 2 - E1 [LT007A] - ALHASA ANILA\, Lezione
URL;VALUE=URI://www.unive.it/data/insegnamento/517373
DTSTART:20251008T173000
END:VEVENT
BEGIN:VEVENT
DTEND:20251015T190000
UID:69e7dc54a1bb9
DTSTAMP:20260421T202140
LOCATION:Aula C Ca' Cappello
SUMMARY:LINGUA ALBANESE 2 - E1 [LT007A] - ALHASA ANILA\, Lezione
URL;VALUE=URI://www.unive.it/data/insegnamento/517373
DTSTART:20251015T173000
END:VEVENT
BEGIN:VEVENT
DTEND:20251022T190000
UID:69e7dc54a1c0b
DTSTAMP:20260421T202140
LOCATION:Aula C Ca' Cappello
SUMMARY:LINGUA ALBANESE 2 - E1 [LT007A] - ALHASA ANILA\, Lezione
URL;VALUE=URI://www.unive.it/data/insegnamento/517373
DTSTART:20251022T173000
END:VEVENT
BEGIN:VEVENT
DTEND:20251029T190000
UID:69e7dc54a1c7d
DTSTAMP:20260421T202140
LOCATION:Aula C Ca' Cappello
SUMMARY:LINGUA ALBANESE 2 - E1 [LT007A] - ALHASA ANILA\, Lezione
URL;VALUE=URI://www.unive.it/data/insegnamento/517373
DTSTART:20251029T173000
END:VEVENT
BEGIN:VEVENT
DTEND:20251105T190000
UID:69e7dc54a1cd0
DTSTAMP:20260421T202140
LOCATION:Aula C Ca' Cappello
SUMMARY:LINGUA ALBANESE 2 - E1 [LT007A] - ALHASA ANILA\, Lezione
URL;VALUE=URI://www.unive.it/data/insegnamento/517373
DTSTART:20251105T173000
END:VEVENT
BEGIN:VEVENT
DTEND:20251112T190000
UID:69e7dc54a1d23
DTSTAMP:20260421T202140
LOCATION:Aula C Ca' Cappello
SUMMARY:LINGUA ALBANESE 2 - E1 [LT007A] - ALHASA ANILA\, Lezione
URL;VALUE=URI://www.unive.it/data/insegnamento/517373
DTSTART:20251112T173000
END:VEVENT
BEGIN:VEVENT
DTEND:20251119T190000
UID:69e7dc54a1d75
DTSTAMP:20260421T202140
LOCATION:Aula C Ca' Cappello
SUMMARY:LINGUA ALBANESE 2 - E1 [LT007A] - ALHASA ANILA\, Lezione
URL;VALUE=URI://www.unive.it/data/insegnamento/517373
DTSTART:20251119T173000
END:VEVENT
BEGIN:VEVENT
DTEND:20251126T190000
UID:69e7dc54a1dc8
DTSTAMP:20260421T202140
LOCATION:Aula C Ca' Cappello
SUMMARY:LINGUA ALBANESE 2 - E1 [LT007A] - ALHASA ANILA\, Lezione
URL;VALUE=URI://www.unive.it/data/insegnamento/517373
DTSTART:20251126T173000
END:VEVENT
BEGIN:VEVENT
DTEND:20251203T190000
UID:69e7dc54a1e1a
DTSTAMP:20260421T202140
LOCATION:Aula C Ca' Cappello
SUMMARY:LINGUA ALBANESE 2 - E1 [LT007A] - ALHASA ANILA\, Lezione
URL;VALUE=URI://www.unive.it/data/insegnamento/517373
DTSTART:20251203T173000
END:VEVENT
BEGIN:VEVENT
DTEND:20251210T190000
UID:69e7dc54a1e6e
DTSTAMP:20260421T202140
LOCATION:Aula C Ca' Cappello
SUMMARY:LINGUA ALBANESE 2 - E1 [LT007A] - ALHASA ANILA\, Lezione
URL;VALUE=URI://www.unive.it/data/insegnamento/517373
DTSTART:20251210T173000
END:VEVENT
BEGIN:VEVENT
DTEND:20251217T190000
UID:69e7dc54a1ec0
DTSTAMP:20260421T202140
LOCATION:Aula C Ca' Cappello
SUMMARY:LINGUA ALBANESE 2 - E1 [LT007A] - ALHASA ANILA\, Lezione
URL;VALUE=URI://www.unive.it/data/insegnamento/517373
DTSTART:20251217T173000
END:VEVENT
BEGIN:VEVENT
DTEND:20260114T190000
UID:69e7dc54a1f13
DTSTAMP:20260421T202140
LOCATION:Aula C Ca' Cappello
SUMMARY:LINGUA ALBANESE 2 - E1 [LT007A] - ALHASA ANILA\, Lezione
URL;VALUE=URI://www.unive.it/data/insegnamento/517373
DTSTART:20260114T173000
END:VEVENT
BEGIN:VEVENT
DTEND:20260121T190000
UID:69e7dc54a1f66
DTSTAMP:20260421T202140
LOCATION:Aula C Ca' Cappello
SUMMARY:LINGUA ALBANESE 2 - E1 [LT007A] - ALHASA ANILA\, Lezione
URL;VALUE=URI://www.unive.it/data/insegnamento/517373
DTSTART:20260121T173000
END:VEVENT
BEGIN:VEVENT
DTEND:20260225T190000
UID:69e7dc54a1fba
DTSTAMP:20260421T202140
LOCATION:Aula 4 Rio Novo
SUMMARY:LINGUA ALBANESE 2 - E1 [LT007A] - ALHASA ANILA\, Lezione
URL;VALUE=URI://www.unive.it/data/insegnamento/517373
DTSTART:20260225T173000
END:VEVENT
BEGIN:VEVENT
DTEND:20260226T120000
UID:69e7dc54a2004
DTSTAMP:20260421T202140
LOCATION:Aula F (Aula AM C) Ca' Cappello
SUMMARY:LINGUA ALBANESE 2 - E1 [LT007A] - ALHASA ANILA\, Lezione
URL;VALUE=URI://www.unive.it/data/insegnamento/517373
DTSTART:20260226T103000
END:VEVENT
BEGIN:VEVENT
DTEND:20260304T190000
UID:69e7dc54a205d
DTSTAMP:20260421T202140
LOCATION:Aula 4 Rio Novo
SUMMARY:LINGUA ALBANESE 2 - E1 [LT007A] - ALHASA ANILA\, Lezione
URL;VALUE=URI://www.unive.it/data/insegnamento/517373
DTSTART:20260304T173000
END:VEVENT
BEGIN:VEVENT
DTEND:20260305T120000
UID:69e7dc54a20b0
DTSTAMP:20260421T202140
LOCATION:Aula F (Aula AM C) Ca' Cappello
SUMMARY:LINGUA ALBANESE 2 - E1 [LT007A] - ALHASA ANILA\, Lezione
URL;VALUE=URI://www.unive.it/data/insegnamento/517373
DTSTART:20260305T103000
END:VEVENT
BEGIN:VEVENT
DTEND:20260311T190000
UID:69e7dc54a2104
DTSTAMP:20260421T202140
LOCATION:Aula 4 Rio Novo
SUMMARY:LINGUA ALBANESE 2 - E1 [LT007A] - ALHASA ANILA\, Lezione
URL;VALUE=URI://www.unive.it/data/insegnamento/517373
DTSTART:20260311T173000
END:VEVENT
BEGIN:VEVENT
DTEND:20260312T120000
UID:69e7dc54a2158
DTSTAMP:20260421T202140
LOCATION:Aula C Ca' Bembo
SUMMARY:LINGUA ALBANESE 2 - E1 [LT007A] - ALHASA ANILA\, Lezione
URL;VALUE=URI://www.unive.it/data/insegnamento/517373
DTSTART:20260312T103000
END:VEVENT
BEGIN:VEVENT
DTEND:20260318T190000
UID:69e7dc54a21aa
DTSTAMP:20260421T202140
LOCATION:Aula 4 Rio Novo
SUMMARY:LINGUA ALBANESE 2 - E1 [LT007A] - ALHASA ANILA\, Lezione
URL;VALUE=URI://www.unive.it/data/insegnamento/517373
DTSTART:20260318T173000
END:VEVENT
BEGIN:VEVENT
DTEND:20260319T120000
UID:69e7dc54a2204
DTSTAMP:20260421T202140
LOCATION:Aula F (Aula AM C) Ca' Cappello
SUMMARY:LINGUA ALBANESE 2 - E1 [LT007A] - ALHASA ANILA\, Lezione
URL;VALUE=URI://www.unive.it/data/insegnamento/517373
DTSTART:20260319T103000
END:VEVENT
BEGIN:VEVENT
DTEND:20260325T190000
UID:69e7dc54a2258
DTSTAMP:20260421T202140
LOCATION:Aula 4 Rio Novo
SUMMARY:LINGUA ALBANESE 2 - E1 [LT007A] - ALHASA ANILA\, Lezione
URL;VALUE=URI://www.unive.it/data/insegnamento/517373
DTSTART:20260325T173000
END:VEVENT
BEGIN:VEVENT
DTEND:20260326T120000
UID:69e7dc54a22ab
DTSTAMP:20260421T202140
LOCATION:Aula F (Aula AM C) Ca' Cappello
SUMMARY:LINGUA ALBANESE 2 - E1 [LT007A] - ALHASA ANILA\, Lezione
URL;VALUE=URI://www.unive.it/data/insegnamento/517373
DTSTART:20260326T103000
END:VEVENT
BEGIN:VEVENT
DTEND:20260401T190000
UID:69e7dc54a2300
DTSTAMP:20260421T202140
LOCATION:Aula 4 Rio Novo
SUMMARY:LINGUA ALBANESE 2 - E1 [LT007A] - ALHASA ANILA\, Lezione
URL;VALUE=URI://www.unive.it/data/insegnamento/517373
DTSTART:20260401T173000
END:VEVENT
BEGIN:VEVENT
DTEND:20260402T120000
UID:69e7dc54a2356
DTSTAMP:20260421T202140
LOCATION:Aula F (Aula AM C) Ca' Cappello
SUMMARY:LINGUA ALBANESE 2 - E1 [LT007A] - ALHASA ANILA\, Lezione
URL;VALUE=URI://www.unive.it/data/insegnamento/517373
DTSTART:20260402T103000
END:VEVENT
BEGIN:VEVENT
DTEND:20260408T190000
UID:69e7dc54a23aa
DTSTAMP:20260421T202140
LOCATION:Aula 4 Rio Novo
SUMMARY:LINGUA ALBANESE 2 - E1 [LT007A] - ALHASA ANILA\, Lezione
URL;VALUE=URI://www.unive.it/data/insegnamento/517373
DTSTART:20260408T173000
END:VEVENT
BEGIN:VEVENT
DTEND:20260409T120000
UID:69e7dc54a23eb
DTSTAMP:20260421T202140
LOCATION:Aula F (Aula AM C) Ca' Cappello
SUMMARY:LINGUA ALBANESE 2 - E1 [LT007A] - ALHASA ANILA\, Lezione
URL;VALUE=URI://www.unive.it/data/insegnamento/517373
DTSTART:20260409T103000
END:VEVENT
BEGIN:VEVENT
DTEND:20260415T190000
UID:69e7dc54a243e
DTSTAMP:20260421T202140
LOCATION:Aula 4 Rio Novo
SUMMARY:LINGUA ALBANESE 2 - E1 [LT007A] - ALHASA ANILA\, Lezione
URL;VALUE=URI://www.unive.it/data/insegnamento/517373
DTSTART:20260415T173000
END:VEVENT
BEGIN:VEVENT
DTEND:20260416T120000
UID:69e7dc54a2492
DTSTAMP:20260421T202140
LOCATION:Aula F (Aula AM C) Ca' Cappello
SUMMARY:LINGUA ALBANESE 2 - E1 [LT007A] - ALHASA ANILA\, Lezione
URL;VALUE=URI://www.unive.it/data/insegnamento/517373
DTSTART:20260416T103000
END:VEVENT
BEGIN:VEVENT
DTEND:20260422T190000
UID:69e7dc54a24e6
DTSTAMP:20260421T202140
LOCATION:Aula 4 Rio Novo
SUMMARY:LINGUA ALBANESE 2 - E1 [LT007A] - ALHASA ANILA\, Lezione
URL;VALUE=URI://www.unive.it/data/insegnamento/517373
DTSTART:20260422T173000
END:VEVENT
BEGIN:VEVENT
DTEND:20260423T120000
UID:69e7dc54a253a
DTSTAMP:20260421T202140
LOCATION:Aula F (Aula AM C) Ca' Cappello
SUMMARY:LINGUA ALBANESE 2 - E1 [LT007A] - ALHASA ANILA\, Lezione
URL;VALUE=URI://www.unive.it/data/insegnamento/517373
DTSTART:20260423T103000
END:VEVENT
BEGIN:VEVENT
DTEND:20260429T190000
UID:69e7dc54a2596
DTSTAMP:20260421T202140
LOCATION:Aula 4 Rio Novo
SUMMARY:LINGUA ALBANESE 2 - E1 [LT007A] - ALHASA ANILA\, Lezione
URL;VALUE=URI://www.unive.it/data/insegnamento/517373
DTSTART:20260429T173000
END:VEVENT
BEGIN:VEVENT
DTEND:20260430T120000
UID:69e7dc54a25e9
DTSTAMP:20260421T202140
LOCATION:Aula F (Aula AM C) Ca' Cappello
SUMMARY:LINGUA ALBANESE 2 - E1 [LT007A] - ALHASA ANILA\, Lezione
URL;VALUE=URI://www.unive.it/data/insegnamento/517373
DTSTART:20260430T103000
END:VEVENT
BEGIN:VEVENT
DTEND:20260506T190000
UID:69e7dc54a263c
DTSTAMP:20260421T202140
LOCATION:Aula 4 Rio Novo
SUMMARY:LINGUA ALBANESE 2 - E1 [LT007A] - ALHASA ANILA\, Lezione
URL;VALUE=URI://www.unive.it/data/insegnamento/517373
DTSTART:20260506T173000
END:VEVENT
BEGIN:VEVENT
DTEND:20260507T120000
UID:69e7dc54a268f
DTSTAMP:20260421T202140
LOCATION:Aula F (Aula AM C) Ca' Cappello
SUMMARY:LINGUA ALBANESE 2 - E1 [LT007A] - ALHASA ANILA\, Lezione
URL;VALUE=URI://www.unive.it/data/insegnamento/517373
DTSTART:20260507T103000
END:VEVENT
BEGIN:VEVENT
DTEND:20260513T190000
UID:69e7dc54a26e2
DTSTAMP:20260421T202140
LOCATION:Aula 4 Rio Novo
SUMMARY:LINGUA ALBANESE 2 - E1 [LT007A] - ALHASA ANILA\, Lezione
URL;VALUE=URI://www.unive.it/data/insegnamento/517373
DTSTART:20260513T173000
END:VEVENT
BEGIN:VEVENT
DTEND:20260514T120000
UID:69e7dc54a2735
DTSTAMP:20260421T202140
LOCATION:Aula F (Aula AM C) Ca' Cappello
SUMMARY:LINGUA ALBANESE 2 - E1 [LT007A] - ALHASA ANILA\, Lezione
URL;VALUE=URI://www.unive.it/data/insegnamento/517373
DTSTART:20260514T103000
END:VEVENT
BEGIN:VEVENT
DTEND:20260520T190000
UID:69e7dc54a2788
DTSTAMP:20260421T202140
LOCATION:Aula 4 Rio Novo
SUMMARY:LINGUA ALBANESE 2 - E1 [LT007A] - ALHASA ANILA\, Lezione
URL;VALUE=URI://www.unive.it/data/insegnamento/517373
DTSTART:20260520T173000
END:VEVENT
BEGIN:VEVENT
DTEND:20260521T120000
UID:69e7dc54a27d2
DTSTAMP:20260421T202140
LOCATION:Aula F (Aula AM C) Ca' Cappello
SUMMARY:LINGUA ALBANESE 2 - E1 [LT007A] - ALHASA ANILA\, Lezione
URL;VALUE=URI://www.unive.it/data/insegnamento/517373
DTSTART:20260521T103000
END:VEVENT
BEGIN:VEVENT
DTEND:20260527T190000
UID:69e7dc54a2826
DTSTAMP:20260421T202140
LOCATION:Aula 4 Rio Novo
SUMMARY:LINGUA ALBANESE 2 - E1 [LT007A] - ALHASA ANILA\, Lezione
URL;VALUE=URI://www.unive.it/data/insegnamento/517373
DTSTART:20260527T173000
END:VEVENT
BEGIN:VEVENT
DTEND:20260528T120000
UID:69e7dc54a2878
DTSTAMP:20260421T202140
LOCATION:Aula F (Aula AM C) Ca' Cappello
SUMMARY:LINGUA ALBANESE 2 - E1 [LT007A] - ALHASA ANILA\, Lezione
URL;VALUE=URI://www.unive.it/data/insegnamento/517373
DTSTART:20260528T103000
END:VEVENT
BEGIN:VEVENT
DTEND:20260603T190000
UID:69e7dc54a28cc
DTSTAMP:20260421T202140
LOCATION:Aula 4 Rio Novo
SUMMARY:LINGUA ALBANESE 2 - E1 [LT007A] - ALHASA ANILA\, Lezione
URL;VALUE=URI://www.unive.it/data/insegnamento/517373
DTSTART:20260603T173000
END:VEVENT
BEGIN:VEVENT
DTEND:20260604T120000
UID:69e7dc54a291f
DTSTAMP:20260421T202140
LOCATION:Aula F (Aula AM C) Ca' Cappello
SUMMARY:LINGUA ALBANESE 2 - E1 [LT007A] - ALHASA ANILA\, Lezione
URL;VALUE=URI://www.unive.it/data/insegnamento/517373
DTSTART:20260604T103000
END:VEVENT
END:VCALENDAR