BEGIN:VCALENDAR
VERSION:2.0
PRODID:-//hacksw/handcal//NONSGML v1.0//EN
CALSCALE:GREGORIAN
X-WR-CALNAME:LETTERATURA FRANCESE 2 [LT002L]
DESCRIPTION:LETTERATURA FRANCESE 2 [LT002L]
REFRESH-INTERVAL;VALUE=DURATION:P1D
X-WR-TIMEZONE:Europe/Rome
BEGIN:VEVENT
DTEND:20260226T153000
UID:69e7f79a27a79
DTSTAMP:20260421T221802
LOCATION:Aula Rio Novo Rio Novo
SUMMARY:LETTERATURA FRANCESE 2 [LT002L] - von Kulessa Rotraud\, Lezione
URL;VALUE=URI://www.unive.it/data/insegnamento/517448
DTSTART:20260226T140000
END:VEVENT
BEGIN:VEVENT
DTEND:20260227T153000
UID:69e7f79a27afd
DTSTAMP:20260421T221802
LOCATION:Aula C Ca' Bembo
SUMMARY:LETTERATURA FRANCESE 2 [LT002L] - von Kulessa Rotraud\, Lezione
URL;VALUE=URI://www.unive.it/data/insegnamento/517448
DTSTART:20260227T140000
END:VEVENT
BEGIN:VEVENT
DTEND:20260305T153000
UID:69e7f79a27b50
DTSTAMP:20260421T221802
LOCATION:Aula Rio Novo Rio Novo
SUMMARY:LETTERATURA FRANCESE 2 [LT002L] - von Kulessa Rotraud\, Lezione
URL;VALUE=URI://www.unive.it/data/insegnamento/517448
DTSTART:20260305T140000
END:VEVENT
BEGIN:VEVENT
DTEND:20260306T153000
UID:69e7f79a27b9f
DTSTAMP:20260421T221802
LOCATION:Aula C Ca' Bembo
SUMMARY:LETTERATURA FRANCESE 2 [LT002L] - von Kulessa Rotraud\, Lezione
URL;VALUE=URI://www.unive.it/data/insegnamento/517448
DTSTART:20260306T140000
END:VEVENT
BEGIN:VEVENT
DTEND:20260312T153000
UID:69e7f79a27beb
DTSTAMP:20260421T221802
LOCATION:Aula Rio Novo Rio Novo
SUMMARY:LETTERATURA FRANCESE 2 [LT002L] - von Kulessa Rotraud\, Lezione
URL;VALUE=URI://www.unive.it/data/insegnamento/517448
DTSTART:20260312T140000
END:VEVENT
BEGIN:VEVENT
DTEND:20260313T153000
UID:69e7f79a27c35
DTSTAMP:20260421T221802
LOCATION:Aula C Ca' Bembo
SUMMARY:LETTERATURA FRANCESE 2 [LT002L] - von Kulessa Rotraud\, Lezione
URL;VALUE=URI://www.unive.it/data/insegnamento/517448
DTSTART:20260313T140000
END:VEVENT
BEGIN:VEVENT
DTEND:20260319T153000
UID:69e7f79a27c80
DTSTAMP:20260421T221802
LOCATION:Aula Rio Novo Rio Novo
SUMMARY:LETTERATURA FRANCESE 2 [LT002L] - von Kulessa Rotraud\, Lezione
URL;VALUE=URI://www.unive.it/data/insegnamento/517448
DTSTART:20260319T140000
END:VEVENT
BEGIN:VEVENT
DTEND:20260320T153000
UID:69e7f79a27ccf
DTSTAMP:20260421T221802
LOCATION:Aula C Ca' Bembo
SUMMARY:LETTERATURA FRANCESE 2 [LT002L] - von Kulessa Rotraud\, Lezione
URL;VALUE=URI://www.unive.it/data/insegnamento/517448
DTSTART:20260320T140000
END:VEVENT
BEGIN:VEVENT
DTEND:20260326T153000
UID:69e7f79a27d19
DTSTAMP:20260421T221802
LOCATION:Aula Rio Novo Rio Novo
SUMMARY:LETTERATURA FRANCESE 2 [LT002L] - von Kulessa Rotraud\, Lezione
URL;VALUE=URI://www.unive.it/data/insegnamento/517448
DTSTART:20260326T140000
END:VEVENT
BEGIN:VEVENT
DTEND:20260327T153000
UID:69e7f79a27d63
DTSTAMP:20260421T221802
LOCATION:Aula C Ca' Bembo
SUMMARY:LETTERATURA FRANCESE 2 [LT002L] - von Kulessa Rotraud\, Lezione
URL;VALUE=URI://www.unive.it/data/insegnamento/517448
DTSTART:20260327T140000
END:VEVENT
BEGIN:VEVENT
DTEND:20260402T153000
UID:69e7f79a27dad
DTSTAMP:20260421T221802
LOCATION:Aula Rio Novo Rio Novo
SUMMARY:LETTERATURA FRANCESE 2 [LT002L] - von Kulessa Rotraud\, Lezione
URL;VALUE=URI://www.unive.it/data/insegnamento/517448
DTSTART:20260402T140000
END:VEVENT
BEGIN:VEVENT
DTEND:20260403T153000
UID:69e7f79a27df6
DTSTAMP:20260421T221802
LOCATION:Aula C Ca' Bembo
SUMMARY:LETTERATURA FRANCESE 2 [LT002L] - von Kulessa Rotraud\, Lezione
URL;VALUE=URI://www.unive.it/data/insegnamento/517448
DTSTART:20260403T140000
END:VEVENT
BEGIN:VEVENT
DTEND:20260409T153000
UID:69e7f79a27e41
DTSTAMP:20260421T221802
LOCATION:Aula Rio Novo Rio Novo
SUMMARY:LETTERATURA FRANCESE 2 [LT002L] - von Kulessa Rotraud\, Lezione
URL;VALUE=URI://www.unive.it/data/insegnamento/517448
DTSTART:20260409T140000
END:VEVENT
BEGIN:VEVENT
DTEND:20260410T153000
UID:69e7f79a27e8a
DTSTAMP:20260421T221802
LOCATION:Aula C Ca' Bembo
SUMMARY:LETTERATURA FRANCESE 2 [LT002L] - von Kulessa Rotraud\, Lezione
URL;VALUE=URI://www.unive.it/data/insegnamento/517448
DTSTART:20260410T140000
END:VEVENT
BEGIN:VEVENT
DTEND:20260416T153000
UID:69e7f79a27ed5
DTSTAMP:20260421T221802
LOCATION:Aula Rio Novo Rio Novo
SUMMARY:LETTERATURA FRANCESE 2 [LT002L] - von Kulessa Rotraud\, Lezione
URL;VALUE=URI://www.unive.it/data/insegnamento/517448
DTSTART:20260416T140000
END:VEVENT
BEGIN:VEVENT
DTEND:20260417T153000
UID:69e7f79a27f2f
DTSTAMP:20260421T221802
LOCATION:Aula C Ca' Bembo
SUMMARY:LETTERATURA FRANCESE 2 [LT002L] - von Kulessa Rotraud\, Lezione
URL;VALUE=URI://www.unive.it/data/insegnamento/517448
DTSTART:20260417T140000
END:VEVENT
BEGIN:VEVENT
DTEND:20260423T153000
UID:69e7f79a27f78
DTSTAMP:20260421T221802
LOCATION:Aula Rio Novo Rio Novo
SUMMARY:LETTERATURA FRANCESE 2 [LT002L] - von Kulessa Rotraud\, Lezione
URL;VALUE=URI://www.unive.it/data/insegnamento/517448
DTSTART:20260423T140000
END:VEVENT
BEGIN:VEVENT
DTEND:20260424T153000
UID:69e7f79a27fc3
DTSTAMP:20260421T221802
LOCATION:Aula C Ca' Bembo
SUMMARY:LETTERATURA FRANCESE 2 [LT002L] - von Kulessa Rotraud\, Lezione
URL;VALUE=URI://www.unive.it/data/insegnamento/517448
DTSTART:20260424T140000
END:VEVENT
BEGIN:VEVENT
DTEND:20260430T153000
UID:69e7f79a2800d
DTSTAMP:20260421T221802
LOCATION:Aula Rio Novo Rio Novo
SUMMARY:LETTERATURA FRANCESE 2 [LT002L] - von Kulessa Rotraud\, Lezione
URL;VALUE=URI://www.unive.it/data/insegnamento/517448
DTSTART:20260430T140000
END:VEVENT
BEGIN:VEVENT
DTEND:20260507T153000
UID:69e7f79a28059
DTSTAMP:20260421T221802
LOCATION:Aula Rio Novo Rio Novo
SUMMARY:LETTERATURA FRANCESE 2 [LT002L] - von Kulessa Rotraud\, Lezione
URL;VALUE=URI://www.unive.it/data/insegnamento/517448
DTSTART:20260507T140000
END:VEVENT
BEGIN:VEVENT
DTEND:20260508T153000
UID:69e7f79a280af
DTSTAMP:20260421T221802
LOCATION:Aula C Ca' Bembo
SUMMARY:LETTERATURA FRANCESE 2 [LT002L] - von Kulessa Rotraud\, Lezione
URL;VALUE=URI://www.unive.it/data/insegnamento/517448
DTSTART:20260508T140000
END:VEVENT
BEGIN:VEVENT
DTEND:20260508T171500
UID:69e7f79a280fb
DTSTAMP:20260421T221802
LOCATION:Aula C Ca' Bembo
SUMMARY:LETTERATURA FRANCESE 2 [LT002L] - von Kulessa Rotraud\, Lezione
URL;VALUE=URI://www.unive.it/data/insegnamento/517448
DTSTART:20260508T154500
END:VEVENT
BEGIN:VEVENT
DTEND:20260514T153000
UID:69e7f79a28145
DTSTAMP:20260421T221802
LOCATION:Aula Rio Novo Rio Novo
SUMMARY:LETTERATURA FRANCESE 2 [LT002L] - von Kulessa Rotraud\, Lezione
URL;VALUE=URI://www.unive.it/data/insegnamento/517448
DTSTART:20260514T140000
END:VEVENT
BEGIN:VEVENT
DTEND:20260515T153000
UID:69e7f79a2818e
DTSTAMP:20260421T221802
LOCATION:Aula C Ca' Bembo
SUMMARY:LETTERATURA FRANCESE 2 [LT002L] - von Kulessa Rotraud\, Lezione
URL;VALUE=URI://www.unive.it/data/insegnamento/517448
DTSTART:20260515T140000
END:VEVENT
BEGIN:VEVENT
DTEND:20260521T153000
UID:69e7f79a281d8
DTSTAMP:20260421T221802
LOCATION:Aula Rio Novo Rio Novo
SUMMARY:LETTERATURA FRANCESE 2 [LT002L] - von Kulessa Rotraud\, Lezione
URL;VALUE=URI://www.unive.it/data/insegnamento/517448
DTSTART:20260521T140000
END:VEVENT
BEGIN:VEVENT
DTEND:20260522T153000
UID:69e7f79a28222
DTSTAMP:20260421T221802
LOCATION:Aula C Ca' Bembo
SUMMARY:LETTERATURA FRANCESE 2 [LT002L] - von Kulessa Rotraud\, Lezione
URL;VALUE=URI://www.unive.it/data/insegnamento/517448
DTSTART:20260522T140000
END:VEVENT
BEGIN:VEVENT
DTEND:20260528T153000
UID:69e7f79a2826b
DTSTAMP:20260421T221802
LOCATION:Aula Rio Novo Rio Novo
SUMMARY:LETTERATURA FRANCESE 2 [LT002L] - von Kulessa Rotraud\, Lezione
URL;VALUE=URI://www.unive.it/data/insegnamento/517448
DTSTART:20260528T140000
END:VEVENT
BEGIN:VEVENT
DTEND:20260529T153000
UID:69e7f79a282b5
DTSTAMP:20260421T221802
LOCATION:Aula C Ca' Bembo
SUMMARY:LETTERATURA FRANCESE 2 [LT002L] - von Kulessa Rotraud\, Lezione
URL;VALUE=URI://www.unive.it/data/insegnamento/517448
DTSTART:20260529T140000
END:VEVENT
BEGIN:VEVENT
DTEND:20260604T153000
UID:69e7f79a28307
DTSTAMP:20260421T221802
LOCATION:Aula Rio Novo Rio Novo
SUMMARY:LETTERATURA FRANCESE 2 [LT002L] - von Kulessa Rotraud\, Lezione
URL;VALUE=URI://www.unive.it/data/insegnamento/517448
DTSTART:20260604T140000
END:VEVENT
BEGIN:VEVENT
DTEND:20260605T153000
UID:69e7f79a28351
DTSTAMP:20260421T221802
LOCATION:Aula C Ca' Bembo
SUMMARY:LETTERATURA FRANCESE 2 [LT002L] - von Kulessa Rotraud\, Lezione
URL;VALUE=URI://www.unive.it/data/insegnamento/517448
DTSTART:20260605T140000
END:VEVENT
END:VCALENDAR