BEGIN:VCALENDAR
VERSION:2.0
PRODID:-//hacksw/handcal//NONSGML v1.0//EN
CALSCALE:GREGORIAN
X-WR-CALNAME:LETTERATURA RUSSA 2 [LT004X]
DESCRIPTION:LETTERATURA RUSSA 2 [LT004X]
REFRESH-INTERVAL;VALUE=DURATION:P1D
X-WR-TIMEZONE:Europe/Rome
BEGIN:VEVENT
DTEND:20250924T120000
UID:69e732de313bb
DTSTAMP:20260421T081838
LOCATION:Aula 2 Ca' Dolfin - Saoneria
SUMMARY:LETTERATURA RUSSA 2 [LT004X] - FARSETTI Alessandro\, Lezione
URL;VALUE=URI://www.unive.it/data/insegnamento/517449
DTSTART:20250924T103000
END:VEVENT
BEGIN:VEVENT
DTEND:20250926T153000
UID:69e732de3144f
DTSTAMP:20260421T081838
LOCATION:Aula 4 Rio Novo
SUMMARY:LETTERATURA RUSSA 2 [LT004X] - FARSETTI Alessandro\, Lezione
URL;VALUE=URI://www.unive.it/data/insegnamento/517449
DTSTART:20250926T140000
END:VEVENT
BEGIN:VEVENT
DTEND:20251001T120000
UID:69e732de3149f
DTSTAMP:20260421T081838
LOCATION:Aula 2 Ca' Dolfin - Saoneria
SUMMARY:LETTERATURA RUSSA 2 [LT004X] - FARSETTI Alessandro\, Lezione
URL;VALUE=URI://www.unive.it/data/insegnamento/517449
DTSTART:20251001T103000
END:VEVENT
BEGIN:VEVENT
DTEND:20251003T153000
UID:69e732de314ed
DTSTAMP:20260421T081838
LOCATION:Aula 4 Rio Novo
SUMMARY:LETTERATURA RUSSA 2 [LT004X] - FARSETTI Alessandro\, Lezione
URL;VALUE=URI://www.unive.it/data/insegnamento/517449
DTSTART:20251003T140000
END:VEVENT
BEGIN:VEVENT
DTEND:20251008T120000
UID:69e732de31537
DTSTAMP:20260421T081838
LOCATION:Aula 2 Ca' Dolfin - Saoneria
SUMMARY:LETTERATURA RUSSA 2 [LT004X] - FARSETTI Alessandro\, Lezione
URL;VALUE=URI://www.unive.it/data/insegnamento/517449
DTSTART:20251008T103000
END:VEVENT
BEGIN:VEVENT
DTEND:20251010T153000
UID:69e732de31582
DTSTAMP:20260421T081838
LOCATION:Aula 4 Rio Novo
SUMMARY:LETTERATURA RUSSA 2 [LT004X] - FARSETTI Alessandro\, Lezione
URL;VALUE=URI://www.unive.it/data/insegnamento/517449
DTSTART:20251010T140000
END:VEVENT
BEGIN:VEVENT
DTEND:20251015T120000
UID:69e732de315cd
DTSTAMP:20260421T081838
LOCATION:Aula 2 Ca' Dolfin - Saoneria
SUMMARY:LETTERATURA RUSSA 2 [LT004X] - FARSETTI Alessandro\, Lezione
URL;VALUE=URI://www.unive.it/data/insegnamento/517449
DTSTART:20251015T103000
END:VEVENT
BEGIN:VEVENT
DTEND:20251017T153000
UID:69e732de31618
DTSTAMP:20260421T081838
LOCATION:Aula 4 Rio Novo
SUMMARY:LETTERATURA RUSSA 2 [LT004X] - FARSETTI Alessandro\, Lezione
URL;VALUE=URI://www.unive.it/data/insegnamento/517449
DTSTART:20251017T140000
END:VEVENT
BEGIN:VEVENT
DTEND:20251022T120000
UID:69e732de31662
DTSTAMP:20260421T081838
LOCATION:Aula 2 Ca' Dolfin - Saoneria
SUMMARY:LETTERATURA RUSSA 2 [LT004X] - FARSETTI Alessandro\, Lezione
URL;VALUE=URI://www.unive.it/data/insegnamento/517449
DTSTART:20251022T103000
END:VEVENT
BEGIN:VEVENT
DTEND:20251024T153000
UID:69e732de316ac
DTSTAMP:20260421T081838
LOCATION:Aula 4 Rio Novo
SUMMARY:LETTERATURA RUSSA 2 [LT004X] - FARSETTI Alessandro\, Lezione
URL;VALUE=URI://www.unive.it/data/insegnamento/517449
DTSTART:20251024T140000
END:VEVENT
BEGIN:VEVENT
DTEND:20251029T120000
UID:69e732de316f5
DTSTAMP:20260421T081838
LOCATION:Aula 2 Ca' Dolfin - Saoneria
SUMMARY:LETTERATURA RUSSA 2 [LT004X] - FARSETTI Alessandro\, Lezione
URL;VALUE=URI://www.unive.it/data/insegnamento/517449
DTSTART:20251029T103000
END:VEVENT
BEGIN:VEVENT
DTEND:20251031T153000
UID:69e732de31739
DTSTAMP:20260421T081838
LOCATION:Aula 4 Rio Novo
SUMMARY:LETTERATURA RUSSA 2 [LT004X] - FARSETTI Alessandro\, Lezione
URL;VALUE=URI://www.unive.it/data/insegnamento/517449
DTSTART:20251031T140000
END:VEVENT
BEGIN:VEVENT
DTEND:20251105T120000
UID:69e732de31782
DTSTAMP:20260421T081838
LOCATION:Aula 2 Ca' Dolfin - Saoneria
SUMMARY:LETTERATURA RUSSA 2 [LT004X] - FARSETTI Alessandro\, Lezione
URL;VALUE=URI://www.unive.it/data/insegnamento/517449
DTSTART:20251105T103000
END:VEVENT
BEGIN:VEVENT
DTEND:20251107T153000
UID:69e732de317cd
DTSTAMP:20260421T081838
LOCATION:Aula 4 Rio Novo
SUMMARY:LETTERATURA RUSSA 2 [LT004X] - FARSETTI Alessandro\, Lezione
URL;VALUE=URI://www.unive.it/data/insegnamento/517449
DTSTART:20251107T140000
END:VEVENT
BEGIN:VEVENT
DTEND:20251112T120000
UID:69e732de31816
DTSTAMP:20260421T081838
LOCATION:Aula 2 Ca' Dolfin - Saoneria
SUMMARY:LETTERATURA RUSSA 2 [LT004X] - FARSETTI Alessandro\, Lezione
URL;VALUE=URI://www.unive.it/data/insegnamento/517449
DTSTART:20251112T103000
END:VEVENT
BEGIN:VEVENT
DTEND:20251114T153000
UID:69e732de31860
DTSTAMP:20260421T081838
LOCATION:Aula 4 Rio Novo
SUMMARY:LETTERATURA RUSSA 2 [LT004X] - FARSETTI Alessandro\, Lezione
URL;VALUE=URI://www.unive.it/data/insegnamento/517449
DTSTART:20251114T140000
END:VEVENT
BEGIN:VEVENT
DTEND:20251119T120000
UID:69e732de318aa
DTSTAMP:20260421T081838
LOCATION:Aula 2 Ca' Dolfin - Saoneria
SUMMARY:LETTERATURA RUSSA 2 [LT004X] - FARSETTI Alessandro\, Lezione
URL;VALUE=URI://www.unive.it/data/insegnamento/517449
DTSTART:20251119T103000
END:VEVENT
BEGIN:VEVENT
DTEND:20251126T120000
UID:69e732de318f5
DTSTAMP:20260421T081838
LOCATION:Aula 2 Ca' Dolfin - Saoneria
SUMMARY:LETTERATURA RUSSA 2 [LT004X] - FARSETTI Alessandro\, Lezione
URL;VALUE=URI://www.unive.it/data/insegnamento/517449
DTSTART:20251126T103000
END:VEVENT
BEGIN:VEVENT
DTEND:20251128T153000
UID:69e732de3193e
DTSTAMP:20260421T081838
LOCATION:Aula 4 Rio Novo
SUMMARY:LETTERATURA RUSSA 2 [LT004X] - FARSETTI Alessandro\, Lezione
URL;VALUE=URI://www.unive.it/data/insegnamento/517449
DTSTART:20251128T140000
END:VEVENT
BEGIN:VEVENT
DTEND:20251203T120000
UID:69e732de31988
DTSTAMP:20260421T081838
LOCATION:Aula 2 Ca' Dolfin - Saoneria
SUMMARY:LETTERATURA RUSSA 2 [LT004X] - FARSETTI Alessandro\, Lezione
URL;VALUE=URI://www.unive.it/data/insegnamento/517449
DTSTART:20251203T103000
END:VEVENT
BEGIN:VEVENT
DTEND:20251205T153000
UID:69e732de319d9
DTSTAMP:20260421T081838
LOCATION:Aula 4 Rio Novo
SUMMARY:LETTERATURA RUSSA 2 [LT004X] - FARSETTI Alessandro\, Lezione
URL;VALUE=URI://www.unive.it/data/insegnamento/517449
DTSTART:20251205T140000
END:VEVENT
BEGIN:VEVENT
DTEND:20251210T120000
UID:69e732de31a22
DTSTAMP:20260421T081838
LOCATION:Aula 2 Ca' Dolfin - Saoneria
SUMMARY:LETTERATURA RUSSA 2 [LT004X] - FARSETTI Alessandro\, Lezione
URL;VALUE=URI://www.unive.it/data/insegnamento/517449
DTSTART:20251210T103000
END:VEVENT
BEGIN:VEVENT
DTEND:20251212T153000
UID:69e732de31a6d
DTSTAMP:20260421T081838
LOCATION:Aula 4 Rio Novo
SUMMARY:LETTERATURA RUSSA 2 [LT004X] - FARSETTI Alessandro\, Lezione
URL;VALUE=URI://www.unive.it/data/insegnamento/517449
DTSTART:20251212T140000
END:VEVENT
BEGIN:VEVENT
DTEND:20251217T120000
UID:69e732de31ab6
DTSTAMP:20260421T081838
LOCATION:Aula 2 Ca' Dolfin - Saoneria
SUMMARY:LETTERATURA RUSSA 2 [LT004X] - FARSETTI Alessandro\, Lezione
URL;VALUE=URI://www.unive.it/data/insegnamento/517449
DTSTART:20251217T103000
END:VEVENT
BEGIN:VEVENT
DTEND:20251219T153000
UID:69e732de31b00
DTSTAMP:20260421T081838
LOCATION:Aula 4 Rio Novo
SUMMARY:LETTERATURA RUSSA 2 [LT004X] - FARSETTI Alessandro\, Lezione
URL;VALUE=URI://www.unive.it/data/insegnamento/517449
DTSTART:20251219T140000
END:VEVENT
BEGIN:VEVENT
DTEND:20260114T120000
UID:69e732de31b20
DTSTAMP:20260421T081838
LOCATION:Aula 2 Ca' Dolfin - Saoneria
SUMMARY:LETTERATURA RUSSA 2 [LT004X] - FARSETTI Alessandro\, Lezione
URL;VALUE=URI://www.unive.it/data/insegnamento/517449
DTSTART:20260114T103000
END:VEVENT
BEGIN:VEVENT
DTEND:20260116T153000
UID:69e732de31b6a
DTSTAMP:20260421T081838
LOCATION:Aula 4 Rio Novo
SUMMARY:LETTERATURA RUSSA 2 [LT004X] - FARSETTI Alessandro\, Lezione
URL;VALUE=URI://www.unive.it/data/insegnamento/517449
DTSTART:20260116T140000
END:VEVENT
BEGIN:VEVENT
DTEND:20260120T171500
UID:69e732de31bb4
DTSTAMP:20260421T081838
LOCATION:Aula A Ca' Bottacin
SUMMARY:LETTERATURA RUSSA 2 [LT004X] - FARSETTI Alessandro\, Lezione
URL;VALUE=URI://www.unive.it/data/insegnamento/517449
DTSTART:20260120T154500
END:VEVENT
BEGIN:VEVENT
DTEND:20260121T120000
UID:69e732de31bfd
DTSTAMP:20260421T081838
LOCATION:Aula 2 Ca' Dolfin - Saoneria
SUMMARY:LETTERATURA RUSSA 2 [LT004X] - FARSETTI Alessandro\, Lezione
URL;VALUE=URI://www.unive.it/data/insegnamento/517449
DTSTART:20260121T103000
END:VEVENT
BEGIN:VEVENT
DTEND:20260123T153000
UID:69e732de31c47
DTSTAMP:20260421T081838
LOCATION:Aula 4 Rio Novo
SUMMARY:LETTERATURA RUSSA 2 [LT004X] - FARSETTI Alessandro\, Lezione
URL;VALUE=URI://www.unive.it/data/insegnamento/517449
DTSTART:20260123T140000
END:VEVENT
END:VCALENDAR