BEGIN:VCALENDAR
VERSION:2.0
PRODID:-//hacksw/handcal//NONSGML v1.0//EN
CALSCALE:GREGORIAN
X-WR-CALNAME:RELAZIONI INTERNAZIONALI MOD. 1 [LT2240]
DESCRIPTION:RELAZIONI INTERNAZIONALI MOD. 1 [LT2240]
REFRESH-INTERVAL;VALUE=DURATION:P1D
X-WR-TIMEZONE:Europe/Rome
BEGIN:VEVENT
DTEND:20250922T153000
UID:69e56a2f5a378
DTSTAMP:20260419T235007
LOCATION:Aula 2C Polo didattico San Basilio (Magazzino 5)
SUMMARY:RELAZIONI INTERNAZIONALI MOD. 1 [LT2240] - NOVAK Stéphanie\, Lezione
URL;VALUE=URI://www.unive.it/data/insegnamento/517485
DTSTART:20250922T140000
END:VEVENT
BEGIN:VEVENT
DTEND:20250929T153000
UID:69e56a2f5a402
DTSTAMP:20260419T235007
LOCATION:Aula 2C Polo didattico San Basilio (Magazzino 5)
SUMMARY:RELAZIONI INTERNAZIONALI MOD. 1 [LT2240] - NOVAK Stéphanie\, Lezione
URL;VALUE=URI://www.unive.it/data/insegnamento/517485
DTSTART:20250929T140000
END:VEVENT
BEGIN:VEVENT
DTEND:20251006T153000
UID:69e56a2f5a452
DTSTAMP:20260419T235007
LOCATION:Aula 2C Polo didattico San Basilio (Magazzino 5)
SUMMARY:RELAZIONI INTERNAZIONALI MOD. 1 [LT2240] - NOVAK Stéphanie\, Lezione
URL;VALUE=URI://www.unive.it/data/insegnamento/517485
DTSTART:20251006T140000
END:VEVENT
BEGIN:VEVENT
DTEND:20251013T153000
UID:69e56a2f5a49f
DTSTAMP:20260419T235007
LOCATION:Aula 2C Polo didattico San Basilio (Magazzino 5)
SUMMARY:RELAZIONI INTERNAZIONALI MOD. 1 [LT2240] - NOVAK Stéphanie\, Lezione
URL;VALUE=URI://www.unive.it/data/insegnamento/517485
DTSTART:20251013T140000
END:VEVENT
BEGIN:VEVENT
DTEND:20251020T153000
UID:69e56a2f5a4ea
DTSTAMP:20260419T235007
LOCATION:Aula 2C Polo didattico San Basilio (Magazzino 5)
SUMMARY:RELAZIONI INTERNAZIONALI MOD. 1 [LT2240] - NOVAK Stéphanie\, Lezione
URL;VALUE=URI://www.unive.it/data/insegnamento/517485
DTSTART:20251020T140000
END:VEVENT
BEGIN:VEVENT
DTEND:20251027T153000
UID:69e56a2f5a537
DTSTAMP:20260419T235007
LOCATION:Aula 2C Polo didattico San Basilio (Magazzino 5)
SUMMARY:RELAZIONI INTERNAZIONALI MOD. 1 [LT2240] - NOVAK Stéphanie\, Lezione
URL;VALUE=URI://www.unive.it/data/insegnamento/517485
DTSTART:20251027T140000
END:VEVENT
BEGIN:VEVENT
DTEND:20251103T153000
UID:69e56a2f5a582
DTSTAMP:20260419T235007
LOCATION:Aula 2C Polo didattico San Basilio (Magazzino 5)
SUMMARY:RELAZIONI INTERNAZIONALI MOD. 1 [LT2240] - NOVAK Stéphanie\, Lezione
URL;VALUE=URI://www.unive.it/data/insegnamento/517485
DTSTART:20251103T140000
END:VEVENT
BEGIN:VEVENT
DTEND:20251103T190000
UID:69e56a2f5a5ce
DTSTAMP:20260419T235007
LOCATION:Aula 1F Polo didattico San Basilio (Magazzino 5)
SUMMARY:RELAZIONI INTERNAZIONALI MOD. 1 [LT2240] - NOVAK Stéphanie\, Lezione
URL;VALUE=URI://www.unive.it/data/insegnamento/517485
DTSTART:20251103T173000
END:VEVENT
BEGIN:VEVENT
DTEND:20251110T153000
UID:69e56a2f5a619
DTSTAMP:20260419T235007
LOCATION:Aula 2C Polo didattico San Basilio (Magazzino 5)
SUMMARY:RELAZIONI INTERNAZIONALI MOD. 1 [LT2240] - NOVAK Stéphanie\, Lezione
URL;VALUE=URI://www.unive.it/data/insegnamento/517485
DTSTART:20251110T140000
END:VEVENT
BEGIN:VEVENT
DTEND:20251117T153000
UID:69e56a2f5a664
DTSTAMP:20260419T235007
LOCATION:Aula 2C Polo didattico San Basilio (Magazzino 5)
SUMMARY:RELAZIONI INTERNAZIONALI MOD. 1 [LT2240] - NOVAK Stéphanie\, Lezione
URL;VALUE=URI://www.unive.it/data/insegnamento/517485
DTSTART:20251117T140000
END:VEVENT
BEGIN:VEVENT
DTEND:20251124T153000
UID:69e56a2f5a6b0
DTSTAMP:20260419T235007
LOCATION:Aula 2C Polo didattico San Basilio (Magazzino 5)
SUMMARY:RELAZIONI INTERNAZIONALI MOD. 1 [LT2240] - NOVAK Stéphanie\, Lezione
URL;VALUE=URI://www.unive.it/data/insegnamento/517485
DTSTART:20251124T140000
END:VEVENT
BEGIN:VEVENT
DTEND:20251201T153000
UID:69e56a2f5a6fb
DTSTAMP:20260419T235007
LOCATION:Aula 2C Polo didattico San Basilio (Magazzino 5)
SUMMARY:RELAZIONI INTERNAZIONALI MOD. 1 [LT2240] - NOVAK Stéphanie\, Lezione
URL;VALUE=URI://www.unive.it/data/insegnamento/517485
DTSTART:20251201T140000
END:VEVENT
BEGIN:VEVENT
DTEND:20251201T190000
UID:69e56a2f5a745
DTSTAMP:20260419T235007
LOCATION:Aula 2A Polo didattico San Basilio (Magazzino 5)
SUMMARY:RELAZIONI INTERNAZIONALI MOD. 1 [LT2240] - NOVAK Stéphanie\, Lezione
URL;VALUE=URI://www.unive.it/data/insegnamento/517485
DTSTART:20251201T173000
END:VEVENT
BEGIN:VEVENT
DTEND:20251215T153000
UID:69e56a2f5a778
DTSTAMP:20260419T235007
LOCATION:Aula 2C Polo didattico San Basilio (Magazzino 5)
SUMMARY:RELAZIONI INTERNAZIONALI MOD. 1 [LT2240] - NOVAK Stéphanie\, Lezione
URL;VALUE=URI://www.unive.it/data/insegnamento/517485
DTSTART:20251215T140000
END:VEVENT
BEGIN:VEVENT
DTEND:20260112T153000
UID:69e56a2f5a7c3
DTSTAMP:20260419T235007
LOCATION:Aula 2C Polo didattico San Basilio (Magazzino 5)
SUMMARY:RELAZIONI INTERNAZIONALI MOD. 1 [LT2240] - NOVAK Stéphanie\, Lezione
URL;VALUE=URI://www.unive.it/data/insegnamento/517485
DTSTART:20260112T140000
END:VEVENT
BEGIN:VEVENT
DTEND:20260119T153000
UID:69e56a2f5a80f
DTSTAMP:20260419T235007
LOCATION:Aula 2C Polo didattico San Basilio (Magazzino 5)
SUMMARY:RELAZIONI INTERNAZIONALI MOD. 1 [LT2240] - NOVAK Stéphanie\, Lezione
URL;VALUE=URI://www.unive.it/data/insegnamento/517485
DTSTART:20260119T140000
END:VEVENT
END:VCALENDAR