BEGIN:VCALENDAR
VERSION:2.0
PRODID:-//hacksw/handcal//NONSGML v1.0//EN
CALSCALE:GREGORIAN
X-WR-CALNAME:RELAZIONI INTERNAZIONALI MOD. 1 [LT2240]
DESCRIPTION:RELAZIONI INTERNAZIONALI MOD. 1 [LT2240]
REFRESH-INTERVAL;VALUE=DURATION:P1D
X-WR-TIMEZONE:Europe/Rome
BEGIN:VEVENT
DTEND:20250923T190000
UID:69e553b0c79a0
DTSTAMP:20260419T221408
LOCATION:Aula 2C Polo didattico San Basilio (Magazzino 5)
SUMMARY:RELAZIONI INTERNAZIONALI MOD. 1 [LT2240] - NOVAK Stéphanie\, Lezione
URL;VALUE=URI://www.unive.it/data/insegnamento/517486
DTSTART:20250923T173000
END:VEVENT
BEGIN:VEVENT
DTEND:20250930T190000
UID:69e553b0c7a40
DTSTAMP:20260419T221408
LOCATION:Aula 2C Polo didattico San Basilio (Magazzino 5)
SUMMARY:RELAZIONI INTERNAZIONALI MOD. 1 [LT2240] - NOVAK Stéphanie\, Lezione
URL;VALUE=URI://www.unive.it/data/insegnamento/517486
DTSTART:20250930T173000
END:VEVENT
BEGIN:VEVENT
DTEND:20251007T190000
UID:69e553b0c7aa8
DTSTAMP:20260419T221408
LOCATION:Aula 2C Polo didattico San Basilio (Magazzino 5)
SUMMARY:RELAZIONI INTERNAZIONALI MOD. 1 [LT2240] - NOVAK Stéphanie\, Lezione
URL;VALUE=URI://www.unive.it/data/insegnamento/517486
DTSTART:20251007T173000
END:VEVENT
BEGIN:VEVENT
DTEND:20251014T190000
UID:69e553b0c7b0a
DTSTAMP:20260419T221408
LOCATION:Aula 2C Polo didattico San Basilio (Magazzino 5)
SUMMARY:RELAZIONI INTERNAZIONALI MOD. 1 [LT2240] - NOVAK Stéphanie\, Lezione
URL;VALUE=URI://www.unive.it/data/insegnamento/517486
DTSTART:20251014T173000
END:VEVENT
BEGIN:VEVENT
DTEND:20251021T190000
UID:69e553b0c7b67
DTSTAMP:20260419T221408
LOCATION:Aula 2C Polo didattico San Basilio (Magazzino 5)
SUMMARY:RELAZIONI INTERNAZIONALI MOD. 1 [LT2240] - NOVAK Stéphanie\, Lezione
URL;VALUE=URI://www.unive.it/data/insegnamento/517486
DTSTART:20251021T173000
END:VEVENT
BEGIN:VEVENT
DTEND:20251028T190000
UID:69e553b0c7bc2
DTSTAMP:20260419T221408
LOCATION:Aula 2C Polo didattico San Basilio (Magazzino 5)
SUMMARY:RELAZIONI INTERNAZIONALI MOD. 1 [LT2240] - NOVAK Stéphanie\, Lezione
URL;VALUE=URI://www.unive.it/data/insegnamento/517486
DTSTART:20251028T173000
END:VEVENT
BEGIN:VEVENT
DTEND:20251104T190000
UID:69e553b0c7c20
DTSTAMP:20260419T221408
LOCATION:Aula 2C Polo didattico San Basilio (Magazzino 5)
SUMMARY:RELAZIONI INTERNAZIONALI MOD. 1 [LT2240] - NOVAK Stéphanie\, Lezione
URL;VALUE=URI://www.unive.it/data/insegnamento/517486
DTSTART:20251104T173000
END:VEVENT
BEGIN:VEVENT
DTEND:20251110T190000
UID:69e553b0c7c7d
DTSTAMP:20260419T221408
LOCATION:Aula 2A Polo didattico San Basilio (Magazzino 5)
SUMMARY:RELAZIONI INTERNAZIONALI MOD. 1 [LT2240] - NOVAK Stéphanie\, Lezione
URL;VALUE=URI://www.unive.it/data/insegnamento/517486
DTSTART:20251110T173000
END:VEVENT
BEGIN:VEVENT
DTEND:20251111T190000
UID:69e553b0c7cda
DTSTAMP:20260419T221408
LOCATION:Aula 1B Polo didattico San Basilio (Magazzino 5)
SUMMARY:RELAZIONI INTERNAZIONALI MOD. 1 [LT2240] - NOVAK Stéphanie\, Lezione
URL;VALUE=URI://www.unive.it/data/insegnamento/517486
DTSTART:20251111T173000
END:VEVENT
BEGIN:VEVENT
DTEND:20251118T190000
UID:69e553b0c7d38
DTSTAMP:20260419T221408
LOCATION:Aula 0G Polo didattico San Basilio (Magazzino 5)
SUMMARY:RELAZIONI INTERNAZIONALI MOD. 1 [LT2240] - NOVAK Stéphanie\, Lezione
URL;VALUE=URI://www.unive.it/data/insegnamento/517486
DTSTART:20251118T173000
END:VEVENT
BEGIN:VEVENT
DTEND:20251125T190000
UID:69e553b0c7d7c
DTSTAMP:20260419T221408
LOCATION:Aula 0G Polo didattico San Basilio (Magazzino 5)
SUMMARY:RELAZIONI INTERNAZIONALI MOD. 1 [LT2240] - NOVAK Stéphanie\, Lezione
URL;VALUE=URI://www.unive.it/data/insegnamento/517486
DTSTART:20251125T173000
END:VEVENT
BEGIN:VEVENT
DTEND:20251202T190000
UID:69e553b0c7dd8
DTSTAMP:20260419T221408
LOCATION:Aula 0G Polo didattico San Basilio (Magazzino 5)
SUMMARY:RELAZIONI INTERNAZIONALI MOD. 1 [LT2240] - NOVAK Stéphanie\, Lezione
URL;VALUE=URI://www.unive.it/data/insegnamento/517486
DTSTART:20251202T173000
END:VEVENT
BEGIN:VEVENT
DTEND:20251209T190000
UID:69e553b0c7e33
DTSTAMP:20260419T221408
LOCATION:Aula 3 Rio Novo
SUMMARY:RELAZIONI INTERNAZIONALI MOD. 1 [LT2240] - NOVAK Stéphanie\, Lezione
URL;VALUE=URI://www.unive.it/data/insegnamento/517486
DTSTART:20251209T173000
END:VEVENT
BEGIN:VEVENT
DTEND:20251216T190000
UID:69e553b0c7e90
DTSTAMP:20260419T221408
LOCATION:Aula 0G Polo didattico San Basilio (Magazzino 5)
SUMMARY:RELAZIONI INTERNAZIONALI MOD. 1 [LT2240] - NOVAK Stéphanie\, Lezione
URL;VALUE=URI://www.unive.it/data/insegnamento/517486
DTSTART:20251216T173000
END:VEVENT
BEGIN:VEVENT
DTEND:20260112T171500
UID:69e553b0c7eeb
DTSTAMP:20260419T221408
LOCATION:Aula 2B Polo didattico San Basilio (Magazzino 5)
SUMMARY:RELAZIONI INTERNAZIONALI MOD. 1 [LT2240] - NOVAK Stéphanie\, Lezione
URL;VALUE=URI://www.unive.it/data/insegnamento/517486
DTSTART:20260112T154500
END:VEVENT
BEGIN:VEVENT
DTEND:20260112T190000
UID:69e553b0c7f48
DTSTAMP:20260419T221408
LOCATION:Aula 2B Polo didattico San Basilio (Magazzino 5)
SUMMARY:RELAZIONI INTERNAZIONALI MOD. 1 [LT2240] - NOVAK Stéphanie\, Lezione
URL;VALUE=URI://www.unive.it/data/insegnamento/517486
DTSTART:20260112T173000
END:VEVENT
BEGIN:VEVENT
DTEND:20260120T190000
UID:69e553b0c7fa3
DTSTAMP:20260419T221408
LOCATION:Aula 2C Polo didattico San Basilio (Magazzino 5)
SUMMARY:RELAZIONI INTERNAZIONALI MOD. 1 [LT2240] - NOVAK Stéphanie\, Lezione
URL;VALUE=URI://www.unive.it/data/insegnamento/517486
DTSTART:20260120T173000
END:VEVENT
END:VCALENDAR