BEGIN:VCALENDAR
VERSION:2.0
PRODID:-//hacksw/handcal//NONSGML v1.0//EN
CALSCALE:GREGORIAN
X-WR-CALNAME:RELAZIONI INTERNAZIONALI MOD. 2 [LT2240]
DESCRIPTION:RELAZIONI INTERNAZIONALI MOD. 2 [LT2240]
REFRESH-INTERVAL;VALUE=DURATION:P1D
X-WR-TIMEZONE:Europe/Rome
BEGIN:VEVENT
DTEND:20260224T171500
UID:69e58524a5b94
DTSTAMP:20260420T014508
LOCATION:Aula nuova Santa Marta
SUMMARY:RELAZIONI INTERNAZIONALI MOD. 2 [LT2240] - OKTEM Kerem Halil-Latif\, Lezione
URL;VALUE=URI://www.unive.it/data/insegnamento/517488
DTSTART:20260224T154500
END:VEVENT
BEGIN:VEVENT
DTEND:20260303T171500
UID:69e58524a5c1c
DTSTAMP:20260420T014508
LOCATION:Aula nuova Santa Marta
SUMMARY:RELAZIONI INTERNAZIONALI MOD. 2 [LT2240] - OKTEM Kerem Halil-Latif\, Lezione
URL;VALUE=URI://www.unive.it/data/insegnamento/517488
DTSTART:20260303T154500
END:VEVENT
BEGIN:VEVENT
DTEND:20260310T171500
UID:69e58524a5c6e
DTSTAMP:20260420T014508
LOCATION:Aula nuova Santa Marta
SUMMARY:RELAZIONI INTERNAZIONALI MOD. 2 [LT2240] - OKTEM Kerem Halil-Latif\, Lezione
URL;VALUE=URI://www.unive.it/data/insegnamento/517488
DTSTART:20260310T154500
END:VEVENT
BEGIN:VEVENT
DTEND:20260317T171500
UID:69e58524a5cbe
DTSTAMP:20260420T014508
LOCATION:Aula nuova Santa Marta
SUMMARY:RELAZIONI INTERNAZIONALI MOD. 2 [LT2240] - OKTEM Kerem Halil-Latif\, Lezione
URL;VALUE=URI://www.unive.it/data/insegnamento/517488
DTSTART:20260317T154500
END:VEVENT
BEGIN:VEVENT
DTEND:20260324T171500
UID:69e58524a5d0b
DTSTAMP:20260420T014508
LOCATION:Aula nuova Santa Marta
SUMMARY:RELAZIONI INTERNAZIONALI MOD. 2 [LT2240] - OKTEM Kerem Halil-Latif\, Lezione
URL;VALUE=URI://www.unive.it/data/insegnamento/517488
DTSTART:20260324T154500
END:VEVENT
BEGIN:VEVENT
DTEND:20260331T171500
UID:69e58524a5d57
DTSTAMP:20260420T014508
LOCATION:Aula nuova Santa Marta
SUMMARY:RELAZIONI INTERNAZIONALI MOD. 2 [LT2240] - OKTEM Kerem Halil-Latif\, Lezione
URL;VALUE=URI://www.unive.it/data/insegnamento/517488
DTSTART:20260331T154500
END:VEVENT
BEGIN:VEVENT
DTEND:20260407T171500
UID:69e58524a5da2
DTSTAMP:20260420T014508
LOCATION:Aula nuova Santa Marta
SUMMARY:RELAZIONI INTERNAZIONALI MOD. 2 [LT2240] - OKTEM Kerem Halil-Latif\, Lezione
URL;VALUE=URI://www.unive.it/data/insegnamento/517488
DTSTART:20260407T154500
END:VEVENT
BEGIN:VEVENT
DTEND:20260414T171500
UID:69e58524a5dec
DTSTAMP:20260420T014508
LOCATION:Aula nuova Santa Marta
SUMMARY:RELAZIONI INTERNAZIONALI MOD. 2 [LT2240] - OKTEM Kerem Halil-Latif\, Lezione
URL;VALUE=URI://www.unive.it/data/insegnamento/517488
DTSTART:20260414T154500
END:VEVENT
BEGIN:VEVENT
DTEND:20260421T171500
UID:69e58524a5e38
DTSTAMP:20260420T014508
LOCATION:Aula nuova Santa Marta
SUMMARY:RELAZIONI INTERNAZIONALI MOD. 2 [LT2240] - OKTEM Kerem Halil-Latif\, Lezione
URL;VALUE=URI://www.unive.it/data/insegnamento/517488
DTSTART:20260421T154500
END:VEVENT
BEGIN:VEVENT
DTEND:20260428T171500
UID:69e58524a5e80
DTSTAMP:20260420T014508
LOCATION:Aula nuova Santa Marta
SUMMARY:RELAZIONI INTERNAZIONALI MOD. 2 [LT2240] - OKTEM Kerem Halil-Latif\, Lezione
URL;VALUE=URI://www.unive.it/data/insegnamento/517488
DTSTART:20260428T154500
END:VEVENT
BEGIN:VEVENT
DTEND:20260505T171500
UID:69e58524a5ecc
DTSTAMP:20260420T014508
LOCATION:Aula nuova Santa Marta
SUMMARY:RELAZIONI INTERNAZIONALI MOD. 2 [LT2240] - OKTEM Kerem Halil-Latif\, Lezione
URL;VALUE=URI://www.unive.it/data/insegnamento/517488
DTSTART:20260505T154500
END:VEVENT
BEGIN:VEVENT
DTEND:20260512T171500
UID:69e58524a5f18
DTSTAMP:20260420T014508
LOCATION:Aula nuova Santa Marta
SUMMARY:RELAZIONI INTERNAZIONALI MOD. 2 [LT2240] - OKTEM Kerem Halil-Latif\, Lezione
URL;VALUE=URI://www.unive.it/data/insegnamento/517488
DTSTART:20260512T154500
END:VEVENT
BEGIN:VEVENT
DTEND:20260519T171500
UID:69e58524a5f64
DTSTAMP:20260420T014508
LOCATION:Aula nuova Santa Marta
SUMMARY:RELAZIONI INTERNAZIONALI MOD. 2 [LT2240] - OKTEM Kerem Halil-Latif\, Lezione
URL;VALUE=URI://www.unive.it/data/insegnamento/517488
DTSTART:20260519T154500
END:VEVENT
BEGIN:VEVENT
DTEND:20260526T171500
UID:69e58524a5fae
DTSTAMP:20260420T014508
LOCATION:Aula nuova Santa Marta
SUMMARY:RELAZIONI INTERNAZIONALI MOD. 2 [LT2240] - OKTEM Kerem Halil-Latif\, Lezione
URL;VALUE=URI://www.unive.it/data/insegnamento/517488
DTSTART:20260526T154500
END:VEVENT
END:VCALENDAR