BEGIN:VCALENDAR
VERSION:2.0
PRODID:-//hacksw/handcal//NONSGML v1.0//EN
CALSCALE:GREGORIAN
X-WR-CALNAME:AVVIAMENTO ALLA TRADUZIONE EDITORIALE\, SETTORIALE SPAGNOLA [LT5280]
DESCRIPTION:AVVIAMENTO ALLA TRADUZIONE EDITORIALE\, SETTORIALE SPAGNOLA [LT5280]
REFRESH-INTERVAL;VALUE=DURATION:P1D
X-WR-TIMEZONE:Europe/Rome
BEGIN:VEVENT
DTEND:20260225T101500
UID:69e963f7541ec
DTSTAMP:20260423T001239
LOCATION:Aula 3 Treviso - Palazzo San Paolo
SUMMARY:AVVIAMENTO ALLA TRADUZIONE EDITORIALE\, SETTORIALE SPAGNOLA [LT5280] - TROVATO Giuseppe\, Lezione
URL;VALUE=URI://www.unive.it/data/insegnamento/517749
DTSTART:20260225T084500
END:VEVENT
BEGIN:VEVENT
DTEND:20260304T101500
UID:69e963f75427a
DTSTAMP:20260423T001239
LOCATION:Aula 3 Treviso - Palazzo San Paolo
SUMMARY:AVVIAMENTO ALLA TRADUZIONE EDITORIALE\, SETTORIALE SPAGNOLA [LT5280] - TROVATO Giuseppe\, Lezione
URL;VALUE=URI://www.unive.it/data/insegnamento/517749
DTSTART:20260304T084500
END:VEVENT
BEGIN:VEVENT
DTEND:20260311T101500
UID:69e963f7542cd
DTSTAMP:20260423T001239
LOCATION:Aula 3 Treviso - Palazzo San Paolo
SUMMARY:AVVIAMENTO ALLA TRADUZIONE EDITORIALE\, SETTORIALE SPAGNOLA [LT5280] - TROVATO Giuseppe\, Lezione
URL;VALUE=URI://www.unive.it/data/insegnamento/517749
DTSTART:20260311T084500
END:VEVENT
BEGIN:VEVENT
DTEND:20260318T101500
UID:69e963f75431c
DTSTAMP:20260423T001239
LOCATION:Aula 3 Treviso - Palazzo San Paolo
SUMMARY:AVVIAMENTO ALLA TRADUZIONE EDITORIALE\, SETTORIALE SPAGNOLA [LT5280] - TROVATO Giuseppe\, Lezione
URL;VALUE=URI://www.unive.it/data/insegnamento/517749
DTSTART:20260318T084500
END:VEVENT
BEGIN:VEVENT
DTEND:20260325T101500
UID:69e963f754368
DTSTAMP:20260423T001239
LOCATION:Aula 3 Treviso - Palazzo San Paolo
SUMMARY:AVVIAMENTO ALLA TRADUZIONE EDITORIALE\, SETTORIALE SPAGNOLA [LT5280] - TROVATO Giuseppe\, Lezione
URL;VALUE=URI://www.unive.it/data/insegnamento/517749
DTSTART:20260325T084500
END:VEVENT
BEGIN:VEVENT
DTEND:20260401T101500
UID:69e963f7543b6
DTSTAMP:20260423T001239
LOCATION:Aula 3 Treviso - Palazzo San Paolo
SUMMARY:AVVIAMENTO ALLA TRADUZIONE EDITORIALE\, SETTORIALE SPAGNOLA [LT5280] - TROVATO Giuseppe\, Lezione
URL;VALUE=URI://www.unive.it/data/insegnamento/517749
DTSTART:20260401T084500
END:VEVENT
BEGIN:VEVENT
DTEND:20260408T101500
UID:69e963f754402
DTSTAMP:20260423T001239
LOCATION:Aula 3 Treviso - Palazzo San Paolo
SUMMARY:AVVIAMENTO ALLA TRADUZIONE EDITORIALE\, SETTORIALE SPAGNOLA [LT5280] - TROVATO Giuseppe\, Lezione
URL;VALUE=URI://www.unive.it/data/insegnamento/517749
DTSTART:20260408T084500
END:VEVENT
BEGIN:VEVENT
DTEND:20260415T101500
UID:69e963f75444f
DTSTAMP:20260423T001239
LOCATION:Aula 3 Treviso - Palazzo San Paolo
SUMMARY:AVVIAMENTO ALLA TRADUZIONE EDITORIALE\, SETTORIALE SPAGNOLA [LT5280] - ROSSATO Linda\, TROVATO Giuseppe\, Lezione
URL;VALUE=URI://www.unive.it/data/insegnamento/517749
DTSTART:20260415T084500
END:VEVENT
BEGIN:VEVENT
DTEND:20260422T101500
UID:69e963f75449d
DTSTAMP:20260423T001239
LOCATION:Aula 3 Treviso - Palazzo San Paolo
SUMMARY:AVVIAMENTO ALLA TRADUZIONE EDITORIALE\, SETTORIALE SPAGNOLA [LT5280] - TROVATO Giuseppe\, Lezione
URL;VALUE=URI://www.unive.it/data/insegnamento/517749
DTSTART:20260422T084500
END:VEVENT
BEGIN:VEVENT
DTEND:20260429T101500
UID:69e963f7544e9
DTSTAMP:20260423T001239
LOCATION:Aula 3 Treviso - Palazzo San Paolo
SUMMARY:AVVIAMENTO ALLA TRADUZIONE EDITORIALE\, SETTORIALE SPAGNOLA [LT5280] - TROVATO Giuseppe\, Lezione
URL;VALUE=URI://www.unive.it/data/insegnamento/517749
DTSTART:20260429T084500
END:VEVENT
BEGIN:VEVENT
DTEND:20260506T101500
UID:69e963f754535
DTSTAMP:20260423T001239
LOCATION:Aula 3 Treviso - Palazzo San Paolo
SUMMARY:AVVIAMENTO ALLA TRADUZIONE EDITORIALE\, SETTORIALE SPAGNOLA [LT5280] - TROVATO Giuseppe\, Lezione
URL;VALUE=URI://www.unive.it/data/insegnamento/517749
DTSTART:20260506T084500
END:VEVENT
BEGIN:VEVENT
DTEND:20260513T101500
UID:69e963f754580
DTSTAMP:20260423T001239
LOCATION:Aula 3 Treviso - Palazzo San Paolo
SUMMARY:AVVIAMENTO ALLA TRADUZIONE EDITORIALE\, SETTORIALE SPAGNOLA [LT5280] - TROVATO Giuseppe\, Lezione
URL;VALUE=URI://www.unive.it/data/insegnamento/517749
DTSTART:20260513T084500
END:VEVENT
BEGIN:VEVENT
DTEND:20260520T101500
UID:69e963f7545d8
DTSTAMP:20260423T001239
LOCATION:Aula 3 Treviso - Palazzo San Paolo
SUMMARY:AVVIAMENTO ALLA TRADUZIONE EDITORIALE\, SETTORIALE SPAGNOLA [LT5280] - TROVATO Giuseppe\, Lezione
URL;VALUE=URI://www.unive.it/data/insegnamento/517749
DTSTART:20260520T084500
END:VEVENT
BEGIN:VEVENT
DTEND:20260525T153000
UID:69e963f754624
DTSTAMP:20260423T001239
LOCATION:Aula 3 Treviso - Palazzo San Paolo
SUMMARY:AVVIAMENTO ALLA TRADUZIONE EDITORIALE\, SETTORIALE SPAGNOLA [LT5280] - TROVATO Giuseppe\, Lezione
URL;VALUE=URI://www.unive.it/data/insegnamento/517749
DTSTART:20260525T140000
END:VEVENT
BEGIN:VEVENT
DTEND:20260603T101500
UID:69e963f754670
DTSTAMP:20260423T001239
LOCATION:Aula 3 Treviso - Palazzo San Paolo
SUMMARY:AVVIAMENTO ALLA TRADUZIONE EDITORIALE\, SETTORIALE SPAGNOLA [LT5280] - TROVATO Giuseppe\, Lezione
URL;VALUE=URI://www.unive.it/data/insegnamento/517749
DTSTART:20260603T084500
END:VEVENT
END:VCALENDAR