BEGIN:VCALENDAR
VERSION:2.0
PRODID:-//hacksw/handcal//NONSGML v1.0//EN
CALSCALE:GREGORIAN
X-WR-CALNAME:LETTERATURE COMPARATE [LT1240]
DESCRIPTION:LETTERATURE COMPARATE [LT1240]
REFRESH-INTERVAL;VALUE=DURATION:P1D
X-WR-TIMEZONE:Europe/Rome
BEGIN:VEVENT
DTEND:20260226T171500
UID:69e9122456f72
DTSTAMP:20260422T182332
LOCATION:Aula 2 Treviso - Palazzo San Paolo
SUMMARY:LETTERATURE COMPARATE [LT1240] - SCARSELLA Alessandro\, Lezione
URL;VALUE=URI://www.unive.it/data/insegnamento/517753
DTSTART:20260226T154500
END:VEVENT
BEGIN:VEVENT
DTEND:20260305T171500
UID:69e9122457006
DTSTAMP:20260422T182332
LOCATION:Aula 2 Treviso - Palazzo San Paolo
SUMMARY:LETTERATURE COMPARATE [LT1240] - SCARSELLA Alessandro\, Lezione
URL;VALUE=URI://www.unive.it/data/insegnamento/517753
DTSTART:20260305T154500
END:VEVENT
BEGIN:VEVENT
DTEND:20260312T171500
UID:69e912245705b
DTSTAMP:20260422T182332
LOCATION:Aula 2 Treviso - Palazzo San Paolo
SUMMARY:LETTERATURE COMPARATE [LT1240] - SCARSELLA Alessandro\, Lezione
URL;VALUE=URI://www.unive.it/data/insegnamento/517753
DTSTART:20260312T154500
END:VEVENT
BEGIN:VEVENT
DTEND:20260319T171500
UID:69e91224570ab
DTSTAMP:20260422T182332
LOCATION:Aula 2 Treviso - Palazzo San Paolo
SUMMARY:LETTERATURE COMPARATE [LT1240] - SCARSELLA Alessandro\, Lezione
URL;VALUE=URI://www.unive.it/data/insegnamento/517753
DTSTART:20260319T154500
END:VEVENT
BEGIN:VEVENT
DTEND:20260326T171500
UID:69e912245710e
DTSTAMP:20260422T182332
LOCATION:Aula 2 Treviso - Palazzo San Paolo
SUMMARY:LETTERATURE COMPARATE [LT1240] - SCARSELLA Alessandro\, Lezione
URL;VALUE=URI://www.unive.it/data/insegnamento/517753
DTSTART:20260326T154500
END:VEVENT
BEGIN:VEVENT
DTEND:20260402T171500
UID:69e9122457159
DTSTAMP:20260422T182332
LOCATION:Aula 2 Treviso - Palazzo San Paolo
SUMMARY:LETTERATURE COMPARATE [LT1240] - SCARSELLA Alessandro\, Lezione
URL;VALUE=URI://www.unive.it/data/insegnamento/517753
DTSTART:20260402T154500
END:VEVENT
BEGIN:VEVENT
DTEND:20260409T171500
UID:69e91224571a4
DTSTAMP:20260422T182332
LOCATION:Aula 2 Treviso - Palazzo San Paolo
SUMMARY:LETTERATURE COMPARATE [LT1240] - SCARSELLA Alessandro\, Lezione
URL;VALUE=URI://www.unive.it/data/insegnamento/517753
DTSTART:20260409T154500
END:VEVENT
BEGIN:VEVENT
DTEND:20260416T171500
UID:69e91224571ef
DTSTAMP:20260422T182332
LOCATION:Aula 2 Treviso - Palazzo San Paolo
SUMMARY:LETTERATURE COMPARATE [LT1240] - SCARSELLA Alessandro\, Lezione
URL;VALUE=URI://www.unive.it/data/insegnamento/517753
DTSTART:20260416T154500
END:VEVENT
BEGIN:VEVENT
DTEND:20260423T171500
UID:69e9122457239
DTSTAMP:20260422T182332
LOCATION:Aula 2 Treviso - Palazzo San Paolo
SUMMARY:LETTERATURE COMPARATE [LT1240] - SCARSELLA Alessandro\, Lezione
URL;VALUE=URI://www.unive.it/data/insegnamento/517753
DTSTART:20260423T154500
END:VEVENT
BEGIN:VEVENT
DTEND:20260430T171500
UID:69e9122457284
DTSTAMP:20260422T182332
LOCATION:Aula 2 Treviso - Palazzo San Paolo
SUMMARY:LETTERATURE COMPARATE [LT1240] - SCARSELLA Alessandro\, Lezione
URL;VALUE=URI://www.unive.it/data/insegnamento/517753
DTSTART:20260430T154500
END:VEVENT
BEGIN:VEVENT
DTEND:20260507T171500
UID:69e91224572cf
DTSTAMP:20260422T182332
LOCATION:Aula 2 Treviso - Palazzo San Paolo
SUMMARY:LETTERATURE COMPARATE [LT1240] - SCARSELLA Alessandro\, Lezione
URL;VALUE=URI://www.unive.it/data/insegnamento/517753
DTSTART:20260507T154500
END:VEVENT
BEGIN:VEVENT
DTEND:20260514T171500
UID:69e912245731a
DTSTAMP:20260422T182332
LOCATION:Aula 2 Treviso - Palazzo San Paolo
SUMMARY:LETTERATURE COMPARATE [LT1240] - SCARSELLA Alessandro\, Lezione
URL;VALUE=URI://www.unive.it/data/insegnamento/517753
DTSTART:20260514T154500
END:VEVENT
BEGIN:VEVENT
DTEND:20260521T171500
UID:69e9122457364
DTSTAMP:20260422T182332
LOCATION:Aula 2 Treviso - Palazzo San Paolo
SUMMARY:LETTERATURE COMPARATE [LT1240] - SCARSELLA Alessandro\, Lezione
URL;VALUE=URI://www.unive.it/data/insegnamento/517753
DTSTART:20260521T154500
END:VEVENT
BEGIN:VEVENT
DTEND:20260528T171500
UID:69e91224573ae
DTSTAMP:20260422T182332
LOCATION:Aula 2 Treviso - Palazzo San Paolo
SUMMARY:LETTERATURE COMPARATE [LT1240] - SCARSELLA Alessandro\, Lezione
URL;VALUE=URI://www.unive.it/data/insegnamento/517753
DTSTART:20260528T154500
END:VEVENT
BEGIN:VEVENT
DTEND:20260604T171500
UID:69e91224573f8
DTSTAMP:20260422T182332
LOCATION:Aula 2 Treviso - Palazzo San Paolo
SUMMARY:LETTERATURE COMPARATE [LT1240] - SCARSELLA Alessandro\, Lezione
URL;VALUE=URI://www.unive.it/data/insegnamento/517753
DTSTART:20260604T154500
END:VEVENT
END:VCALENDAR