BEGIN:VCALENDAR
VERSION:2.0
PRODID:-//hacksw/handcal//NONSGML v1.0//EN
CALSCALE:GREGORIAN
X-WR-CALNAME:POLITICAL CONCEPTS AND METHODS [LM6400]
DESCRIPTION:POLITICAL CONCEPTS AND METHODS [LM6400]
REFRESH-INTERVAL;VALUE=DURATION:P1D
X-WR-TIMEZONE:Europe/Rome
BEGIN:VEVENT
DTEND:20250924T134500
UID:69e55d5c0b3aa
DTSTAMP:20260419T225524
LOCATION:Aula MF3 Polo didattico San Basilio (MF - Magazzini Frigoriferi)
SUMMARY:POLITICAL CONCEPTS AND METHODS [LM6400] - OKTEM Kerem Halil-Latif\, Lezione
URL;VALUE=URI://www.unive.it/data/insegnamento/517887
DTSTART:20250924T121500
END:VEVENT
BEGIN:VEVENT
DTEND:20251001T134500
UID:69e55d5c0b42d
DTSTAMP:20260419T225524
LOCATION:Aula MF3 Polo didattico San Basilio (MF - Magazzini Frigoriferi)
SUMMARY:POLITICAL CONCEPTS AND METHODS [LM6400] - OKTEM Kerem Halil-Latif\, Lezione
URL;VALUE=URI://www.unive.it/data/insegnamento/517887
DTSTART:20251001T121500
END:VEVENT
BEGIN:VEVENT
DTEND:20251008T134500
UID:69e55d5c0b483
DTSTAMP:20260419T225524
LOCATION:Aula MF3 Polo didattico San Basilio (MF - Magazzini Frigoriferi)
SUMMARY:POLITICAL CONCEPTS AND METHODS [LM6400] - OKTEM Kerem Halil-Latif\, Lezione
URL;VALUE=URI://www.unive.it/data/insegnamento/517887
DTSTART:20251008T121500
END:VEVENT
BEGIN:VEVENT
DTEND:20251015T134500
UID:69e55d5c0b4d4
DTSTAMP:20260419T225524
LOCATION:Aula MF3 Polo didattico San Basilio (MF - Magazzini Frigoriferi)
SUMMARY:POLITICAL CONCEPTS AND METHODS [LM6400] - OKTEM Kerem Halil-Latif\, Lezione
URL;VALUE=URI://www.unive.it/data/insegnamento/517887
DTSTART:20251015T121500
END:VEVENT
BEGIN:VEVENT
DTEND:20251022T134500
UID:69e55d5c0b523
DTSTAMP:20260419T225524
LOCATION:Aula MF3 Polo didattico San Basilio (MF - Magazzini Frigoriferi)
SUMMARY:POLITICAL CONCEPTS AND METHODS [LM6400] - OKTEM Kerem Halil-Latif\, Lezione
URL;VALUE=URI://www.unive.it/data/insegnamento/517887
DTSTART:20251022T121500
END:VEVENT
BEGIN:VEVENT
DTEND:20251029T134500
UID:69e55d5c0b56f
DTSTAMP:20260419T225524
LOCATION:Aula MF3 Polo didattico San Basilio (MF - Magazzini Frigoriferi)
SUMMARY:POLITICAL CONCEPTS AND METHODS [LM6400] - OKTEM Kerem Halil-Latif\, Lezione
URL;VALUE=URI://www.unive.it/data/insegnamento/517887
DTSTART:20251029T121500
END:VEVENT
BEGIN:VEVENT
DTEND:20251105T134500
UID:69e55d5c0b5bb
DTSTAMP:20260419T225524
LOCATION:Aula MF3 Polo didattico San Basilio (MF - Magazzini Frigoriferi)
SUMMARY:POLITICAL CONCEPTS AND METHODS [LM6400] - OKTEM Kerem Halil-Latif\, Lezione
URL;VALUE=URI://www.unive.it/data/insegnamento/517887
DTSTART:20251105T121500
END:VEVENT
BEGIN:VEVENT
DTEND:20251112T134500
UID:69e55d5c0b611
DTSTAMP:20260419T225524
LOCATION:Aula MF3 Polo didattico San Basilio (MF - Magazzini Frigoriferi)
SUMMARY:POLITICAL CONCEPTS AND METHODS [LM6400] - OKTEM Kerem Halil-Latif\, Lezione
URL;VALUE=URI://www.unive.it/data/insegnamento/517887
DTSTART:20251112T121500
END:VEVENT
BEGIN:VEVENT
DTEND:20251119T134500
UID:69e55d5c0b65c
DTSTAMP:20260419T225524
LOCATION:Aula MF3 Polo didattico San Basilio (MF - Magazzini Frigoriferi)
SUMMARY:POLITICAL CONCEPTS AND METHODS [LM6400] - OKTEM Kerem Halil-Latif\, Lezione
URL;VALUE=URI://www.unive.it/data/insegnamento/517887
DTSTART:20251119T121500
END:VEVENT
BEGIN:VEVENT
DTEND:20251126T134500
UID:69e55d5c0b6a8
DTSTAMP:20260419T225524
LOCATION:Aula MF3 Polo didattico San Basilio (MF - Magazzini Frigoriferi)
SUMMARY:POLITICAL CONCEPTS AND METHODS [LM6400] - OKTEM Kerem Halil-Latif\, Lezione
URL;VALUE=URI://www.unive.it/data/insegnamento/517887
DTSTART:20251126T121500
END:VEVENT
BEGIN:VEVENT
DTEND:20251203T134500
UID:69e55d5c0b6f3
DTSTAMP:20260419T225524
LOCATION:Aula MF3 Polo didattico San Basilio (MF - Magazzini Frigoriferi)
SUMMARY:POLITICAL CONCEPTS AND METHODS [LM6400] - OKTEM Kerem Halil-Latif\, Lezione
URL;VALUE=URI://www.unive.it/data/insegnamento/517887
DTSTART:20251203T121500
END:VEVENT
BEGIN:VEVENT
DTEND:20251210T134500
UID:69e55d5c0b73e
DTSTAMP:20260419T225524
LOCATION:Aula MF3 Polo didattico San Basilio (MF - Magazzini Frigoriferi)
SUMMARY:POLITICAL CONCEPTS AND METHODS [LM6400] - OKTEM Kerem Halil-Latif\, Lezione
URL;VALUE=URI://www.unive.it/data/insegnamento/517887
DTSTART:20251210T121500
END:VEVENT
BEGIN:VEVENT
DTEND:20251217T134500
UID:69e55d5c0b791
DTSTAMP:20260419T225524
LOCATION:Aula MF3 Polo didattico San Basilio (MF - Magazzini Frigoriferi)
SUMMARY:POLITICAL CONCEPTS AND METHODS [LM6400] - OKTEM Kerem Halil-Latif\, Lezione
URL;VALUE=URI://www.unive.it/data/insegnamento/517887
DTSTART:20251217T121500
END:VEVENT
BEGIN:VEVENT
DTEND:20260114T134500
UID:69e55d5c0b7dd
DTSTAMP:20260419T225524
LOCATION:Aula MF3 Polo didattico San Basilio (MF - Magazzini Frigoriferi)
SUMMARY:POLITICAL CONCEPTS AND METHODS [LM6400] - OKTEM Kerem Halil-Latif\, Lezione
URL;VALUE=URI://www.unive.it/data/insegnamento/517887
DTSTART:20260114T121500
END:VEVENT
BEGIN:VEVENT
DTEND:20260121T134500
UID:69e55d5c0b829
DTSTAMP:20260419T225524
LOCATION:Aula MF3 Polo didattico San Basilio (MF - Magazzini Frigoriferi)
SUMMARY:POLITICAL CONCEPTS AND METHODS [LM6400] - OKTEM Kerem Halil-Latif\, Lezione
URL;VALUE=URI://www.unive.it/data/insegnamento/517887
DTSTART:20260121T121500
END:VEVENT
END:VCALENDAR