BEGIN:VCALENDAR
VERSION:2.0
PRODID:-//hacksw/handcal//NONSGML v1.0//EN
CALSCALE:GREGORIAN
X-WR-CALNAME:WORLD-SYSTEMS ANALYSIS [LM6460]
DESCRIPTION:WORLD-SYSTEMS ANALYSIS [LM6460]
REFRESH-INTERVAL;VALUE=DURATION:P1D
X-WR-TIMEZONE:Europe/Rome
BEGIN:VEVENT
DTEND:20251111T190000
UID:69e55d3581459
DTSTAMP:20260419T225445
LOCATION:Aula 24 San Sebastiano
SUMMARY:WORLD-SYSTEMS ANALYSIS [LM6460] - AZZOLINI Giulio\, Lezione
URL;VALUE=URI://www.unive.it/data/insegnamento/517895
DTSTART:20251111T173000
END:VEVENT
BEGIN:VEVENT
DTEND:20251112T190000
UID:69e55d3581511
DTSTAMP:20260419T225445
LOCATION:Aula 3 San Sebastiano
SUMMARY:WORLD-SYSTEMS ANALYSIS [LM6460] - AZZOLINI Giulio\, Lezione
URL;VALUE=URI://www.unive.it/data/insegnamento/517895
DTSTART:20251112T173000
END:VEVENT
BEGIN:VEVENT
DTEND:20251113T153000
UID:69e55d3581571
DTSTAMP:20260419T225445
LOCATION:Aula 3 San Sebastiano
SUMMARY:WORLD-SYSTEMS ANALYSIS [LM6460] - AZZOLINI Giulio\, Lezione
URL;VALUE=URI://www.unive.it/data/insegnamento/517895
DTSTART:20251113T140000
END:VEVENT
BEGIN:VEVENT
DTEND:20251118T190000
UID:69e55d35815ce
DTSTAMP:20260419T225445
LOCATION:Aula 24 San Sebastiano
SUMMARY:WORLD-SYSTEMS ANALYSIS [LM6460] - AZZOLINI Giulio\, Lezione
URL;VALUE=URI://www.unive.it/data/insegnamento/517895
DTSTART:20251118T173000
END:VEVENT
BEGIN:VEVENT
DTEND:20251119T190000
UID:69e55d3581629
DTSTAMP:20260419T225445
LOCATION:Aula 3 San Sebastiano
SUMMARY:WORLD-SYSTEMS ANALYSIS [LM6460] - AZZOLINI Giulio\, Lezione
URL;VALUE=URI://www.unive.it/data/insegnamento/517895
DTSTART:20251119T173000
END:VEVENT
BEGIN:VEVENT
DTEND:20251120T153000
UID:69e55d3581682
DTSTAMP:20260419T225445
LOCATION:Aula 3 San Sebastiano
SUMMARY:WORLD-SYSTEMS ANALYSIS [LM6460] - AZZOLINI Giulio\, Lezione
URL;VALUE=URI://www.unive.it/data/insegnamento/517895
DTSTART:20251120T140000
END:VEVENT
BEGIN:VEVENT
DTEND:20251125T190000
UID:69e55d35816da
DTSTAMP:20260419T225445
LOCATION:Aula 24 San Sebastiano
SUMMARY:WORLD-SYSTEMS ANALYSIS [LM6460] - AZZOLINI Giulio\, Lezione
URL;VALUE=URI://www.unive.it/data/insegnamento/517895
DTSTART:20251125T173000
END:VEVENT
BEGIN:VEVENT
DTEND:20251126T190000
UID:69e55d3581730
DTSTAMP:20260419T225445
LOCATION:Aula 3 San Sebastiano
SUMMARY:WORLD-SYSTEMS ANALYSIS [LM6460] - AZZOLINI Giulio\, Lezione
URL;VALUE=URI://www.unive.it/data/insegnamento/517895
DTSTART:20251126T173000
END:VEVENT
BEGIN:VEVENT
DTEND:20251127T153000
UID:69e55d358177b
DTSTAMP:20260419T225445
LOCATION:Aula 3 San Sebastiano
SUMMARY:WORLD-SYSTEMS ANALYSIS [LM6460] - AZZOLINI Giulio\, Lezione
URL;VALUE=URI://www.unive.it/data/insegnamento/517895
DTSTART:20251127T140000
END:VEVENT
BEGIN:VEVENT
DTEND:20251202T190000
UID:69e55d35817c5
DTSTAMP:20260419T225445
LOCATION:Aula 24 San Sebastiano
SUMMARY:WORLD-SYSTEMS ANALYSIS [LM6460] - AZZOLINI Giulio\, Lezione
URL;VALUE=URI://www.unive.it/data/insegnamento/517895
DTSTART:20251202T173000
END:VEVENT
BEGIN:VEVENT
DTEND:20251203T190000
UID:69e55d358180f
DTSTAMP:20260419T225445
LOCATION:Aula 3 San Sebastiano
SUMMARY:WORLD-SYSTEMS ANALYSIS [LM6460] - AZZOLINI Giulio\, Lezione
URL;VALUE=URI://www.unive.it/data/insegnamento/517895
DTSTART:20251203T173000
END:VEVENT
BEGIN:VEVENT
DTEND:20251204T153000
UID:69e55d358185a
DTSTAMP:20260419T225445
LOCATION:Aula 3 San Sebastiano
SUMMARY:WORLD-SYSTEMS ANALYSIS [LM6460] - AZZOLINI Giulio\, Lezione
URL;VALUE=URI://www.unive.it/data/insegnamento/517895
DTSTART:20251204T140000
END:VEVENT
BEGIN:VEVENT
DTEND:20251209T190000
UID:69e55d35818bc
DTSTAMP:20260419T225445
LOCATION:Aula 24 San Sebastiano
SUMMARY:WORLD-SYSTEMS ANALYSIS [LM6460] - AZZOLINI Giulio\, Lezione
URL;VALUE=URI://www.unive.it/data/insegnamento/517895
DTSTART:20251209T173000
END:VEVENT
BEGIN:VEVENT
DTEND:20251210T190000
UID:69e55d3581912
DTSTAMP:20260419T225445
LOCATION:Aula 3 San Sebastiano
SUMMARY:WORLD-SYSTEMS ANALYSIS [LM6460] - AZZOLINI Giulio\, Lezione
URL;VALUE=URI://www.unive.it/data/insegnamento/517895
DTSTART:20251210T173000
END:VEVENT
BEGIN:VEVENT
DTEND:20251211T153000
UID:69e55d358195e
DTSTAMP:20260419T225445
LOCATION:Aula 3 San Sebastiano
SUMMARY:WORLD-SYSTEMS ANALYSIS [LM6460] - AZZOLINI Giulio\, Lezione
URL;VALUE=URI://www.unive.it/data/insegnamento/517895
DTSTART:20251211T140000
END:VEVENT
BEGIN:VEVENT
DTEND:20251216T190000
UID:69e55d35819a9
DTSTAMP:20260419T225445
LOCATION:Aula 24 San Sebastiano
SUMMARY:WORLD-SYSTEMS ANALYSIS [LM6460] - AZZOLINI Giulio\, Lezione
URL;VALUE=URI://www.unive.it/data/insegnamento/517895
DTSTART:20251216T173000
END:VEVENT
BEGIN:VEVENT
DTEND:20251217T190000
UID:69e55d3581a01
DTSTAMP:20260419T225445
LOCATION:Aula 3 San Sebastiano
SUMMARY:WORLD-SYSTEMS ANALYSIS [LM6460] - AZZOLINI Giulio\, Lezione
URL;VALUE=URI://www.unive.it/data/insegnamento/517895
DTSTART:20251217T173000
END:VEVENT
BEGIN:VEVENT
DTEND:20251218T153000
UID:69e55d3581a59
DTSTAMP:20260419T225445
LOCATION:Aula 3 San Sebastiano
SUMMARY:WORLD-SYSTEMS ANALYSIS [LM6460] - AZZOLINI Giulio\, Lezione
URL;VALUE=URI://www.unive.it/data/insegnamento/517895
DTSTART:20251218T140000
END:VEVENT
END:VCALENDAR