BEGIN:VCALENDAR
VERSION:2.0
PRODID:-//hacksw/handcal//NONSGML v1.0//EN
CALSCALE:GREGORIAN
X-WR-CALNAME:LINGUA ALBANESE - LINGUA E TRADUZIONE 2 - E1 [LM004A]
DESCRIPTION:LINGUA ALBANESE - LINGUA E TRADUZIONE 2 - E1 [LM004A]
REFRESH-INTERVAL;VALUE=DURATION:P1D
X-WR-TIMEZONE:Europe/Rome
BEGIN:VEVENT
DTEND:20250924T153000
UID:69e819320c3fd
DTSTAMP:20260422T004122
LOCATION:Aula C Ca' Cappello
SUMMARY:LINGUA ALBANESE - LINGUA E TRADUZIONE 2 - E1 [LM004A] - ALHASA ANILA\, Lezione
URL;VALUE=URI://www.unive.it/data/insegnamento/518244
DTSTART:20250924T140000
END:VEVENT
BEGIN:VEVENT
DTEND:20250925T101500
UID:69e819320c49b
DTSTAMP:20260422T004122
LOCATION:Aula MF4 Polo didattico San Basilio (MF - Magazzini Frigoriferi)
SUMMARY:LINGUA ALBANESE - LINGUA E TRADUZIONE 2 - E1 [LM004A] - ALHASA ANILA\, Lezione
URL;VALUE=URI://www.unive.it/data/insegnamento/518244
DTSTART:20250925T084500
END:VEVENT
BEGIN:VEVENT
DTEND:20251001T153000
UID:69e819320c4ec
DTSTAMP:20260422T004122
LOCATION:Aula C Ca' Cappello
SUMMARY:LINGUA ALBANESE - LINGUA E TRADUZIONE 2 - E1 [LM004A] - ALHASA ANILA\, Lezione
URL;VALUE=URI://www.unive.it/data/insegnamento/518244
DTSTART:20251001T140000
END:VEVENT
BEGIN:VEVENT
DTEND:20251002T101500
UID:69e819320c53a
DTSTAMP:20260422T004122
LOCATION:Aula MF4 Polo didattico San Basilio (MF - Magazzini Frigoriferi)
SUMMARY:LINGUA ALBANESE - LINGUA E TRADUZIONE 2 - E1 [LM004A] - ALHASA ANILA\, Lezione
URL;VALUE=URI://www.unive.it/data/insegnamento/518244
DTSTART:20251002T084500
END:VEVENT
BEGIN:VEVENT
DTEND:20251008T153000
UID:69e819320c57a
DTSTAMP:20260422T004122
LOCATION:Aula C Ca' Cappello
SUMMARY:LINGUA ALBANESE - LINGUA E TRADUZIONE 2 - E1 [LM004A] - ALHASA ANILA\, Lezione
URL;VALUE=URI://www.unive.it/data/insegnamento/518244
DTSTART:20251008T140000
END:VEVENT
BEGIN:VEVENT
DTEND:20251009T101500
UID:69e819320c5c8
DTSTAMP:20260422T004122
LOCATION:Aula MF4 Polo didattico San Basilio (MF - Magazzini Frigoriferi)
SUMMARY:LINGUA ALBANESE - LINGUA E TRADUZIONE 2 - E1 [LM004A] - ALHASA ANILA\, Lezione
URL;VALUE=URI://www.unive.it/data/insegnamento/518244
DTSTART:20251009T084500
END:VEVENT
BEGIN:VEVENT
DTEND:20251015T153000
UID:69e819320c616
DTSTAMP:20260422T004122
LOCATION:Aula C Ca' Cappello
SUMMARY:LINGUA ALBANESE - LINGUA E TRADUZIONE 2 - E1 [LM004A] - ALHASA ANILA\, Lezione
URL;VALUE=URI://www.unive.it/data/insegnamento/518244
DTSTART:20251015T140000
END:VEVENT
BEGIN:VEVENT
DTEND:20251016T101500
UID:69e819320c661
DTSTAMP:20260422T004122
LOCATION:Aula MF4 Polo didattico San Basilio (MF - Magazzini Frigoriferi)
SUMMARY:LINGUA ALBANESE - LINGUA E TRADUZIONE 2 - E1 [LM004A] - ALHASA ANILA\, Lezione
URL;VALUE=URI://www.unive.it/data/insegnamento/518244
DTSTART:20251016T084500
END:VEVENT
BEGIN:VEVENT
DTEND:20251022T153000
UID:69e819320c6ad
DTSTAMP:20260422T004122
LOCATION:Aula C Ca' Cappello
SUMMARY:LINGUA ALBANESE - LINGUA E TRADUZIONE 2 - E1 [LM004A] - ALHASA ANILA\, Lezione
URL;VALUE=URI://www.unive.it/data/insegnamento/518244
DTSTART:20251022T140000
END:VEVENT
BEGIN:VEVENT
DTEND:20251023T101500
UID:69e819320c6f8
DTSTAMP:20260422T004122
LOCATION:Aula MF4 Polo didattico San Basilio (MF - Magazzini Frigoriferi)
SUMMARY:LINGUA ALBANESE - LINGUA E TRADUZIONE 2 - E1 [LM004A] - ALHASA ANILA\, Lezione
URL;VALUE=URI://www.unive.it/data/insegnamento/518244
DTSTART:20251023T084500
END:VEVENT
BEGIN:VEVENT
DTEND:20251029T153000
UID:69e819320c744
DTSTAMP:20260422T004122
LOCATION:Aula C Ca' Cappello
SUMMARY:LINGUA ALBANESE - LINGUA E TRADUZIONE 2 - E1 [LM004A] - ALHASA ANILA\, Lezione
URL;VALUE=URI://www.unive.it/data/insegnamento/518244
DTSTART:20251029T140000
END:VEVENT
BEGIN:VEVENT
DTEND:20251030T101500
UID:69e819320c78e
DTSTAMP:20260422T004122
LOCATION:Aula MF4 Polo didattico San Basilio (MF - Magazzini Frigoriferi)
SUMMARY:LINGUA ALBANESE - LINGUA E TRADUZIONE 2 - E1 [LM004A] - ALHASA ANILA\, Lezione
URL;VALUE=URI://www.unive.it/data/insegnamento/518244
DTSTART:20251030T084500
END:VEVENT
BEGIN:VEVENT
DTEND:20251105T153000
UID:69e819320c7db
DTSTAMP:20260422T004122
LOCATION:Aula C Ca' Cappello
SUMMARY:LINGUA ALBANESE - LINGUA E TRADUZIONE 2 - E1 [LM004A] - ALHASA ANILA\, Lezione
URL;VALUE=URI://www.unive.it/data/insegnamento/518244
DTSTART:20251105T140000
END:VEVENT
BEGIN:VEVENT
DTEND:20251106T101500
UID:69e819320c826
DTSTAMP:20260422T004122
LOCATION:Aula MF4 Polo didattico San Basilio (MF - Magazzini Frigoriferi)
SUMMARY:LINGUA ALBANESE - LINGUA E TRADUZIONE 2 - E1 [LM004A] - ALHASA ANILA\, Lezione
URL;VALUE=URI://www.unive.it/data/insegnamento/518244
DTSTART:20251106T084500
END:VEVENT
BEGIN:VEVENT
DTEND:20251112T153000
UID:69e819320c872
DTSTAMP:20260422T004122
LOCATION:Aula C Ca' Cappello
SUMMARY:LINGUA ALBANESE - LINGUA E TRADUZIONE 2 - E1 [LM004A] - ALHASA ANILA\, Lezione
URL;VALUE=URI://www.unive.it/data/insegnamento/518244
DTSTART:20251112T140000
END:VEVENT
BEGIN:VEVENT
DTEND:20251113T101500
UID:69e819320c8bc
DTSTAMP:20260422T004122
LOCATION:Aula MF4 Polo didattico San Basilio (MF - Magazzini Frigoriferi)
SUMMARY:LINGUA ALBANESE - LINGUA E TRADUZIONE 2 - E1 [LM004A] - ALHASA ANILA\, Lezione
URL;VALUE=URI://www.unive.it/data/insegnamento/518244
DTSTART:20251113T084500
END:VEVENT
BEGIN:VEVENT
DTEND:20251119T153000
UID:69e819320c908
DTSTAMP:20260422T004122
LOCATION:Aula C Ca' Cappello
SUMMARY:LINGUA ALBANESE - LINGUA E TRADUZIONE 2 - E1 [LM004A] - ALHASA ANILA\, Lezione
URL;VALUE=URI://www.unive.it/data/insegnamento/518244
DTSTART:20251119T140000
END:VEVENT
BEGIN:VEVENT
DTEND:20251120T101500
UID:69e819320c951
DTSTAMP:20260422T004122
LOCATION:Aula MF4 Polo didattico San Basilio (MF - Magazzini Frigoriferi)
SUMMARY:LINGUA ALBANESE - LINGUA E TRADUZIONE 2 - E1 [LM004A] - ALHASA ANILA\, Lezione
URL;VALUE=URI://www.unive.it/data/insegnamento/518244
DTSTART:20251120T084500
END:VEVENT
BEGIN:VEVENT
DTEND:20251126T153000
UID:69e819320c9a7
DTSTAMP:20260422T004122
LOCATION:Aula C Ca' Cappello
SUMMARY:LINGUA ALBANESE - LINGUA E TRADUZIONE 2 - E1 [LM004A] - ALHASA ANILA\, Lezione
URL;VALUE=URI://www.unive.it/data/insegnamento/518244
DTSTART:20251126T140000
END:VEVENT
BEGIN:VEVENT
DTEND:20251127T101500
UID:69e819320c9f1
DTSTAMP:20260422T004122
LOCATION:Aula MF4 Polo didattico San Basilio (MF - Magazzini Frigoriferi)
SUMMARY:LINGUA ALBANESE - LINGUA E TRADUZIONE 2 - E1 [LM004A] - ALHASA ANILA\, Lezione
URL;VALUE=URI://www.unive.it/data/insegnamento/518244
DTSTART:20251127T084500
END:VEVENT
BEGIN:VEVENT
DTEND:20251203T153000
UID:69e819320ca3d
DTSTAMP:20260422T004122
LOCATION:Aula C Ca' Cappello
SUMMARY:LINGUA ALBANESE - LINGUA E TRADUZIONE 2 - E1 [LM004A] - ALHASA ANILA\, Lezione
URL;VALUE=URI://www.unive.it/data/insegnamento/518244
DTSTART:20251203T140000
END:VEVENT
BEGIN:VEVENT
DTEND:20251204T101500
UID:69e819320ca87
DTSTAMP:20260422T004122
LOCATION:Aula MF4 Polo didattico San Basilio (MF - Magazzini Frigoriferi)
SUMMARY:LINGUA ALBANESE - LINGUA E TRADUZIONE 2 - E1 [LM004A] - ALHASA ANILA\, Lezione
URL;VALUE=URI://www.unive.it/data/insegnamento/518244
DTSTART:20251204T084500
END:VEVENT
BEGIN:VEVENT
DTEND:20251210T153000
UID:69e819320cad3
DTSTAMP:20260422T004122
LOCATION:Aula C Ca' Cappello
SUMMARY:LINGUA ALBANESE - LINGUA E TRADUZIONE 2 - E1 [LM004A] - ALHASA ANILA\, Lezione
URL;VALUE=URI://www.unive.it/data/insegnamento/518244
DTSTART:20251210T140000
END:VEVENT
BEGIN:VEVENT
DTEND:20251211T101500
UID:69e819320cb1d
DTSTAMP:20260422T004122
LOCATION:Aula MF4 Polo didattico San Basilio (MF - Magazzini Frigoriferi)
SUMMARY:LINGUA ALBANESE - LINGUA E TRADUZIONE 2 - E1 [LM004A] - ALHASA ANILA\, Lezione
URL;VALUE=URI://www.unive.it/data/insegnamento/518244
DTSTART:20251211T084500
END:VEVENT
BEGIN:VEVENT
DTEND:20251217T153000
UID:69e819320cb6b
DTSTAMP:20260422T004122
LOCATION:Aula C Ca' Cappello
SUMMARY:LINGUA ALBANESE - LINGUA E TRADUZIONE 2 - E1 [LM004A] - ALHASA ANILA\, Lezione
URL;VALUE=URI://www.unive.it/data/insegnamento/518244
DTSTART:20251217T140000
END:VEVENT
BEGIN:VEVENT
DTEND:20251218T101500
UID:69e819320cbb6
DTSTAMP:20260422T004122
LOCATION:Aula MF4 Polo didattico San Basilio (MF - Magazzini Frigoriferi)
SUMMARY:LINGUA ALBANESE - LINGUA E TRADUZIONE 2 - E1 [LM004A] - ALHASA ANILA\, Lezione
URL;VALUE=URI://www.unive.it/data/insegnamento/518244
DTSTART:20251218T084500
END:VEVENT
BEGIN:VEVENT
DTEND:20260114T153000
UID:69e819320cc03
DTSTAMP:20260422T004122
LOCATION:Aula C Ca' Cappello
SUMMARY:LINGUA ALBANESE - LINGUA E TRADUZIONE 2 - E1 [LM004A] - ALHASA ANILA\, Lezione
URL;VALUE=URI://www.unive.it/data/insegnamento/518244
DTSTART:20260114T140000
END:VEVENT
BEGIN:VEVENT
DTEND:20260115T101500
UID:69e819320cc4d
DTSTAMP:20260422T004122
LOCATION:Aula MF4 Polo didattico San Basilio (MF - Magazzini Frigoriferi)
SUMMARY:LINGUA ALBANESE - LINGUA E TRADUZIONE 2 - E1 [LM004A] - ALHASA ANILA\, Lezione
URL;VALUE=URI://www.unive.it/data/insegnamento/518244
DTSTART:20260115T084500
END:VEVENT
BEGIN:VEVENT
DTEND:20260121T153000
UID:69e819320cc99
DTSTAMP:20260422T004122
LOCATION:Aula C Ca' Cappello
SUMMARY:LINGUA ALBANESE - LINGUA E TRADUZIONE 2 - E1 [LM004A] - ALHASA ANILA\, Lezione
URL;VALUE=URI://www.unive.it/data/insegnamento/518244
DTSTART:20260121T140000
END:VEVENT
BEGIN:VEVENT
DTEND:20260122T101500
UID:69e819320cce4
DTSTAMP:20260422T004122
LOCATION:Aula MF4 Polo didattico San Basilio (MF - Magazzini Frigoriferi)
SUMMARY:LINGUA ALBANESE - LINGUA E TRADUZIONE 2 - E1 [LM004A] - ALHASA ANILA\, Lezione
URL;VALUE=URI://www.unive.it/data/insegnamento/518244
DTSTART:20260122T084500
END:VEVENT
BEGIN:VEVENT
DTEND:20260226T153000
UID:69e819320cd30
DTSTAMP:20260422T004122
LOCATION:Aula 3 San Sebastiano
SUMMARY:LINGUA ALBANESE - LINGUA E TRADUZIONE 2 - E1 [LM004A] - ALHASA ANILA\, Lezione
URL;VALUE=URI://www.unive.it/data/insegnamento/518244
DTSTART:20260226T140000
END:VEVENT
BEGIN:VEVENT
DTEND:20260305T153000
UID:69e819320cd83
DTSTAMP:20260422T004122
LOCATION:Aula A Ca' Cappello
SUMMARY:LINGUA ALBANESE - LINGUA E TRADUZIONE 2 - E1 [LM004A] - ALHASA ANILA\, Lezione
URL;VALUE=URI://www.unive.it/data/insegnamento/518244
DTSTART:20260305T140000
END:VEVENT
BEGIN:VEVENT
DTEND:20260312T153000
UID:69e819320cdcf
DTSTAMP:20260422T004122
LOCATION:Aula A Ca' Bembo
SUMMARY:LINGUA ALBANESE - LINGUA E TRADUZIONE 2 - E1 [LM004A] - ALHASA ANILA\, Lezione
URL;VALUE=URI://www.unive.it/data/insegnamento/518244
DTSTART:20260312T140000
END:VEVENT
BEGIN:VEVENT
DTEND:20260319T153000
UID:69e819320ce23
DTSTAMP:20260422T004122
LOCATION:Aula A Ca' Cappello
SUMMARY:LINGUA ALBANESE - LINGUA E TRADUZIONE 2 - E1 [LM004A] - ALHASA ANILA\, Lezione
URL;VALUE=URI://www.unive.it/data/insegnamento/518244
DTSTART:20260319T140000
END:VEVENT
BEGIN:VEVENT
DTEND:20260326T153000
UID:69e819320ce75
DTSTAMP:20260422T004122
LOCATION:Aula A Ca' Cappello
SUMMARY:LINGUA ALBANESE - LINGUA E TRADUZIONE 2 - E1 [LM004A] - ALHASA ANILA\, Lezione
URL;VALUE=URI://www.unive.it/data/insegnamento/518244
DTSTART:20260326T140000
END:VEVENT
BEGIN:VEVENT
DTEND:20260402T153000
UID:69e819320cec7
DTSTAMP:20260422T004122
LOCATION:Aula A Ca' Cappello
SUMMARY:LINGUA ALBANESE - LINGUA E TRADUZIONE 2 - E1 [LM004A] - ALHASA ANILA\, Lezione
URL;VALUE=URI://www.unive.it/data/insegnamento/518244
DTSTART:20260402T140000
END:VEVENT
BEGIN:VEVENT
DTEND:20260409T153000
UID:69e819320cf14
DTSTAMP:20260422T004122
LOCATION:Aula A Ca' Cappello
SUMMARY:LINGUA ALBANESE - LINGUA E TRADUZIONE 2 - E1 [LM004A] - ALHASA ANILA\, Lezione
URL;VALUE=URI://www.unive.it/data/insegnamento/518244
DTSTART:20260409T140000
END:VEVENT
BEGIN:VEVENT
DTEND:20260416T153000
UID:69e819320cf60
DTSTAMP:20260422T004122
LOCATION:Aula A Ca' Cappello
SUMMARY:LINGUA ALBANESE - LINGUA E TRADUZIONE 2 - E1 [LM004A] - ALHASA ANILA\, Lezione
URL;VALUE=URI://www.unive.it/data/insegnamento/518244
DTSTART:20260416T140000
END:VEVENT
BEGIN:VEVENT
DTEND:20260423T153000
UID:69e819320cfaa
DTSTAMP:20260422T004122
LOCATION:Aula A Ca' Cappello
SUMMARY:LINGUA ALBANESE - LINGUA E TRADUZIONE 2 - E1 [LM004A] - ALHASA ANILA\, Lezione
URL;VALUE=URI://www.unive.it/data/insegnamento/518244
DTSTART:20260423T140000
END:VEVENT
BEGIN:VEVENT
DTEND:20260430T153000
UID:69e819320cff5
DTSTAMP:20260422T004122
LOCATION:Aula A Ca' Cappello
SUMMARY:LINGUA ALBANESE - LINGUA E TRADUZIONE 2 - E1 [LM004A] - ALHASA ANILA\, Lezione
URL;VALUE=URI://www.unive.it/data/insegnamento/518244
DTSTART:20260430T140000
END:VEVENT
BEGIN:VEVENT
DTEND:20260507T153000
UID:69e819320d03f
DTSTAMP:20260422T004122
LOCATION:Aula A Ca' Cappello
SUMMARY:LINGUA ALBANESE - LINGUA E TRADUZIONE 2 - E1 [LM004A] - ALHASA ANILA\, Lezione
URL;VALUE=URI://www.unive.it/data/insegnamento/518244
DTSTART:20260507T140000
END:VEVENT
BEGIN:VEVENT
DTEND:20260514T153000
UID:69e819320d08a
DTSTAMP:20260422T004122
LOCATION:Aula A Ca' Cappello
SUMMARY:LINGUA ALBANESE - LINGUA E TRADUZIONE 2 - E1 [LM004A] - ALHASA ANILA\, Lezione
URL;VALUE=URI://www.unive.it/data/insegnamento/518244
DTSTART:20260514T140000
END:VEVENT
BEGIN:VEVENT
DTEND:20260521T153000
UID:69e819320d0d5
DTSTAMP:20260422T004122
LOCATION:Aula A Ca' Cappello
SUMMARY:LINGUA ALBANESE - LINGUA E TRADUZIONE 2 - E1 [LM004A] - ALHASA ANILA\, Lezione
URL;VALUE=URI://www.unive.it/data/insegnamento/518244
DTSTART:20260521T140000
END:VEVENT
BEGIN:VEVENT
DTEND:20260528T153000
UID:69e819320d11f
DTSTAMP:20260422T004122
LOCATION:Aula A Ca' Cappello
SUMMARY:LINGUA ALBANESE - LINGUA E TRADUZIONE 2 - E1 [LM004A] - ALHASA ANILA\, Lezione
URL;VALUE=URI://www.unive.it/data/insegnamento/518244
DTSTART:20260528T140000
END:VEVENT
BEGIN:VEVENT
DTEND:20260604T153000
UID:69e819320d175
DTSTAMP:20260422T004122
LOCATION:Aula A Ca' Cappello
SUMMARY:LINGUA ALBANESE - LINGUA E TRADUZIONE 2 - E1 [LM004A] - ALHASA ANILA\, Lezione
URL;VALUE=URI://www.unive.it/data/insegnamento/518244
DTSTART:20260604T140000
END:VEVENT
END:VCALENDAR