BEGIN:VCALENDAR
VERSION:2.0
PRODID:-//hacksw/handcal//NONSGML v1.0//EN
CALSCALE:GREGORIAN
X-WR-CALNAME:ECOLOGY AND LITERATURE [LM6470]
DESCRIPTION:ECOLOGY AND LITERATURE [LM6470]
REFRESH-INTERVAL;VALUE=DURATION:P1D
X-WR-TIMEZONE:Europe/Rome
BEGIN:VEVENT
DTEND:20260223T134500
UID:69e7aea4cc2f4
DTSTAMP:20260421T170644
LOCATION:Aula Padoan San Sebastiano
SUMMARY:ECOLOGY AND LITERATURE [LM6470] - BASSI Shaul\, Lezione
URL;VALUE=URI://www.unive.it/data/insegnamento/518310
DTSTART:20260223T121500
END:VEVENT
BEGIN:VEVENT
DTEND:20260302T134500
UID:69e7aea4cc442
DTSTAMP:20260421T170644
LOCATION:Aula Padoan San Sebastiano
SUMMARY:ECOLOGY AND LITERATURE [LM6470] - BASSI Shaul\, Lezione
URL;VALUE=URI://www.unive.it/data/insegnamento/518310
DTSTART:20260302T121500
END:VEVENT
BEGIN:VEVENT
DTEND:20260309T134500
UID:69e7aea4cc49e
DTSTAMP:20260421T170644
LOCATION:Aula Padoan San Sebastiano
SUMMARY:ECOLOGY AND LITERATURE [LM6470] - BASSI Shaul\, Lezione
URL;VALUE=URI://www.unive.it/data/insegnamento/518310
DTSTART:20260309T121500
END:VEVENT
BEGIN:VEVENT
DTEND:20260316T134500
UID:69e7aea4cc4f4
DTSTAMP:20260421T170644
LOCATION:Aula Padoan San Sebastiano
SUMMARY:ECOLOGY AND LITERATURE [LM6470] - BASSI Shaul\, Lezione
URL;VALUE=URI://www.unive.it/data/insegnamento/518310
DTSTART:20260316T121500
END:VEVENT
BEGIN:VEVENT
DTEND:20260323T134500
UID:69e7aea4cc54a
DTSTAMP:20260421T170644
LOCATION:Aula Padoan San Sebastiano
SUMMARY:ECOLOGY AND LITERATURE [LM6470] - BASSI Shaul\, Lezione
URL;VALUE=URI://www.unive.it/data/insegnamento/518310
DTSTART:20260323T121500
END:VEVENT
BEGIN:VEVENT
DTEND:20260330T134500
UID:69e7aea4cc5a0
DTSTAMP:20260421T170644
LOCATION:Aula Padoan San Sebastiano
SUMMARY:ECOLOGY AND LITERATURE [LM6470] - BASSI Shaul\, Lezione
URL;VALUE=URI://www.unive.it/data/insegnamento/518310
DTSTART:20260330T121500
END:VEVENT
BEGIN:VEVENT
DTEND:20260413T134500
UID:69e7aea4cc5f5
DTSTAMP:20260421T170644
LOCATION:Aula Padoan San Sebastiano
SUMMARY:ECOLOGY AND LITERATURE [LM6470] - BASSI Shaul\, Lezione
URL;VALUE=URI://www.unive.it/data/insegnamento/518310
DTSTART:20260413T121500
END:VEVENT
BEGIN:VEVENT
DTEND:20260420T134500
UID:69e7aea4cc64e
DTSTAMP:20260421T170644
LOCATION:Aula Padoan San Sebastiano
SUMMARY:ECOLOGY AND LITERATURE [LM6470] - BASSI Shaul\, Lezione
URL;VALUE=URI://www.unive.it/data/insegnamento/518310
DTSTART:20260420T121500
END:VEVENT
BEGIN:VEVENT
DTEND:20260427T134500
UID:69e7aea4cc6a4
DTSTAMP:20260421T170644
LOCATION:Aula Padoan San Sebastiano
SUMMARY:ECOLOGY AND LITERATURE [LM6470] - BASSI Shaul\, Lezione
URL;VALUE=URI://www.unive.it/data/insegnamento/518310
DTSTART:20260427T121500
END:VEVENT
BEGIN:VEVENT
DTEND:20260504T134500
UID:69e7aea4cc6f8
DTSTAMP:20260421T170644
LOCATION:Aula Padoan San Sebastiano
SUMMARY:ECOLOGY AND LITERATURE [LM6470] - BASSI Shaul\, Lezione
URL;VALUE=URI://www.unive.it/data/insegnamento/518310
DTSTART:20260504T121500
END:VEVENT
BEGIN:VEVENT
DTEND:20260511T134500
UID:69e7aea4cc7c4
DTSTAMP:20260421T170644
LOCATION:Aula Padoan San Sebastiano
SUMMARY:ECOLOGY AND LITERATURE [LM6470] - BASSI Shaul\, Lezione
URL;VALUE=URI://www.unive.it/data/insegnamento/518310
DTSTART:20260511T121500
END:VEVENT
BEGIN:VEVENT
DTEND:20260518T134500
UID:69e7aea4cc81a
DTSTAMP:20260421T170644
LOCATION:Aula Padoan San Sebastiano
SUMMARY:ECOLOGY AND LITERATURE [LM6470] - BASSI Shaul\, Lezione
URL;VALUE=URI://www.unive.it/data/insegnamento/518310
DTSTART:20260518T121500
END:VEVENT
BEGIN:VEVENT
DTEND:20260525T134500
UID:69e7aea4cd284
DTSTAMP:20260421T170644
LOCATION:Aula Padoan San Sebastiano
SUMMARY:ECOLOGY AND LITERATURE [LM6470] - BASSI Shaul\, Lezione
URL;VALUE=URI://www.unive.it/data/insegnamento/518310
DTSTART:20260525T121500
END:VEVENT
END:VCALENDAR