BEGIN:VCALENDAR
VERSION:2.0
PRODID:-//hacksw/handcal//NONSGML v1.0//EN
CALSCALE:GREGORIAN
X-WR-CALNAME:LINGUA GIAPPONESE 2 MOD. 1 [LT005N]
DESCRIPTION:LINGUA GIAPPONESE 2 MOD. 1 [LT005N]
REFRESH-INTERVAL;VALUE=DURATION:P1D
X-WR-TIMEZONE:Europe/Rome
BEGIN:VEVENT
DTEND:20250924T171500
UID:69e4cef1eb212
DTSTAMP:20260419T124745
LOCATION:Aula MF4 Polo didattico San Basilio (MF - Magazzini Frigoriferi)
SUMMARY:LINGUA GIAPPONESE 2 MOD. 1 [LT005N] - MANTELLI ALESSANDRO\, Lezione
URL;VALUE=URI://www.unive.it/data/insegnamento/519994
DTSTART:20250924T154500
END:VEVENT
BEGIN:VEVENT
DTEND:20251001T171500
UID:69e4cef1eb2a1
DTSTAMP:20260419T124745
LOCATION:Aula MF4 Polo didattico San Basilio (MF - Magazzini Frigoriferi)
SUMMARY:LINGUA GIAPPONESE 2 MOD. 1 [LT005N] - MANTELLI ALESSANDRO\, Lezione
URL;VALUE=URI://www.unive.it/data/insegnamento/519994
DTSTART:20251001T154500
END:VEVENT
BEGIN:VEVENT
DTEND:20251008T171500
UID:69e4cef1eb2f5
DTSTAMP:20260419T124745
LOCATION:Aula MF4 Polo didattico San Basilio (MF - Magazzini Frigoriferi)
SUMMARY:LINGUA GIAPPONESE 2 MOD. 1 [LT005N] - MANTELLI ALESSANDRO\, Lezione
URL;VALUE=URI://www.unive.it/data/insegnamento/519994
DTSTART:20251008T154500
END:VEVENT
BEGIN:VEVENT
DTEND:20251015T171500
UID:69e4cef1eb346
DTSTAMP:20260419T124745
LOCATION:Aula MF4 Polo didattico San Basilio (MF - Magazzini Frigoriferi)
SUMMARY:LINGUA GIAPPONESE 2 MOD. 1 [LT005N] - MANTELLI ALESSANDRO\, Lezione
URL;VALUE=URI://www.unive.it/data/insegnamento/519994
DTSTART:20251015T154500
END:VEVENT
BEGIN:VEVENT
DTEND:20251022T171500
UID:69e4cef1eb394
DTSTAMP:20260419T124745
LOCATION:Aula MF4 Polo didattico San Basilio (MF - Magazzini Frigoriferi)
SUMMARY:LINGUA GIAPPONESE 2 MOD. 1 [LT005N] - MANTELLI ALESSANDRO\, Lezione
URL;VALUE=URI://www.unive.it/data/insegnamento/519994
DTSTART:20251022T154500
END:VEVENT
BEGIN:VEVENT
DTEND:20251029T171500
UID:69e4cef1eb3e0
DTSTAMP:20260419T124745
LOCATION:Aula MF4 Polo didattico San Basilio (MF - Magazzini Frigoriferi)
SUMMARY:LINGUA GIAPPONESE 2 MOD. 1 [LT005N] - MANTELLI ALESSANDRO\, Lezione
URL;VALUE=URI://www.unive.it/data/insegnamento/519994
DTSTART:20251029T154500
END:VEVENT
BEGIN:VEVENT
DTEND:20251105T171500
UID:69e4cef1eb42c
DTSTAMP:20260419T124745
LOCATION:Aula MF4 Polo didattico San Basilio (MF - Magazzini Frigoriferi)
SUMMARY:LINGUA GIAPPONESE 2 MOD. 1 [LT005N] - MANTELLI ALESSANDRO\, Lezione
URL;VALUE=URI://www.unive.it/data/insegnamento/519994
DTSTART:20251105T154500
END:VEVENT
BEGIN:VEVENT
DTEND:20251112T171500
UID:69e4cef1eb478
DTSTAMP:20260419T124745
LOCATION:Aula MF4 Polo didattico San Basilio (MF - Magazzini Frigoriferi)
SUMMARY:LINGUA GIAPPONESE 2 MOD. 1 [LT005N] - MANTELLI ALESSANDRO\, Lezione
URL;VALUE=URI://www.unive.it/data/insegnamento/519994
DTSTART:20251112T154500
END:VEVENT
BEGIN:VEVENT
DTEND:20251119T171500
UID:69e4cef1eb4c4
DTSTAMP:20260419T124745
LOCATION:Aula MF4 Polo didattico San Basilio (MF - Magazzini Frigoriferi)
SUMMARY:LINGUA GIAPPONESE 2 MOD. 1 [LT005N] - MANTELLI ALESSANDRO\, Lezione
URL;VALUE=URI://www.unive.it/data/insegnamento/519994
DTSTART:20251119T154500
END:VEVENT
BEGIN:VEVENT
DTEND:20251126T171500
UID:69e4cef1eb50f
DTSTAMP:20260419T124745
LOCATION:Aula MF4 Polo didattico San Basilio (MF - Magazzini Frigoriferi)
SUMMARY:LINGUA GIAPPONESE 2 MOD. 1 [LT005N] - MANTELLI ALESSANDRO\, Lezione
URL;VALUE=URI://www.unive.it/data/insegnamento/519994
DTSTART:20251126T154500
END:VEVENT
BEGIN:VEVENT
DTEND:20251203T171500
UID:69e4cef1eb55b
DTSTAMP:20260419T124745
LOCATION:Aula MF4 Polo didattico San Basilio (MF - Magazzini Frigoriferi)
SUMMARY:LINGUA GIAPPONESE 2 MOD. 1 [LT005N] - MANTELLI ALESSANDRO\, Lezione
URL;VALUE=URI://www.unive.it/data/insegnamento/519994
DTSTART:20251203T154500
END:VEVENT
BEGIN:VEVENT
DTEND:20251210T171500
UID:69e4cef1eb5ad
DTSTAMP:20260419T124745
LOCATION:Aula MF4 Polo didattico San Basilio (MF - Magazzini Frigoriferi)
SUMMARY:LINGUA GIAPPONESE 2 MOD. 1 [LT005N] - MANTELLI ALESSANDRO\, Lezione
URL;VALUE=URI://www.unive.it/data/insegnamento/519994
DTSTART:20251210T154500
END:VEVENT
BEGIN:VEVENT
DTEND:20251217T171500
UID:69e4cef1eb5fa
DTSTAMP:20260419T124745
LOCATION:Aula MF4 Polo didattico San Basilio (MF - Magazzini Frigoriferi)
SUMMARY:LINGUA GIAPPONESE 2 MOD. 1 [LT005N] - MANTELLI ALESSANDRO\, Lezione
URL;VALUE=URI://www.unive.it/data/insegnamento/519994
DTSTART:20251217T154500
END:VEVENT
BEGIN:VEVENT
DTEND:20260114T171500
UID:69e4cef1eb646
DTSTAMP:20260419T124745
LOCATION:Aula MF4 Polo didattico San Basilio (MF - Magazzini Frigoriferi)
SUMMARY:LINGUA GIAPPONESE 2 MOD. 1 [LT005N] - MANTELLI ALESSANDRO\, Lezione
URL;VALUE=URI://www.unive.it/data/insegnamento/519994
DTSTART:20260114T154500
END:VEVENT
BEGIN:VEVENT
DTEND:20260121T171500
UID:69e4cef1eb691
DTSTAMP:20260419T124745
LOCATION:Aula MF4 Polo didattico San Basilio (MF - Magazzini Frigoriferi)
SUMMARY:LINGUA GIAPPONESE 2 MOD. 1 [LT005N] - MANTELLI ALESSANDRO\, Lezione
URL;VALUE=URI://www.unive.it/data/insegnamento/519994
DTSTART:20260121T154500
END:VEVENT
END:VCALENDAR