BEGIN:VCALENDAR
VERSION:2.0
PRODID:-//hacksw/handcal//NONSGML v1.0//EN
CALSCALE:GREGORIAN
X-WR-CALNAME:LINGUA GIAPPONESE 2 MOD. 1 [LT005N]
DESCRIPTION:LINGUA GIAPPONESE 2 MOD. 1 [LT005N]
REFRESH-INTERVAL;VALUE=DURATION:P1D
X-WR-TIMEZONE:Europe/Rome
BEGIN:VEVENT
DTEND:20250925T101500
UID:69e775c7c0b6b
DTSTAMP:20260421T130407
LOCATION:Aula 24 San Sebastiano
SUMMARY:LINGUA GIAPPONESE 2 MOD. 1 [LT005N] - ZANOTTI Pierantonio\, Lezione
URL;VALUE=URI://www.unive.it/data/insegnamento/519998
DTSTART:20250925T084500
END:VEVENT
BEGIN:VEVENT
DTEND:20251002T101500
UID:69e775c7c174d
DTSTAMP:20260421T130407
LOCATION:Aula 24 San Sebastiano
SUMMARY:LINGUA GIAPPONESE 2 MOD. 1 [LT005N] - ZANOTTI Pierantonio\, Lezione
URL;VALUE=URI://www.unive.it/data/insegnamento/519998
DTSTART:20251002T084500
END:VEVENT
BEGIN:VEVENT
DTEND:20251009T101500
UID:69e775c7c17a8
DTSTAMP:20260421T130407
LOCATION:Aula 24 San Sebastiano
SUMMARY:LINGUA GIAPPONESE 2 MOD. 1 [LT005N] - ZANOTTI Pierantonio\, Lezione
URL;VALUE=URI://www.unive.it/data/insegnamento/519998
DTSTART:20251009T084500
END:VEVENT
BEGIN:VEVENT
DTEND:20251016T101500
UID:69e775c7c17ed
DTSTAMP:20260421T130407
LOCATION:Aula 24 San Sebastiano
SUMMARY:LINGUA GIAPPONESE 2 MOD. 1 [LT005N] - ZANOTTI Pierantonio\, Lezione
URL;VALUE=URI://www.unive.it/data/insegnamento/519998
DTSTART:20251016T084500
END:VEVENT
BEGIN:VEVENT
DTEND:20251023T101500
UID:69e775c7c183d
DTSTAMP:20260421T130407
LOCATION:Aula 24 San Sebastiano
SUMMARY:LINGUA GIAPPONESE 2 MOD. 1 [LT005N] - ZANOTTI Pierantonio\, Lezione
URL;VALUE=URI://www.unive.it/data/insegnamento/519998
DTSTART:20251023T084500
END:VEVENT
BEGIN:VEVENT
DTEND:20251104T153000
UID:69e775c7c1889
DTSTAMP:20260421T130407
LOCATION:Sala audio 2 Palazzo Cosulich
SUMMARY:LINGUA GIAPPONESE 2 MOD. 1 [LT005N] - ZANOTTI Pierantonio\, Recupero Lezioni
URL;VALUE=URI://www.unive.it/data/insegnamento/519998
DTSTART:20251104T140000
END:VEVENT
BEGIN:VEVENT
DTEND:20251106T101500
UID:69e775c7c18d5
DTSTAMP:20260421T130407
LOCATION:Aula 24 San Sebastiano
SUMMARY:LINGUA GIAPPONESE 2 MOD. 1 [LT005N] - ZANOTTI Pierantonio\, Lezione
URL;VALUE=URI://www.unive.it/data/insegnamento/519998
DTSTART:20251106T084500
END:VEVENT
BEGIN:VEVENT
DTEND:20251113T101500
UID:69e775c7c1921
DTSTAMP:20260421T130407
LOCATION:Aula 24 San Sebastiano
SUMMARY:LINGUA GIAPPONESE 2 MOD. 1 [LT005N] - ZANOTTI Pierantonio\, Lezione
URL;VALUE=URI://www.unive.it/data/insegnamento/519998
DTSTART:20251113T084500
END:VEVENT
BEGIN:VEVENT
DTEND:20251120T101500
UID:69e775c7c1978
DTSTAMP:20260421T130407
LOCATION:Aula 24 San Sebastiano
SUMMARY:LINGUA GIAPPONESE 2 MOD. 1 [LT005N] - ZANOTTI Pierantonio\, Lezione
URL;VALUE=URI://www.unive.it/data/insegnamento/519998
DTSTART:20251120T084500
END:VEVENT
BEGIN:VEVENT
DTEND:20251127T101500
UID:69e775c7c19f0
DTSTAMP:20260421T130407
LOCATION:Aula 24 San Sebastiano
SUMMARY:LINGUA GIAPPONESE 2 MOD. 1 [LT005N] - ZANOTTI Pierantonio\, Lezione
URL;VALUE=URI://www.unive.it/data/insegnamento/519998
DTSTART:20251127T084500
END:VEVENT
BEGIN:VEVENT
DTEND:20251204T101500
UID:69e775c7c1a46
DTSTAMP:20260421T130407
LOCATION:Aula 24 San Sebastiano
SUMMARY:LINGUA GIAPPONESE 2 MOD. 1 [LT005N] - ZANOTTI Pierantonio\, Lezione
URL;VALUE=URI://www.unive.it/data/insegnamento/519998
DTSTART:20251204T084500
END:VEVENT
BEGIN:VEVENT
DTEND:20251211T101500
UID:69e775c7c1a91
DTSTAMP:20260421T130407
LOCATION:Aula 24 San Sebastiano
SUMMARY:LINGUA GIAPPONESE 2 MOD. 1 [LT005N] - ZANOTTI Pierantonio\, Lezione
URL;VALUE=URI://www.unive.it/data/insegnamento/519998
DTSTART:20251211T084500
END:VEVENT
BEGIN:VEVENT
DTEND:20251218T101500
UID:69e775c7c1add
DTSTAMP:20260421T130407
LOCATION:Aula 24 San Sebastiano
SUMMARY:LINGUA GIAPPONESE 2 MOD. 1 [LT005N] - ZANOTTI Pierantonio\, Lezione
URL;VALUE=URI://www.unive.it/data/insegnamento/519998
DTSTART:20251218T084500
END:VEVENT
BEGIN:VEVENT
DTEND:20260115T101500
UID:69e775c7c1b27
DTSTAMP:20260421T130407
LOCATION:Aula 24 San Sebastiano
SUMMARY:LINGUA GIAPPONESE 2 MOD. 1 [LT005N] - ZANOTTI Pierantonio\, Lezione
URL;VALUE=URI://www.unive.it/data/insegnamento/519998
DTSTART:20260115T084500
END:VEVENT
BEGIN:VEVENT
DTEND:20260122T101500
UID:69e775c7c1b72
DTSTAMP:20260421T130407
LOCATION:Aula 24 San Sebastiano
SUMMARY:LINGUA GIAPPONESE 2 MOD. 1 [LT005N] - ZANOTTI Pierantonio\, Lezione
URL;VALUE=URI://www.unive.it/data/insegnamento/519998
DTSTART:20260122T084500
END:VEVENT
END:VCALENDAR