BEGIN:VCALENDAR
VERSION:2.0
PRODID:-//hacksw/handcal//NONSGML v1.0//EN
CALSCALE:GREGORIAN
X-WR-CALNAME:CHIMICA ORGANICA - ESERCITAZIONI [CT0443]
DESCRIPTION:CHIMICA ORGANICA - ESERCITAZIONI [CT0443]
REFRESH-INTERVAL;VALUE=DURATION:P1D
X-WR-TIMEZONE:Europe/Rome
BEGIN:VEVENT
DTEND:20260323T190000
UID:69e7962ef2067
DTSTAMP:20260421T152222
LOCATION:Aula 2 Campus scientifico via Torino (edificio Zeta)
SUMMARY:CHIMICA ORGANICA - ESERCITAZIONI [CT0443] - GIACOMETTI Andrea\, Lezione
URL;VALUE=URI://www.unive.it/data/insegnamento/521800
DTSTART:20260323T173000
END:VEVENT
BEGIN:VEVENT
DTEND:20260330T190000
UID:69e7962ef20e8
DTSTAMP:20260421T152222
LOCATION:Aula 2 Campus scientifico via Torino (edificio Zeta)
SUMMARY:CHIMICA ORGANICA - ESERCITAZIONI [CT0443] - GIACOMETTI Andrea\, Lezione
URL;VALUE=URI://www.unive.it/data/insegnamento/521800
DTSTART:20260330T173000
END:VEVENT
BEGIN:VEVENT
DTEND:20260413T190000
UID:69e7962ef213e
DTSTAMP:20260421T152222
LOCATION:Aula 2 Campus scientifico via Torino (edificio Zeta)
SUMMARY:CHIMICA ORGANICA - ESERCITAZIONI [CT0443] - GIACOMETTI Andrea\, Lezione
URL;VALUE=URI://www.unive.it/data/insegnamento/521800
DTSTART:20260413T173000
END:VEVENT
BEGIN:VEVENT
DTEND:20260420T190000
UID:69e7962ef218c
DTSTAMP:20260421T152222
LOCATION:Aula 2 Campus scientifico via Torino (edificio Zeta)
SUMMARY:CHIMICA ORGANICA - ESERCITAZIONI [CT0443] - GIACOMETTI Andrea\, Lezione
URL;VALUE=URI://www.unive.it/data/insegnamento/521800
DTSTART:20260420T173000
END:VEVENT
BEGIN:VEVENT
DTEND:20260427T190000
UID:69e7962ef21d9
DTSTAMP:20260421T152222
LOCATION:Aula 2 Campus scientifico via Torino (edificio Zeta)
SUMMARY:CHIMICA ORGANICA - ESERCITAZIONI [CT0443] - GIACOMETTI Andrea\, Lezione
URL;VALUE=URI://www.unive.it/data/insegnamento/521800
DTSTART:20260427T173000
END:VEVENT
BEGIN:VEVENT
DTEND:20260504T190000
UID:69e7962ef2224
DTSTAMP:20260421T152222
LOCATION:Aula 2 Campus scientifico via Torino (edificio Zeta)
SUMMARY:CHIMICA ORGANICA - ESERCITAZIONI [CT0443] - GIACOMETTI Andrea\, Lezione
URL;VALUE=URI://www.unive.it/data/insegnamento/521800
DTSTART:20260504T173000
END:VEVENT
BEGIN:VEVENT
DTEND:20260511T190000
UID:69e7962ef2270
DTSTAMP:20260421T152222
LOCATION:Aula 2 Campus scientifico via Torino (edificio Zeta)
SUMMARY:CHIMICA ORGANICA - ESERCITAZIONI [CT0443] - GIACOMETTI Andrea\, Lezione
URL;VALUE=URI://www.unive.it/data/insegnamento/521800
DTSTART:20260511T173000
END:VEVENT
BEGIN:VEVENT
DTEND:20260518T190000
UID:69e7962ef22ba
DTSTAMP:20260421T152222
LOCATION:Aula 2 Campus scientifico via Torino (edificio Zeta)
SUMMARY:CHIMICA ORGANICA - ESERCITAZIONI [CT0443] - GIACOMETTI Andrea\, Lezione
URL;VALUE=URI://www.unive.it/data/insegnamento/521800
DTSTART:20260518T173000
END:VEVENT
BEGIN:VEVENT
DTEND:20260525T190000
UID:69e7962ef2306
DTSTAMP:20260421T152222
LOCATION:Aula 2 Campus scientifico via Torino (edificio Zeta)
SUMMARY:CHIMICA ORGANICA - ESERCITAZIONI [CT0443] - GIACOMETTI Andrea\, Lezione
URL;VALUE=URI://www.unive.it/data/insegnamento/521800
DTSTART:20260525T173000
END:VEVENT
END:VCALENDAR