BEGIN:VCALENDAR
VERSION:2.0
PRODID:-//hacksw/handcal//NONSGML v1.0//EN
CALSCALE:GREGORIAN
X-WR-CALNAME:DEEP LEARNING FOR NATURAL LANGUAGE PROCESSING [CM0624]
DESCRIPTION:DEEP LEARNING FOR NATURAL LANGUAGE PROCESSING [CM0624]
REFRESH-INTERVAL;VALUE=DURATION:P1D
X-WR-TIMEZONE:Europe/Rome
BEGIN:VEVENT
DTEND:20250930T134500
UID:69e6fde3a471a
DTSTAMP:20260421T043235
LOCATION:Aula A Campus scientifico via Torino (edificio Zeta)
SUMMARY:DEEP LEARNING FOR NATURAL LANGUAGE PROCESSING [CM0624] - TRIPODI Rocco\, VASCON SEBASTIANO\, Lezione
URL;VALUE=URI://www.unive.it/data/insegnamento/521948
DTSTART:20250930T121500
END:VEVENT
BEGIN:VEVENT
DTEND:20251007T134500
UID:69e6fde3a47a6
DTSTAMP:20260421T043235
LOCATION:Aula A Campus scientifico via Torino (edificio Zeta)
SUMMARY:DEEP LEARNING FOR NATURAL LANGUAGE PROCESSING [CM0624] - TRIPODI Rocco\, VASCON SEBASTIANO\, Lezione
URL;VALUE=URI://www.unive.it/data/insegnamento/521948
DTSTART:20251007T121500
END:VEVENT
BEGIN:VEVENT
DTEND:20251010T134500
UID:69e6fde3a47f8
DTSTAMP:20260421T043235
LOCATION:Aula A Campus scientifico via Torino (edificio Zeta)
SUMMARY:DEEP LEARNING FOR NATURAL LANGUAGE PROCESSING [CM0624] - TRIPODI Rocco\, VASCON SEBASTIANO\, Lezione
URL;VALUE=URI://www.unive.it/data/insegnamento/521948
DTSTART:20251010T121500
END:VEVENT
BEGIN:VEVENT
DTEND:20251014T134500
UID:69e6fde3a4846
DTSTAMP:20260421T043235
LOCATION:Aula A Campus scientifico via Torino (edificio Zeta)
SUMMARY:DEEP LEARNING FOR NATURAL LANGUAGE PROCESSING [CM0624] - TRIPODI Rocco\, VASCON SEBASTIANO\, Lezione
URL;VALUE=URI://www.unive.it/data/insegnamento/521948
DTSTART:20251014T121500
END:VEVENT
BEGIN:VEVENT
DTEND:20251021T134500
UID:69e6fde3a4893
DTSTAMP:20260421T043235
LOCATION:Aula A Campus scientifico via Torino (edificio Zeta)
SUMMARY:DEEP LEARNING FOR NATURAL LANGUAGE PROCESSING [CM0624] - TRIPODI Rocco\, VASCON SEBASTIANO\, Lezione
URL;VALUE=URI://www.unive.it/data/insegnamento/521948
DTSTART:20251021T121500
END:VEVENT
BEGIN:VEVENT
DTEND:20251022T120000
UID:69e6fde3a48e0
DTSTAMP:20260421T043235
LOCATION:Laboratorio 3 Campus scientifico via Torino (edificio Zeta)
SUMMARY:DEEP LEARNING FOR NATURAL LANGUAGE PROCESSING [CM0624] - TRIPODI Rocco\, VASCON SEBASTIANO\, Lezione
URL;VALUE=URI://www.unive.it/data/insegnamento/521948
DTSTART:20251022T103000
END:VEVENT
BEGIN:VEVENT
DTEND:20251024T134500
UID:69e6fde3a492c
DTSTAMP:20260421T043235
LOCATION:Aula A Campus scientifico via Torino (edificio Zeta)
SUMMARY:DEEP LEARNING FOR NATURAL LANGUAGE PROCESSING [CM0624] - TRIPODI Rocco\, VASCON SEBASTIANO\, Lezione
URL;VALUE=URI://www.unive.it/data/insegnamento/521948
DTSTART:20251024T121500
END:VEVENT
BEGIN:VEVENT
DTEND:20251028T134500
UID:69e6fde3a4978
DTSTAMP:20260421T043235
LOCATION:Aula A Campus scientifico via Torino (edificio Zeta)
SUMMARY:DEEP LEARNING FOR NATURAL LANGUAGE PROCESSING [CM0624] - TRIPODI Rocco\, VASCON SEBASTIANO\, Lezione
URL;VALUE=URI://www.unive.it/data/insegnamento/521948
DTSTART:20251028T121500
END:VEVENT
BEGIN:VEVENT
DTEND:20251031T134500
UID:69e6fde3a49c6
DTSTAMP:20260421T043235
LOCATION:Aula A Campus scientifico via Torino (edificio Zeta)
SUMMARY:DEEP LEARNING FOR NATURAL LANGUAGE PROCESSING [CM0624] - TRIPODI Rocco\, VASCON SEBASTIANO\, Lezione
URL;VALUE=URI://www.unive.it/data/insegnamento/521948
DTSTART:20251031T121500
END:VEVENT
BEGIN:VEVENT
DTEND:20251103T171500
UID:69e6fde3a4a11
DTSTAMP:20260421T043235
LOCATION:Aula Epsilon 1 Campus scientifico via Torino (edificio Epsilon)
SUMMARY:DEEP LEARNING FOR NATURAL LANGUAGE PROCESSING [CM0624] - TRIPODI Rocco\, VASCON SEBASTIANO\, Lezione
URL;VALUE=URI://www.unive.it/data/insegnamento/521948
DTSTART:20251103T154500
END:VEVENT
BEGIN:VEVENT
DTEND:20251107T134500
UID:69e6fde3a4a5f
DTSTAMP:20260421T043235
LOCATION:Aula A Campus scientifico via Torino (edificio Zeta)
SUMMARY:DEEP LEARNING FOR NATURAL LANGUAGE PROCESSING [CM0624] - TRIPODI Rocco\, VASCON SEBASTIANO\, Lezione
URL;VALUE=URI://www.unive.it/data/insegnamento/521948
DTSTART:20251107T121500
END:VEVENT
BEGIN:VEVENT
DTEND:20251111T134500
UID:69e6fde3a4aab
DTSTAMP:20260421T043235
LOCATION:Aula A Campus scientifico via Torino (edificio Zeta)
SUMMARY:DEEP LEARNING FOR NATURAL LANGUAGE PROCESSING [CM0624] - TRIPODI Rocco\, VASCON SEBASTIANO\, Lezione
URL;VALUE=URI://www.unive.it/data/insegnamento/521948
DTSTART:20251111T121500
END:VEVENT
BEGIN:VEVENT
DTEND:20251114T134500
UID:69e6fde3a4b00
DTSTAMP:20260421T043235
LOCATION:Aula A Campus scientifico via Torino (edificio Zeta)
SUMMARY:DEEP LEARNING FOR NATURAL LANGUAGE PROCESSING [CM0624] - TRIPODI Rocco\, VASCON SEBASTIANO\, Lezione
URL;VALUE=URI://www.unive.it/data/insegnamento/521948
DTSTART:20251114T121500
END:VEVENT
BEGIN:VEVENT
DTEND:20251118T134500
UID:69e6fde3a4b4c
DTSTAMP:20260421T043235
LOCATION:Aula A Campus scientifico via Torino (edificio Zeta)
SUMMARY:DEEP LEARNING FOR NATURAL LANGUAGE PROCESSING [CM0624] - TRIPODI Rocco\, VASCON SEBASTIANO\, Lezione
URL;VALUE=URI://www.unive.it/data/insegnamento/521948
DTSTART:20251118T121500
END:VEVENT
BEGIN:VEVENT
DTEND:20251125T134500
UID:69e6fde3a4b99
DTSTAMP:20260421T043235
LOCATION:Aula A Campus scientifico via Torino (edificio Zeta)
SUMMARY:DEEP LEARNING FOR NATURAL LANGUAGE PROCESSING [CM0624] - TRIPODI Rocco\, VASCON SEBASTIANO\, Lezione
URL;VALUE=URI://www.unive.it/data/insegnamento/521948
DTSTART:20251125T121500
END:VEVENT
BEGIN:VEVENT
DTEND:20251128T134500
UID:69e6fde3a4be5
DTSTAMP:20260421T043235
LOCATION:Aula A Campus scientifico via Torino (edificio Zeta)
SUMMARY:DEEP LEARNING FOR NATURAL LANGUAGE PROCESSING [CM0624] - TRIPODI Rocco\, VASCON SEBASTIANO\, Lezione
URL;VALUE=URI://www.unive.it/data/insegnamento/521948
DTSTART:20251128T121500
END:VEVENT
BEGIN:VEVENT
DTEND:20251202T134500
UID:69e6fde3a4c32
DTSTAMP:20260421T043235
LOCATION:Aula A Campus scientifico via Torino (edificio Zeta)
SUMMARY:DEEP LEARNING FOR NATURAL LANGUAGE PROCESSING [CM0624] - TRIPODI Rocco\, VASCON SEBASTIANO\, Lezione
URL;VALUE=URI://www.unive.it/data/insegnamento/521948
DTSTART:20251202T121500
END:VEVENT
BEGIN:VEVENT
DTEND:20251205T134500
UID:69e6fde3a4c7e
DTSTAMP:20260421T043235
LOCATION:Aula A Campus scientifico via Torino (edificio Zeta)
SUMMARY:DEEP LEARNING FOR NATURAL LANGUAGE PROCESSING [CM0624] - TRIPODI Rocco\, VASCON SEBASTIANO\, Lezione
URL;VALUE=URI://www.unive.it/data/insegnamento/521948
DTSTART:20251205T121500
END:VEVENT
BEGIN:VEVENT
DTEND:20251209T134500
UID:69e6fde3a4ccb
DTSTAMP:20260421T043235
LOCATION:Aula A Campus scientifico via Torino (edificio Zeta)
SUMMARY:DEEP LEARNING FOR NATURAL LANGUAGE PROCESSING [CM0624] - TRIPODI Rocco\, VASCON SEBASTIANO\, Lezione
URL;VALUE=URI://www.unive.it/data/insegnamento/521948
DTSTART:20251209T121500
END:VEVENT
BEGIN:VEVENT
DTEND:20251212T134500
UID:69e6fde3a4d17
DTSTAMP:20260421T043235
LOCATION:Aula A Campus scientifico via Torino (edificio Zeta)
SUMMARY:DEEP LEARNING FOR NATURAL LANGUAGE PROCESSING [CM0624] - TRIPODI Rocco\, VASCON SEBASTIANO\, Lezione
URL;VALUE=URI://www.unive.it/data/insegnamento/521948
DTSTART:20251212T121500
END:VEVENT
BEGIN:VEVENT
DTEND:20251216T134500
UID:69e6fde3a4d64
DTSTAMP:20260421T043235
LOCATION:Aula A Campus scientifico via Torino (edificio Zeta)
SUMMARY:DEEP LEARNING FOR NATURAL LANGUAGE PROCESSING [CM0624] - TRIPODI Rocco\, VASCON SEBASTIANO\, Lezione
URL;VALUE=URI://www.unive.it/data/insegnamento/521948
DTSTART:20251216T121500
END:VEVENT
BEGIN:VEVENT
DTEND:20251219T134500
UID:69e6fde3a4db1
DTSTAMP:20260421T043235
LOCATION:Aula A Campus scientifico via Torino (edificio Zeta)
SUMMARY:DEEP LEARNING FOR NATURAL LANGUAGE PROCESSING [CM0624] - TRIPODI Rocco\, VASCON SEBASTIANO\, Lezione
URL;VALUE=URI://www.unive.it/data/insegnamento/521948
DTSTART:20251219T121500
END:VEVENT
BEGIN:VEVENT
DTEND:20260113T134500
UID:69e6fde3a4dfe
DTSTAMP:20260421T043235
LOCATION:Aula B Campus scientifico via Torino (edificio Zeta)
SUMMARY:DEEP LEARNING FOR NATURAL LANGUAGE PROCESSING [CM0624] - TRIPODI Rocco\, VASCON SEBASTIANO\, Lezione
URL;VALUE=URI://www.unive.it/data/insegnamento/521948
DTSTART:20260113T121500
END:VEVENT
END:VCALENDAR